Workbook
Name _Toc523552323: 填表说明!$B$1
Name _Toc523552324: 填表说明!$B$3
Name _Toc523552325: 填表说明!$B$20
Name _Toc523552327: 填表说明!#REF!
Name _Toc523552328: 填表说明!#REF!
Name _Toc523552329: 填表说明!#REF!
Name _Toc523552330: 填表说明!#REF!
Name _Toc523552331: 填表说明!#REF!
Name _Toc523552332: 填表说明!#REF!
Name _Toc523552333: 填表说明!#REF!
Name _Toc523552334: 填表说明!#REF!
Name _Toc523552335: 填表说明!#REF!
Name Print_Area_MI: #REF!
Name 전: #REF!
Name 주택사업본부: #REF!
Name 철구사업본부: #REF!

Sheet 填表说明
B1: 资产评估明细表填表说明
B3: 一、基本要求
B4: (一)填表范围：
B5: 纳入评估范围的资产要保证与评估基准日资产占有单位的资产负债表（或模拟资产负债表）完全一致,即填表完成后，自动生成的资产评估分类汇总表(表2)帐面值一栏与资产负债表（或模拟资产负债表）一致,并且应与提供给审计师(如果有审计机构)的帐面值一致。
B6: (二)“评估基准日”与“资产占有单位名称”,统一填于“基本情况” 中，各明细表会自动生成。资产占有单位名称要与该单位的营业执照所列示的名称完全一致,并在每页明细表左上角“资产占有单位”处加盖资产占有单位公章。
B7: (三)对于企业财务核算中没有的会计科目不必填写相应的明细表。
B8: (四) 对于申报明细表中“调整后帐面值”一栏双竖线左方所有空白栏以及需要填写的备注栏请企业填写齐全。
B9: (五)明细表中填列金额单位为“人民币元”，精确到小数点后两位。
B10: (六)明细表中日期根据要求填至月(如建成年月)或日(如出票日期)，填写日期格式为“2001-05”（不能写为2001.5）或 “2001-05-02”（不能填为2001.5.2）。
B11: (七)未指明月利率之处应指年利率，计量单位为“%”。若原始资料中为月利率或日利率,则换算为年利率。
B12: (八)明细表与各汇总表之间的数据已建立链接关系，汇总表中不应直接录入数据。各表之间的关系示意如下：
B16: (九)每一张明细表内容超过20行时，可在电子表中间直接插入行。注意，不能在第一行和合计行插入行。
... B183: 参照长期投资—债券投资

Sheet 基本情况
A1: 被评估单位（或者产权持有单位）：哈尔滨市爱地方快餐有限责任公司
A3: 评估基准日： 2018年02月12日
A5: 被评估单位（或产权持有单位）填表人：
A6: 填表日期： 2018年02月12日
A7: 评估人员：
A8: 评估人员：宋云鹏、王涛

Sheet 目录
A2: 序号 | B2: 表格编号 | C2: 表格名称 | D2: 页码
A3: 1 | B3: 表1 | C3: 资产评估结果汇总表
A4: 2 | B4: 表2 | C4: 资产评估结果分类汇总表
A5: 3 | B5: 表3 | C5: 流动资产评估汇总表
A6: 4 | B6: 表3-1 | C6: 货币资金评估汇总表
A7: 5 | B7: 表3-1-1 | C7: 货币资金—现金评估明细表
A8: 6 | B8: 表3-1-2 | C8: 货币资金—银行存款评估明细表
A9: 7 | B9: 表3-1-3 | C9: 货币资金—其他货币资金评估明细表
A10: 8 | B10: 表3-2 | C10: 交易性金融资产评估汇总表
A11: 9 | B11: 表3-2-1 | C11: 交易性金融资产—股票投资评估明细表
A12: 10 | B12: 表3-2-2 | C12: 交易性金融资产—债券投资评估明细表
A13: 11 | B13: 表3-2-3 | C13: 交易性金融资产—基金投资评估明细表
A14: 12 | B14: 表3-3 | C14: 应收票据评估明细表
... A84: 82 | B84: 表6-7 | C84: 其他非流动负债评估明细表

Sheet 表1
A1: 资产评估结果汇总表
A2: =基本情况!A3 -> 评估基准日： 2018年02月12日
F3: 表1
A4: =基本情况!A1 -> 被评估单位（或者产权持有单位）：哈尔滨市爱地方快餐有限责任公司 | E4: 金额单位：人民币万元
A5: 项目 | C5: 账面价值 | D5: 评估价值 | E5: 增减值 | F5: 增值率% | G5: 目录
C6: A | D6: B | E6: C=B-A | F6: D=C/A*100%
A7: 1 | B7: 流动资产 | C7: =表2!C7/10000 -> 0 | D7: =表2!D7/10000 -> 0 | E7: =D7-C7 -> 0 | F7: =E7/C7*100 -> #DIV/0!
A8: 2 | B8: 非流动资产 | C8: =表2!C19/10000 -> #REF! | D8: =表2!D19/10000 -> #REF! | E8: =D8-C8 -> #REF! | F8: =E8/C8*100 -> #REF!
A9: 3 | B9: 其中:可供出售金融资产 | C9: =表2!C20/10000 -> 0 | D9: =表2!D20/10000 -> 0 | E9: =D9-C9 -> 0 | F9: =E9/C9*100 -> #DIV/0!
A10: 4 | B10: 持有至到期投资 | C10: =表2!C21/10000 -> 0 | D10: =表2!D21/10000 -> 0 | E10: =D10-C10 -> 0 | F10: =E10/C10*100 -> #DIV/0!
A11: 5 | B11: 长期应收款 | C11: =表2!C22/10000 -> 0 | D11: =表2!D22/10000 -> 0 | E11: =D11-C11 -> 0 | F11: =E11/C11*100 -> #DIV/0!
A12: 6 | B12: 长期股权投资 | C12: =表2!C23/10000 -> 0 | D12: =表2!D23/10000 -> 0 | E12: =D12-C12 -> 0 | F12: =E12/C12*100 -> #DIV/0!
A13: 7 | B13: 投资性房地产 | C13: =表2!C24/10000 -> 0 | D13: =表2!D24/10000 -> 0 | E13: =D13-C13 -> 0 | F13: =E13/C13*100 -> #DIV/0!
A14: 8 | B14: 固定资产 | C14: =表2!C25/10000 -> #REF! | D14: =表2!D25/10000 -> #REF! | E14: =D14-C14 -> #REF! | F14: =E14/C14*100 -> #REF!
A15: 9 | B15: 在建工程 | C15: =表2!C26/10000 -> 0 | D15: =表2!D26/10000 -> 0 | E15: =D15-C15 -> 0 | F15: =E15/C15*100 -> #DIV/0!
A16: 10 | B16: 工程物资 | C16: =表2!C27/10000 -> 0 | D16: =表2!D27/10000 -> 0 | E16: =D16-C16 -> 0 | F16: =E16/C16*100 -> #DIV/0!
A17: 11 | B17: 固定资产清理 | C17: =表2!C28/10000 -> 0 | D17: =表2!D28/10000 -> 0 | E17: =D17-C17 -> 0 | F17: =E17/C17*100 -> #DIV/0!
A18: 12 | B18: 生产性生物资产 | C18: =表2!C29/10000 -> 0 | D18: =表2!D29/10000 -> 0 | E18: =D18-C18 -> 0 | F18: =E18/C18*100 -> #DIV/0!
A19: 13 | B19: 油气资产 | C19: =表2!C30/10000 -> 0 | D19: =表2!D30/10000 -> 0 | E19: =D19-C19 -> 0 | F19: =E19/C19*100 -> #DIV/0!
... A25: 19 | B25: 其他非流动资产 | C25: =表2!C36/10000 -> 0 | D25: =表2!D36/10000 -> 0 | E25: =D25-C25 -> 0 | F25: =E25/C25*100 -> #DIV/0!
A26: 20 | B26: 资产总计 | C26: =C7+C8 -> #REF! | D26: =D7+D8 -> #REF! | E26: =D26-C26 -> #REF! | F26: =E26/C26*100 -> #REF!
A27: 21 | B27: 流动负债 | C27: =表2!C38/10000 -> 0 | D27: =表2!D38/10000 -> 0 | E27: =D27-C27 -> 0 | F27: =E27/C27*100 -> #DIV/0!
A28: 22 | B28: 非流动负债 | C28: =表2!C51/10000 -> 0 | D28: =表2!D51/10000 -> 0 | E28: =D28-C28 -> 0 | F28: =E28/C28*100 -> #DIV/0!
A29: 23 | B29: 负债合计 | C29: =表2!C59/10000 -> 0 | D29: =表2!D59/10000 -> 0 | E29: =D29-C29 -> 0 | F29: =E29/C29*100 -> #DIV/0!
A30: 24 | B30: 净资产(所有者权益) | C30: =C26-C29 -> #REF! | D30: =D26-D29 -> #REF! | E30: =D30-C30 -> #REF! | F30: =E30/C30*100 -> #REF!
D31: 评估机构：

Sheet 表2
A1: 资产评估结果分类汇总表
A2: =基本情况!A3 -> 评估基准日： 2018年02月12日
F3: 表2
A4: =基本情况!A1 -> 被评估单位（或者产权持有单位）：哈尔滨市爱地方快餐有限责任公司 | F4: 金额单位：人民币元
A5: 序号 | B5: 科目名称 | C5: 账面价值 | D5: 评估价值 | E5: 增减值 | F5: 增值率% | G5: 目录
A7: 1 | B7: 一、流动资产合计 | C7: =C8+C9+C10+C11+C12+C13+C14+C15+C16+C17+C18 -> 0 | D7: =D8+D9+D10+D11+D12+D13+D14+D15+D16+D17+D18 -> 0 | E7: =D7-C7 -> 0 | F7: =E7/C7*100 -> #DIV/0!
A8: 2 | B8: 货币资金 | C8: =表3!C7 -> 0 | D8: =表3!D7 -> 0 | E8: =D8-C8 -> 0 | F8: =E8/C8*100 -> #DIV/0!
A9: 3 | B9: 交易性金融资产 | C9: =表3!C8 -> 0 | D9: =表3!D8 -> 0 | E9: =D9-C9 -> 0 | F9: =E9/C9*100 -> #DIV/0!
A10: 4 | B10: 应收票据 | C10: =表3!C9 -> 0 | D10: =表3!D9 -> 0 | E10: =D10-C10 -> 0 | F10: =E10/C10*100 -> #DIV/0!
A11: 5 | B11: 应收账款 | C11: =表3!C10 -> 0 | D11: =表3!D10 -> 0 | E11: =D11-C11 -> 0 | F11: =E11/C11*100 -> #DIV/0!
A12: 6 | B12: 预付账款 | C12: =表3!C11 -> 0 | D12: =表3!D11 -> 0 | E12: =D12-C12 -> 0 | F12: =E12/C12*100 -> #DIV/0!
A13: 7 | B13: 应收利息 | C13: =表3!C12 -> 0 | D13: =表3!D12 -> 0 | E13: =D13-C13 -> 0 | F13: =E13/C13*100 -> #DIV/0!
A14: 8 | B14: 应收股利 | C14: =表3!C13 -> 0 | D14: =表3!D13 -> 0 | E14: =D14-C14 -> 0 | F14: =E14/C14*100 -> #DIV/0!
A15: 9 | B15: 其他应收款 | C15: =表3!C14 -> 0 | D15: =表3!D14 -> 0 | E15: =D15-C15 -> 0 | F15: =E15/C15*100 -> #DIV/0!
A16: 10 | B16: 存货 | C16: =表3!C15 -> 0 | D16: =表3!D15 -> 0 | E16: =D16-C16 -> 0 | F16: =E16/C16*100 -> #DIV/0!
A17: 11 | B17: 一年内到期的非流动资产 | C17: =表3!C16 -> 0 | D17: =表3!D16 -> 0 | E17: =D17-C17 -> 0 | F17: =E17/C17*100 -> #DIV/0!
A18: 12 | B18: 其他流动资产 | C18: =表3!C17 -> 0 | D18: =表3!D17 -> 0 | E18: =D18-C18 -> 0 | F18: =E18/C18*100 -> #DIV/0!
A19: 13 | B19: 二、非流动资产合计 | C19: =表4!C24 -> #REF! | D19: =表4!D24 -> #REF! | E19: =D19-C19 -> #REF! | F19: =E19/C19*100 -> #REF!
A20: 14 | B20: 可供出售金融资产 | C20: =表4!C7 -> 0 | D20: =表4!D7 -> 0 | E20: =D20-C20 -> 0 | F20: =E20/C20*100 -> #DIV/0!
A21: 15 | B21: 持有至到期投资 | C21: =表4!C8 -> 0 | D21: =表4!D8 -> 0 | E21: =D21-C21 -> 0 | F21: =E21/C21*100 -> #DIV/0!
A22: 16 | B22: 长期应收款 | C22: =表4!C9 -> 0 | D22: =表4!D9 -> 0 | E22: =D22-C22 -> 0 | F22: =E22/C22*100 -> #DIV/0!
A23: 17 | B23: 长期股权投资 | C23: =表4!C10 -> 0 | D23: =表4!D10 -> 0 | E23: =D23-C23 -> 0 | F23: =E23/C23*100 -> #DIV/0!
A24: 18 | B24: 投资性房地产 | C24: =表4!C11 -> 0 | D24: =表4!D11 -> 0 | E24: =D24-C24 -> 0 | F24: =E24/C24*100 -> #DIV/0!
A25: 19 | B25: 固定资产 | C25: =表4!C12 -> #REF! | D25: =表4!D12 -> #REF! | E25: =D25-C25 -> #REF! | F25: =E25/C25*100 -> #REF!
A26: 20 | B26: 在建工程 | C26: =表4!C13 -> 0 | D26: =表4!D13 -> 0 | E26: =D26-C26 -> 0 | F26: =E26/C26*100 -> #DIV/0!
A27: 21 | B27: 工程物资 | C27: =表4!C14 -> 0 | D27: =表4!D14 -> 0 | E27: =D27-C27 -> 0 | F27: =E27/C27*100 -> #DIV/0!
A28: 22 | B28: 固定资产清理 | C28: =表4!C15 -> 0 | D28: =表4!D15 -> 0 | E28: =D28-C28 -> 0 | F28: =E28/C28*100 -> #DIV/0!
A29: 23 | B29: 生产性生物资产 | C29: =表4!C16 -> 0 | D29: =表4!D16 -> 0 | E29: =D29-C29 -> 0 | F29: =E29/C29*100 -> #DIV/0!
A30: 24 | B30: 油气资产 | C30: =表4!C17 -> 0 | D30: =表4!D17 -> 0 | E30: =D30-C30 -> 0 | F30: =E30/C30*100 -> #DIV/0!
A31: 25 | B31: 无形资产 | C31: =表4!C18 -> 0 | D31: =表4!D18 -> 0 | E31: =D31-C31 -> 0 | F31: =E31/C31*100 -> #DIV/0!
... A36: 30 | B36: 其他非流动资产 | C36: =表4!C23 -> 0 | D36: =表4!D23 -> 0 | E36: =D36-C36 -> 0 | F36: =E36/C36*100 -> #DIV/0!
A37: 31 | B37: 三、资产总计 | C37: =C7+C19 -> #REF! | D37: =D7+D19 -> #REF! | E37: =D37-C37 -> #REF! | F37: =E37/C37*100 -> #REF!
A38: 32 | B38: 四、流动负债合计 | C38: =表5!C20 -> 0 | D38: =表5!D20 -> 0 | E38: =D38-C38 -> 0 | F38: =E38/C38*100 -> #DIV/0!
A39: 33 | B39: 短期借款 | C39: =表5!C7 -> 0 | D39: =表5!D7 -> 0 | E39: =D39-C39 -> 0 | F39: =E39/C39*100 -> #DIV/0!
A40: 34 | B40: 交易性金融负债 | C40: =表5!C8 -> 0 | D40: =表5!D8 -> 0 | E40: =D40-C40 -> 0 | F40: =E40/C40*100 -> #DIV/0!
A41: 35 | B41: 应付票据 | C41: =表5!C9 -> 0 | D41: =表5!D9 -> 0 | E41: =D41-C41 -> 0 | F41: =E41/C41*100 -> #DIV/0!
A42: 36 | B42: 应付账款 | C42: =表5!C10 -> 0 | D42: =表5!D10 -> 0 | E42: =D42-C42 -> 0 | F42: =E42/C42*100 -> #DIV/0!
A43: 37 | B43: 预收账款 | C43: =表5!C11 -> 0 | D43: =表5!D11 -> 0 | E43: =D43-C43 -> 0 | F43: =E43/C43*100 -> #DIV/0!
A44: 38 | B44: 应付职工薪酬 | C44: =表5!C12 -> 0 | D44: =表5!D12 -> 0 | E44: =D44-C44 -> 0 | F44: =E44/C44*100 -> #DIV/0!
A45: 39 | B45: 应交税费 | C45: =表5!C13 -> 0 | D45: =表5!D13 -> 0 | E45: =D45-C45 -> 0 | F45: =E45/C45*100 -> #DIV/0!
...

Sheet 表3
A1: 流动资产评估汇总表
A2: =基本情况!A3 -> 评估基准日： 2018年02月12日
F3: 表3 | G3: 目录
A4: =基本情况!A1 -> 被评估单位（或者产权持有单位）：哈尔滨市爱地方快餐有限责任公司 | F4: =表2!F4 -> 金额单位：人民币元
A5: 序号 | B5: 科目名称 | C5: 账面价值 | D5: 评估价值 | E5: 增减值 | F5: 增值率%
A7: 3-1 | B7: 货币资金 | C7: ='表3-1'!C21 -> 0 | D7: ='表3-1'!D21 -> 0 | E7: =D7-C7 -> 0 | F7: =E7/C7*100% -> #DIV/0!
A8: 3-2 | B8: 交易性金融资产 | C8: ='表3-2'!C20 -> 0 | D8: ='表3-2'!D20 -> 0 | E8: =D8-C8 -> 0 | F8: =E8/C8*100% -> #DIV/0!
A9: 3-3 | B9: 应收票据 | C9: ='表3-3'!F21 -> 0 | D9: ='表3-3'!G21 -> 0 | E9: =D9-C9 -> 0 | F9: =E9/C9*100% -> #DIV/0!
A10: 3-4 | B10: 应收账款 | C10: ='表3-4'!F22 -> 0 | D10: ='表3-4'!G22 -> 0 | E10: =D10-C10 -> 0 | F10: =E10/C10*100% -> #DIV/0!
A11: 3-5 | B11: 预付账款 | C11: ='表3-5'!F21 -> 0 | D11: ='表3-5'!G21 -> 0 | E11: =D11-C11 -> 0 | F11: =E11/C11*100% -> #DIV/0!
A12: 3-6 | B12: 应收利息 | C12: ='表3-6'!G21 -> 0 | D12: ='表3-6'!H21 -> 0 | E12: =D12-C12 -> 0 | F12: =E12/C12*100% -> #DIV/0!
A13: 3-7 | B13: 应收股利 | C13: ='表3-7'!E21 -> 0 | D13: ='表3-7'!F21 -> 0 | E13: =D13-C13 -> 0 | F13: =E13/C13*100% -> #DIV/0!
A14: 3-8 | B14: 其他应收款 | C14: ='表3-8'!F23 -> 0 | D14: ='表3-8'!G23 -> 0 | E14: =D14-C14 -> 0 | F14: =E14/C14*100% -> #DIV/0!
A15: 3-9 | B15: 存货 | C15: ='表3-9'!C20 -> 0 | D15: ='表3-9'!D20 -> 0 | E15: =D15-C15 -> 0 | F15: =E15/C15*100% -> #DIV/0!
A16: 3-10 | B16: 一年内到期的非流动资产 | C16: ='表3-10'!E20 -> 0 | D16: ='表3-10'!F20 -> 0 | E16: =D16-C16 -> 0 | F16: =E16/C16*100% -> #DIV/0!
A17: 3-11 | B17: 其他流动资产 | C17: ='表3-11'!F20 -> 0 | D17: ='表3-11'!G20 -> 0 | E17: =D17-C17 -> 0 | F17: =E17/C17*100% -> #DIV/0!
A21: 流动资产合计 | C21: =SUM(C7:C20) -> 0 | D21: =SUM(D7:D20) -> 0
E22: =基本情况!A8 -> 评估人员：宋云鹏、王涛

Sheet 表3-1
A1: 货币资金评估汇总表
A2: =基本情况!A3 -> 评估基准日： 2018年02月12日
G3: 表3-1
A4: =基本情况!A1 -> 被评估单位（或者产权持有单位）：哈尔滨市爱地方快餐有限责任公司 | G4: =表3!F4 -> 金额单位：人民币元
A5: 编号 | B5: 科目名称 | C5: 账面价值 | D5: 评估价值 | E5: 增减值 | F5: 增值率% | G5: 备注 | H5: 目录
A7: 3-1-1 | B7: 现金 | C7: ='表3-1-1'!F21 -> 0 | D7: ='表3-1-1'!G21 -> 0 | E7: =D7-C7 -> 0 | F7: =E7/C7*100% -> #DIV/0!
A8: 3-1-2 | B8: 银行存款 | C8: ='表3-1-2'!G21 -> 0 | D8: ='表3-1-2'!H21 -> 0 | E8: =D8-C8 -> 0 | F8: =E8/C8*100% -> #DIV/0!
A9: 3-1-3 | B9: 其他货币资金 | C9: ='表3-1-3'!G20 -> 0 | D9: ='表3-1-3'!H20 -> 0 | E9: =D9-C9 -> 0 | F9: =E9/C9*100% -> #DIV/0!
A21: 合计 | C21: =SUM(C7:C20) -> 0 | D21: =SUM(D7:D20) -> 0
E22: =基本情况!A8 -> 评估人员：宋云鹏、王涛

Sheet 表3-1-1
A1: 货币资金——现金评估明细表
A2: =基本情况!A3 -> 评估基准日： 2018年02月12日
I3: 表3-1-1 | K3: 目录
A4: =基本情况!A1 -> 被评估单位（或者产权持有单位）：哈尔滨市爱地方快餐有限责任公司 | I4: 金额单位：人民币元
A5: 序号 | B5: 存放部门（单位） | C5: 币种 | D5: 外币账面金额 | E5: 评估基准日汇率 | F5: 账面价值 | G5: 评估价值 | H5: 增减值 | I5: 增值率（％） | J5: 备注
A21: 合 计 | D21: =SUM(D7:D20) -> 0 | F21: =SUM(F7:F20) -> 0 | G21: =SUM(G7:G20) -> 0 | H21: =SUM(H7:H20) -> 0 | I21: =SUM(I7:I20) -> 0
A22: =基本情况!A5 -> 被评估单位（或产权持有单位）填表人： | G22: =基本情况!A8 -> 评估人员：宋云鹏、王涛
A23: =基本情况!A6 -> 填表日期： 2018年02月12日

Sheet 表3-1-2
A1: 货币资金——银行存款评估明细表
A2: =基本情况!A3 -> 评估基准日： 2018年02月12日
K3: 表3-1-2
A4: ='表3-1-1'!A4 -> 被评估单位（或者产权持有单位）：哈尔滨市爱地方快餐有限责任公司 | J4: 金额单位：人民币元
A5: 序号 | B5: 开户银行 | C5: 账号 | D5: 币种 | E5: 外币账面金额 | F5: 评估基准日汇率 | G5: 账面价值 | H5: 评估价值 | I5: 增减值 | J5: 增值率（%） | K5: 备注 | L5: 目录
A21: 合 计 | G21: =SUM(G7:G20) -> 0 | H21: =SUM(H7:H20) -> 0
A22: =基本情况!A5 -> 被评估单位（或产权持有单位）填表人： | H22: =基本情况!A8 -> 评估人员：宋云鹏、王涛
A23: =基本情况!A8 -> 评估人员：宋云鹏、王涛

Sheet 表3-1-3
A1: 货币资金——其他货币资金评估明细表
A2: =基本情况!A3 -> 评估基准日： 2018年02月12日
J3: 表3-1-3
A4: ='表3-1-2'!A4 -> 被评估单位（或者产权持有单位）：哈尔滨市爱地方快餐有限责任公司 | J4: 金额单位：人民币元
A5: 序号 | B5: 名称及内容 | C5: 用途 | D5: 币种 | E5: 外币账面金额 | F5: 评估基准日汇率 | G5: 账面价值 | H5: 评估价值 | I5: 增减值 | J5: 增值率（%） | K5: 备注 | L5: 目录
G20: =SUM(G7:G19) -> 0 | H20: =SUM(H7:H19) -> 0
A21: =基本情况!A5 -> 被评估单位（或产权持有单位）填表人： | H21: =基本情况!A8 -> 评估人员：宋云鹏、王涛
A22: =基本情况!A6 -> 填表日期： 2018年02月12日

Sheet 表3-2
A1: 交易性金融资产评估汇总表
A2: =基本情况!A3 -> 评估基准日： 2018年02月12日
F3: 表3-2
A4: =基本情况!A1 -> 被评估单位（或者产权持有单位）：哈尔滨市爱地方快餐有限责任公司 | F4: =表3!F4 -> 金额单位：人民币元
A5: 编号 | B5: 科目名称 | C5: 账面价值 | D5: 评估价值 | E5: 增减值 | F5: 增值率% | G5: 目录
A7: 3-2-1 | B7: 交易性金融资产—股票投资 | C7: ='表3-2-1'!G21 -> 0 | D7: ='表3-2-1'!I21 -> 0 | E7: =D7-C7 -> 0 | F7: =E7/C7*100% -> #DIV/0!
A8: 3-2-2 | B8: 交易性金融资产—债券投资 | C8: ='表3-2-2'!H21 -> 0 | D8: ='表3-2-2'!I21 -> 0 | E8: =D8-C8 -> 0 | F8: =E8/C8*100% -> #DIV/0!
A9: 3-2-3 | B9: 交易性金融资产—基金投资 | C9: ='表3-2-3'!G21 -> 0 | D9: ='表3-2-3'!I21 -> 0 | E9: =D9-C9 -> 0 | F9: =E9/C9*100% -> #DIV/0!
A20: 合计 | C20: =SUM(C7:C19) -> 0 | D20: =SUM(D7:D19) -> 0
E21: =基本情况!A8 -> 评估人员：宋云鹏、王涛

Sheet 表3-2-1
A1: 交易性金融资产——股票投资评估明细表
A2: =基本情况!A3 -> 评估基准日： 2018年02月12日
L3: 表3-2-1
A4: =基本情况!A1 -> 被评估单位（或者产权持有单位）：哈尔滨市爱地方快餐有限责任公司 | I4: 金额单位：人民币元
A5: 序号 | B5: 被投资单位名称 | C5: 股票名称 | D5: 投资日期 | E5: 持股数量 | F5: 成本 | G5: 账面价值 | H5: 基准日收盘价 元/股 | I5: 评估价值 | J5: 增减值 | K5: 增值率（%） | L5: 备注 | M5: 目录
A21: 合计 | G21: =SUM(G7:G20) -> 0 | I21: =SUM(I7:I20) -> 0
A22: =基本情况!A5 -> 被评估单位（或产权持有单位）填表人： | I22: =基本情况!A8 -> 评估人员：宋云鹏、王涛
A23: =基本情况!A6 -> 填表日期： 2018年02月12日

Sheet 表3-2-2
A1: 交易性金融资产---债券投资评估明细表
A2: =基本情况!A3 -> 评估基准日： 2018年02月12日
K3: 表3-2-2
A4: =基本情况!A1 -> 被评估单位（或者产权持有单位）：哈尔滨市爱地方快餐有限责任公司 | J4: 金额单位：人民币元
A5: 序号 | B5: 被投资单位名称 | C5: 债券名称 | D5: 发行日期 | E5: 投资日期 | F5: 票面利率% | G5: 成本 | H5: 账面价值 | I5: 评估价值 | J5: 增减值 | K5: 增值率% | L5: 备注 | M5: 目录
A21: 合计 | H21: =SUM(H7:H20) -> 0 | I21: =SUM(I7:I20) -> 0
A22: =基本情况!A5 -> 被评估单位（或产权持有单位）填表人： | H22: =基本情况!A8 -> 评估人员：宋云鹏、王涛
A23: =基本情况!A6 -> 填表日期： 2018年02月12日

Sheet 表3-2-3
A1: 交易性金融资产---基金投资评估明细表
A2: =基本情况!A3 -> 评估基准日： 2018年02月12日
K3: 表3-2-3
A4: =基本情况!A1 -> 被评估单位（或者产权持有单位）：哈尔滨市爱地方快餐有限责任公司 | J4: 金额单位：人民币元
A5: 序号 | B5: 基金发行单位 | C5: 基金名称 | D5: 基金类型 | E5: 投资日期 | F5: 成本 | G5: 账面价值 | H5: 基准日净值/份 | I5: 评估价值 | J5: 增减值 | K5: 增值率% | L5: 备注 | M5: 目录
A21: 合计 | G21: =SUM(G7:G20) -> 0 | H21: =SUM(H7:H20) -> 0 | I21: =SUM(I7:I20) -> 0
A22: =基本情况!A5 -> 被评估单位（或产权持有单位）填表人： | H22: =基本情况!A8 -> 评估人员：宋云鹏、王涛
A23: =基本情况!A6 -> 填表日期： 2018年02月12日

Sheet 表3-3
A1: 应收票据评估明细表
A2: =基本情况!A3 -> 评估基准日： 2018年02月12日
J3: 表3-3
A4: =基本情况!A1 -> 被评估单位（或者产权持有单位）：哈尔滨市爱地方快餐有限责任公司 | J4: 金额单位:人民币元
A5: 序号 | B5: 户名（结算对象） | C5: 出票日期 | D5: 到期日期 | E5: 票面利率% | F5: 账面价值 | G5: 评估价值 | H5: 增减值 | I5: 增值率% | J5: 备注 | K5: 目录
A21: 合计 | F21: =SUM(F7:F20) -> 0 | G21: =SUM(G7:G20) -> 0 | H21: =SUM(H7:H20) -> 0 | I21: =(H21-G21)/G21*100 -> #DIV/0!
A22: =基本情况!A5 -> 被评估单位（或产权持有单位）填表人： | G22: =基本情况!A8 -> 评估人员：宋云鹏、王涛
A23: =基本情况!A6 -> 填表日期： 2018年02月12日

Sheet 表3-4
A1: 应收账款评估明细表
A2: =基本情况!A3 -> 评估基准日： 2018年02月12日
J3: 表3-4
A4: =基本情况!A1 -> 被评估单位（或者产权持有单位）：哈尔滨市爱地方快餐有限责任公司 | J4: 金额单位:人民币元
A5: 序号 | B5: 欠款单位名称（结算对象） | C5: 业务内容 | D5: 发生日期 | E5: 账龄 | F5: 账面价值 | G5: 评估价值 | H5: 增减值 | I5: 增值率% | J5: 备注 | K5: 目录
A20: 合计 | F20: =SUM(F7:F19) -> 0 | G20: =SUM(G7:G19) -> 0
A21: 减：应收账款坏帐准备
A22: 合计 | F22: =F20-F21 -> 0 | G22: =G20-G21 -> 0
A23: =基本情况!A5 -> 被评估单位（或产权持有单位）填表人： | G23: =基本情况!A8 -> 评估人员：宋云鹏、王涛
A24: =基本情况!A6 -> 填表日期： 2018年02月12日

Sheet 表3-5
A1: 预付账款评估明细表
A2: =基本情况!A3 -> 评估基准日： 2018年02月12日
J3: 表3-5
A4: ='表3-1-1'!A4 -> 被评估单位（或者产权持有单位）：哈尔滨市爱地方快餐有限责任公司 | J4: 金额单位:人民币元
A5: 序号 | B5: 收款单位名称（结算对象） | C5: 业务内容 | D5: 发生日期 | E5: 账龄 | F5: 账面价值 | G5: 评估价值 | H5: 增减值 | I5: 增值率% | J5: 备注 | K5: 目录
A21: 合计 | F21: =SUM(F7:F20) -> 0 | G21: =SUM(G7:G20) -> 0 | H21: =SUM(H7:H20) -> 0
A22: =基本情况!A5 -> 被评估单位（或产权持有单位）填表人： | G22: =基本情况!A8 -> 评估人员：宋云鹏、王涛
A23: =基本情况!A6 -> 填表日期： 2018年02月12日

Sheet 表3-6
A1: 应收利息评估明细表
A2: ='表3-5'!A2:J2 -> 评估基准日： 2018年02月12日
K3: 表3-6
A4: ='表3-5'!A4 -> 被评估单位（或者产权持有单位）：哈尔滨市爱地方快餐有限责任公司 | K4: ='表3-5'!J4 -> 金额单位:人民币元
A5: 序号 | B5: 欠款单位名称 （结算对象） | C5: 发生日期 | D5: 本金 | E5: 利息所属期间 | F5: 利息率% | G5: 账面价值 | H5: 评估价值 | I5: 增减值 | J5: 增值率% | K5: 备注 | L5: 目录
A21: 合计 | G21: =SUM(G7:G20) -> 0 | H21: =SUM(H7:H20) -> 0 | I21: =SUM(I7:I20) -> 0
A22: =基本情况!A5 -> 被评估单位（或产权持有单位）填表人： | H22: =基本情况!A8 -> 评估人员：宋云鹏、王涛
A23: =基本情况!A6 -> 填表日期： 2018年02月12日

Sheet 表3-7
A1: 应收股利（应收利润）评估明细表
A2: ='表3-6'!A2:K2 -> 评估基准日： 2018年02月12日
I3: 表3-7
A4: ='表3-6'!A4 -> 被评估单位（或者产权持有单位）：哈尔滨市爱地方快餐有限责任公司 | I4: ='表3-6'!K4 -> 金额单位:人民币元
A5: 序号 | B5: 户名（结算对象） | C5: 发生日期 | D5: 股利(利润) 所属期间 | E5: 账面价值 | F5: 评估价值 | G5: 增减值 | H5: 增值率% | I5: 备注 | J5: 目录
A21: 合计 | E21: =SUM(E7:E20) -> 0 | F21: =SUM(F7:F20) -> 0 | G21: =SUM(G7:G20) -> 0
A22: =基本情况!A5 -> 被评估单位（或产权持有单位）填表人： | F22: =基本情况!A8 -> 评估人员：宋云鹏、王涛
A23: =基本情况!A6 -> 填表日期： 2018年02月12日

Sheet 表3-8
A1: 其他应收款评估明细表
A2: ='表3-7'!A2:I2 -> 评估基准日： 2018年02月12日
J3: 表3-8
A4: ='表3-1-2'!A4 -> 被评估单位（或者产权持有单位）：哈尔滨市爱地方快餐有限责任公司 | J4: ='表3-7'!I4 -> 金额单位:人民币元
A5: 序号 | B5: 欠款单位(人) 名称(结算对象) | C5: 业务内容 | D5: 发生日期 | E5: 账龄 | F5: 账面价值 | G5: 评估价值 | H5: 增减值 | I5: 增值率% | J5: 备注 | K5: 目录
A21: 合计 | F21: =SUM(F7:F20) -> 0 | G21: =SUM(G7:G20) -> 0 | H21: =SUM(H7:H20) -> 0
A22: 减：其他应收款坏帐准备
A23: 合计 | F23: =F21-F22 -> 0 | G23: =G21-G22 -> 0 | H23: =H21-H22 -> 0
A24: =基本情况!A5 -> 被评估单位（或产权持有单位）填表人： | G24: =基本情况!A8 -> 评估人员：宋云鹏、王涛
A25: =基本情况!A6 -> 填表日期： 2018年02月12日

Sheet 表3-9
A1: 存货评估汇总表
A2: =基本情况!A3 -> 评估基准日： 2018年02月12日
F3: 表3-9
A4: =基本情况!A1 -> 被评估单位（或者产权持有单位）：哈尔滨市爱地方快餐有限责任公司 | F4: =表3!F4 -> 金额单位：人民币元
A5: 编号 | B5: 科目名称 | C5: 账面价值 | D5: 评估价值 | E5: 增减值 | F5: 增值率% | G5: 目录
A7: 3-9-1 | B7: 材料采购（在途物资） | C7: ='表3-9-1'!F21 -> 0 | D7: ='表3-9-1'!I21 -> 0 | E7: =D7-C7 -> 0 | F7: =E7/C7*100% -> #DIV/0!
A8: 3-9-2 | B8: 原材料 | C8: ='表3-9-2'!G21 -> 0 | D8: ='表3-9-2'!J21 -> 0 | E8: =D8-C8 -> 0 | F8: =E8/C8*100% -> #DIV/0!
A9: 3-9-3 | B9: 在库周转材料 | C9: ='表3-9-3'!G21 -> 0 | D9: ='表3-9-3'!J21 -> 0 | E9: =D9-C9 -> 0 | F9: =E9/C9*100% -> #DIV/0!
A10: 3-9-4 | B10: 委托加工物资 | C10: ='表3-9-4'!G21 -> 0 | D10: ='表3-9-4'!J21 -> 0 | E10: =D10-C10 -> 0 | F10: =E10/C10*100% -> #DIV/0!
A11: 3-9-5 | B11: 产成品（库存商品） | C11: ='表3-9-5'!H21 -> 0 | D11: ='表3-9-5'!K21 -> 0 | E11: =D11-C11 -> 0 | F11: =E11/C11*100% -> #DIV/0!
A12: 3-9-6 | B12: 在产品（自制半成品） | C12: ='表3-9-6'!F21 -> 0 | D12: ='表3-9-6'!I21 -> 0 | E12: =D12-C12 -> 0 | F12: =E12/C12*100% -> #DIV/0!
A13: 3-9-7 | B13: 发出商品 | C13: ='表3-9-7'!G21 -> 0 | D13: ='表3-9-7'!J21 -> 0 | E13: =D13-C13 -> 0 | F13: =E13/C13*100% -> #DIV/0!
A14: 3-9-8 | B14: 在用周转材料 | C14: ='表3-9-8'!F21 -> 0 | D14: ='表3-9-8'!J21 -> 0 | E14: =D14-C14 -> 0 | F14: =E14/C14*100% -> #DIV/0!
A18: 合计 | C18: =SUM(C7:C17) -> 0 | D18: =SUM(D7:D17) -> 0
A19: 减：存货跌价准备
A20: 合计 | C20: =C18-C19 -> 0 | D20: =D18-D19 -> 0
E21: =基本情况!A8 -> 评估人员：宋云鹏、王涛

Sheet 表3-9-1
A1: 存货---材料采购（在途物资）评估明细表
A2: =基本情况!A3 -> 评估基准日： 2018年02月12日
L3: 表3-9-1 | M3: 目录
A4: =基本情况!A1 -> 被评估单位（或者产权持有单位）：哈尔滨市爱地方快餐有限责任公司 | L4: 金额单位:元
A5: 序号 | B5: 名称及规格型号 | C5: 计量单位 | D5: 账面价值 | G5: 评估价值 | J5: 增减值 | K5: 增值率% | L5: 备注
D6: 数量 | E6: 单价 | F6: 金额 | G6: 实际数量 | H6: 评估单价 | I6: 金额
A21: 合计 | F21: =SUM(F7:F20) -> 0 | I21: =SUM(I7:I20) -> 0
A22: =基本情况!A5 -> 被评估单位（或产权持有单位）填表人： | G22: =基本情况!A8 -> 评估人员：宋云鹏、王涛
A23: =基本情况!A6 -> 填表日期： 2018年02月12日

Sheet 表3-9-2
A1: 存货---原材料评估明细表
A2: =基本情况!A3 -> 评估基准日： 2018年02月12日
M3: 表3-9-2
A4: =基本情况!A1 -> 被评估单位（或者产权持有单位）：哈尔滨市爱地方快餐有限责任公司 | M4: ='表3-8'!J4 -> 金额单位:人民币元
A5: 序号 | B5: 名称及规格型号 | C5: 计量 单位 | D5: 存放 地点 | E5: 账面价值 | H5: 评估价值 | K5: 增减值 | L5: 增值率% | M5: 备注 | N5: 目录
E6: 数量 | F6: 单价 | G6: 金额 | H6: 实际数量 | I6: 评估单价 | J6: 金额
A21: 合计 | G21: =SUM(G7:G20) -> 0 | J21: =SUM(J7:J20) -> 0
A22: =基本情况!A5 -> 被评估单位（或产权持有单位）填表人： | I22: =基本情况!A8 -> 评估人员：宋云鹏、王涛
A23: =基本情况!A6 -> 填表日期： 2018年02月12日

Sheet 表3-9-3
A1: 存货---在库周转材料评估明细表
A2: =基本情况!A3 -> 评估基准日： 2018年02月12日
M3: 表3-9-3
A4: =基本情况!A1 -> 被评估单位（或者产权持有单位）：哈尔滨市爱地方快餐有限责任公司 | M4: ='表3-9-2'!M4 -> 金额单位:人民币元
A5: 序号 | B5: 名称及规格型号 | C5: 计量单位 | D5: 存放地点 | E5: 账面价值 | H5: 评估价值 | K5: 增减值 | L5: 增值率% | M5: 备注 | N5: 目录
E6: 数量 | F6: 单价 | G6: 金额 | H6: 实际数量 | I6: 单价 | J6: 金额
A21: 合计 | G21: =SUM(G7:G20) -> 0 | J21: =SUM(J7:J20) -> 0
A22: =基本情况!A5 -> 被评估单位（或产权持有单位）填表人： | I22: =基本情况!A8 -> 评估人员：宋云鹏、王涛
A23: =基本情况!A6 -> 填表日期： 2018年02月12日

Sheet 表3-9-4
A1: 存货---委托加工物资评估明细表
A2: =基本情况!A3 -> 评估基准日： 2018年02月12日
M3: 表3-9-4
A4: =基本情况!A1 -> 被评估单位（或者产权持有单位）：哈尔滨市爱地方快餐有限责任公司 | M4: ='表3-9-3'!M4 -> 金额单位:人民币元
A5: 序号 | B5: 名称及规格型号 | C5: 加工单位名称 | D5: 计量单位 | E5: 账面价值 | H5: 评估价值 | K5: 增减值 | L5: 增值率% | M5: 备注 | N5: 目录
E6: 数量 | F6: 单价 | G6: 金额 | H6: 实际数量 | I6: 单价 | J6: 金额
A21: 合计 | G21: =SUM(G7:G20) -> 0 | J21: =SUM(J7:J20) -> 0
A22: =基本情况!A5 -> 被评估单位（或产权持有单位）填表人： | J22: =基本情况!A8 -> 评估人员：宋云鹏、王涛
A23: =基本情况!A6 -> 填表日期： 2018年02月12日

Sheet 表3-9-5
A1: 存货---产成品(库存商品、开发产品、农产品）评估明细表
A2: =基本情况!A3 -> 评估基准日： 2018年02月12日
N3: 表3-9-5
A4: =基本情况!A1 -> 被评估单位（或者产权持有单位）：哈尔滨市爱地方快餐有限责任公司 | N4: ='表3-9-1'!L4 -> 金额单位:元
A5: 序号 | B5: 名称 | C5: 规格型号 | D5: 计量单位 | E5: 账面价值 | I5: 评估价值 | L5: 增减值 | M5: 增值率% | N5: 备注 | O5: 目录
E6: 数量 | F6: 外币单价 | G6: 人民币单价 | H6: 金额 | I6: 实际数量 | J6: 评估单价 | K6: 金额
A21: 合计 | H21: =SUM(H7:H20) -> 0 | K21: =SUM(K7:K20) -> 0
A22: =基本情况!A5 -> 被评估单位（或产权持有单位）填表人： | I22: =基本情况!A8 -> 评估人员：宋云鹏、王涛
A23: =基本情况!A6 -> 填表日期： 2018年02月12日

Sheet 表3-9-6
A1: 存货---在产品（自制半成品）评估明细表
A2: =基本情况!A3 -> 评估基准日： 2018年02月12日
L3: 表3-9-6
A4: =基本情况!A1 -> 被评估单位（或者产权持有单位）：哈尔滨市爱地方快餐有限责任公司 | L4: ='表3-9-1'!L4 -> 金额单位:元
A5: 序号 | B5: 名称及规格型号 | C5: 计量单位 | D5: 账面价值 | G5: 评估价值 | J5: 增减值 | K5: 增值率% | L5: 备注 | M5: 目录
D6: 数量 | E6: 单价 | F6: 金额 | G6: 实际数量 | H6: 评估单价 | I6: 金额
A21: 合计 | F21: =SUM(F7:F20) -> 0 | I21: =SUM(I7:I20) -> 0
A22: =基本情况!A5 -> 被评估单位（或产权持有单位）填表人： | G22: =基本情况!A8 -> 评估人员：宋云鹏、王涛
A23: =基本情况!A6 -> 填表日期： 2018年02月12日

Sheet 表3-9-7
A1: 存货---发出商品评估明细表
A2: =基本情况!A3 -> 评估基准日： 2018年02月12日
M3: 表3-9-7
A4: =基本情况!A1 -> 被评估单位（或者产权持有单位）：哈尔滨市爱地方快餐有限责任公司 | M4: ='表3-9-1'!L4 -> 金额单位:元
A5: 序号 | B5: 商品名称 | C5: 对方单位名称 | D5: 计量单位 | E5: 账面价值 | H5: 评估价值 | K5: 增减值 | L5: 增值率% | M5: 备注 | N5: 目录
E6: 数量 | F6: 单价 | G6: 金额 | H6: 实际数量 | I6: 评估单价 | J6: 金额
A21: 合计 | G21: =SUM(G7:G20) -> 0 | J21: =SUM(J7:J20) -> 0
A22: =基本情况!A5 -> 被评估单位（或产权持有单位）填表人： | H22: =基本情况!A8 -> 评估人员：宋云鹏、王涛
A23: =基本情况!A6 -> 填表日期： 2018年02月12日

Sheet 表3-9-8
A1: 存货---在用周转材料评估明细表
A2: =基本情况!A3 -> 评估基准日： 2018年02月12日
M3: 表3-9-8
A4: =基本情况!A1 -> 被评估单位（或者产权持有单位）：哈尔滨市爱地方快餐有限责任公司 | M4: ='表3-9-1'!L4 -> 金额单位:元
A5: 序号 | B5: 名称及规格型号 | C5: 启用日期 | D5: 原始入账价值 | E5: 账面价值（摊余价值） | G5: 实际数量 | H5: 评估价值 | K5: 增减值 | L5: 增值率% | M5: 备注 | N5: 目录
E6: 数量 | F6: 金额 | H6: 评估原价 | I6: 成新率% | J6: 金额
A21: 合计 | F21: =SUM(F7:F20) -> 0 | J21: =SUM(J7:J20) -> 0
A22: =基本情况!A5 -> 被评估单位（或产权持有单位）填表人： | H22: =基本情况!A8 -> 评估人员：宋云鹏、王涛
A23: =基本情况!A6 -> 填表日期： 2018年02月12日

Sheet 表3-10
A1: 一年内到期的非流动资产评估明细表
A2: =基本情况!A3 -> 评估基准日： 2018年02月12日
I3: 表3-10
A4: =基本情况!A1 -> 被评估单位（或者产权持有单位）：哈尔滨市爱地方快餐有限责任公司 | I4: ='表3-9-1'!L4 -> 金额单位:元
A5: 序号 | B5: 项目及内容 | C5: 发生日期 | D5: 结算内容 | E5: 账面价值 | F5: 评估价值 | G5: 增减值 | H5: 增值率% | I5: 备注 | J5: 目录
A20: 合计 | E20: =SUM(E6:E19) -> 0 | F20: =SUM(F6:F19) -> 0
A21: =基本情况!A5 -> 被评估单位（或产权持有单位）填表人： | G21: =基本情况!A8 -> 评估人员：宋云鹏、王涛
A22: =基本情况!A6 -> 填表日期： 2018年02月12日

Sheet 表3-11
A1: 其他流动资产评估明细表
A2: =基本情况!A3 -> 评估基准日： 2018年02月12日
J3: 表3-11
A4: =基本情况!A1 -> 被评估单位（或者产权持有单位）：哈尔滨市爱地方快餐有限责任公司 | J4: ='表3-9-1'!L4 -> 金额单位:元
A5: 序号 | B5: 项目及内容 | C5: 发生日期 | D5: 结算内容 | E5: 成本 | F5: 账面价值 | G5: 评估价值 | H5: 增减值 | I5: 增值率% | J5: 备注 | K5: 目录
A20: 合计 | F20: =SUM(F6:F19) -> 0 | G20: =SUM(G6:G19) -> 0
A21: =基本情况!A5 -> 被评估单位（或产权持有单位）填表人： | H21: =基本情况!A8 -> 评估人员：宋云鹏、王涛
A22: =基本情况!A6 -> 填表日期： 2018年02月12日

Sheet 表4
A1: 非流动资产评估汇总表
A2: =基本情况!A3 -> 评估基准日： 2018年02月12日
F3: 表4
A4: =基本情况!A1 -> 被评估单位（或者产权持有单位）：哈尔滨市爱地方快餐有限责任公司 | E4: 金额单位：人民币元
A5: 编号 | B5: 科目名称 | C5: 账面价值 | D5: 评估价值 | E5: 增减值 | F5: 增值率% | G5: 目录
A7: 4-1 | B7: 可供出售金融资产 | C7: ='表4-1'!C24 -> 0 | D7: ='表4-1'!D24 -> 0 | E7: =D7-C7 -> 0 | F7: =E7/C7*100% -> #DIV/0!
A8: 4-2 | B8: 持有至到期投资 | C8: ='表4-2'!H20 -> 0 | D8: ='表4-2'!I20 -> 0 | E8: =D8-C8 -> 0 | F8: =E8/C8*100% -> #DIV/0!
A9: 4-3 | B9: 长期应收款 | C9: ='表4-3'!E20 -> 0 | D9: ='表4-3'!F20 -> 0 | E9: =D9-C9 -> 0 | F9: =E9/C9*100% -> #DIV/0!
A10: 4-4 | B10: 长期股权投资 | C10: ='表4-4'!G20 -> 0 | D10: ='表4-4'!H20 -> 0 | E10: =D10-C10 -> 0 | F10: =E10/C10*100% -> #DIV/0!
A11: 4-5 | B11: 投资性房地产 | C11: ='表4-5'!K21 -> 0 | D11: ='表4-5'!L21 -> 0 | E11: =D11-C11 -> 0 | F11: =E11/C11*100% -> #DIV/0!
A12: 4-6 | B12: 固定资产 | C12: ='表4-6'!D21 -> #REF! | D12: ='表4-6'!F21 -> #REF! | E12: =D12-C12 -> #REF! | F12: =E12/C12*100% -> #REF!
A13: 4-7 | B13: 在建工程 | C13: ='表4-7'!C23 -> 0 | D13: ='表4-7'!D23 -> 0 | E13: =D13-C13 -> 0 | F13: =E13/C13*100% -> #DIV/0!
A14: 4-8 | B14: 工程物资 | C14: ='表4-8'!G22 -> 0 | D14: ='表4-8'!J22 -> 0 | E14: =D14-C14 -> 0 | F14: =E14/C14*100% -> #DIV/0!
A15: 4-9 | B15: 固定资产清理 | C15: ='表4-9'!D21 -> 0 | D15: ='表4-9'!E21 -> 0 | E15: =D15-C15 -> 0 | F15: =E15/C15*100% -> #DIV/0!
A16: 4-10 | B16: 生产性生物资产 | C16: ='表4-10'!H22 -> 0 | D16: ='表4-10'!K22 -> 0 | E16: =D16-C16 -> 0 | F16: =E16/C16*100% -> #DIV/0!
A17: 4-11 | B17: 油气资产 | C17: ='表4-11'!I22 -> 0 | D17: ='表4-11'!L22 -> 0 | E17: =D17-C17 -> 0 | F17: =E17/C17*100% -> #DIV/0!
A18: 4-12 | B18: 无形资产 | C18: ='表4-12'!C20 -> 0 | D18: ='表4-12'!D20 -> 0 | E18: =D18-C18 -> 0 | F18: =E18/C18*100% -> #DIV/0!
A19: 4-13 | B19: 开发支出 | C19: ='表4-13'!D21 -> 0 | D19: ='表4-13'!E21 -> 0 | E19: =D19-C19 -> 0 | F19: =E19/C19*100% -> #DIV/0!
A20: 4-14 | B20: 商誉 | C20: ='表4-14'!D19 -> 0 | D20: ='表4-14'!E21 -> 0 | E20: =D20-C20 -> 0 | F20: =E20/C20*100% -> #DIV/0!
A21: 4-15 | B21: 长期待摊费用 | C21: ='表4-15'!F21 -> 0 | D21: ='表4-15'!H21 -> 0 | E21: =D21-C21 -> 0 | F21: =E21/C21*100% -> #DIV/0!
A22: 4-16 | B22: 递延所得税资产 | C22: ='表4-16'!D21 -> 0 | D22: ='表4-16'!E21 -> 0 | E22: =D22-C22 -> 0 | F22: =E22/C22*100% -> #DIV/0!
A23: 4-17 | B23: 其他非流动资产 | C23: ='表4-17'!E21 -> 0 | D23: ='表4-17'!F21 -> 0 | E23: =D23-C23 -> 0 | F23: =E23/C23*100% -> #DIV/0!
A24: 合计 | C24: =SUM(C7:C23) -> #REF! | D24: =SUM(D7:D23) -> #REF! | E24: =D24-C24 -> #REF! | F24: =E24/C24*100% -> #REF!
D25: =基本情况!A8 -> 评估人员：宋云鹏、王涛

Sheet 表4-1
A1: 可供出售金融资产评估汇总表
A2: =基本情况!A3 -> 评估基准日： 2018年02月12日
F3: 表4-1
A4: =基本情况!A1 -> 被评估单位（或者产权持有单位）：哈尔滨市爱地方快餐有限责任公司 | E4: 金额单位：人民币元
A5: 编号 | B5: 科目名称 | C5: 账面价值 | D5: 评估价值 | E5: 增减值 | F5: 增值率% | G5: 目录
A7: 4-1-1 | B7: 可供出售金融资产-股票投资 | C7: ='表4-1-1'!H20 -> 0 | D7: ='表4-1-1'!I20 -> 0 | E7: =D7-C7 -> 0 | F7: =E7/C7*100% -> #DIV/0!
A8: 4-1-2 | B8: 可供出售金融资产-债券投资 | C8: ='表4-1-2'!H20 -> 0 | D8: ='表4-1-2'!I20 -> 0 | E8: =D8-C8 -> 0 | F8: =E8/C8*100% -> #DIV/0!
A9: 4-1-3 | B9: 可供出售金融资产-其他投资 | C9: ='表4-1-3'!H20 -> 0 | D9: ='表4-1-3'!I20 -> 0 | E9: =D9-C9 -> 0 | F9: =E9/C9*100% -> #DIV/0!
A24: 合计 | C24: =SUM(C7:C23) -> 0 | D24: =SUM(D7:D23) -> 0
D25: =基本情况!A8 -> 评估人员：宋云鹏、王涛

Sheet 表4-1-1
A1: 可供出售金融资产—股票投资评估明细表
A2: =基本情况!A3 -> 评估基准日： 2018年02月12日
L3: 表4-1-1
A4: =基本情况!A1 -> 被评估单位（或者产权持有单位）：哈尔滨市爱地方快餐有限责任公司 | L4: ='表3-9-1'!L4 -> 金额单位:元
A5: 序号 | B5: 被投资单位名称 | C5: 股票性质 | D5: 投资日期 | E5: 持股数量 | F5: 基准日市价 | G5: 取得成本 | H5: 账面价值 | I5: 评估价值 | J5: 增减值 | K5: 增值率% | L5: 备注 | M5: 目录
A18: 合计 | H18: =SUM(H6:H17) -> 0 | I18: =SUM(I6:I17) -> 0
A19: 减：减值准备
A20: 合计 | H20: =H18-H19 -> 0 | I20: =I18-I19 -> 0
A21: =基本情况!A5 -> 被评估单位（或产权持有单位）填表人： | J21: =基本情况!A8 -> 评估人员：宋云鹏、王涛
A22: =基本情况!A6 -> 填表日期： 2018年02月12日

Sheet 表4-1-2
A1: 可供出售金融资产—债券投资评估明细表
A2: =基本情况!A3 -> 评估基准日： 2018年02月12日
L3: 表4-1-2
A4: =基本情况!A1 -> 被评估单位（或者产权持有单位）：哈尔滨市爱地方快餐有限责任公司 | L4: ='表3-9-1'!L4 -> 金额单位:元
A5: 序号 | B5: 被投资单位名称 | C5: 债券种类 | D5: 发行日期 | E5: 到期日 | F5: 票面利率% | G5: 成本（面值） | H5: 账面价值 | I5: 评估价值 | J5: 增减值 | K5: 增值率% | L5: 备注 | M5: 目录
A18: 合计 | H18: =SUM(H6:H17) -> 0 | I18: =SUM(I6:I17) -> 0
A19: 减：减值准备
A20: 合计 | H20: =H18-H19 -> 0 | I20: =I18-I19 -> 0
A21: =基本情况!A5 -> 被评估单位（或产权持有单位）填表人： | J21: =基本情况!A8 -> 评估人员：宋云鹏、王涛
A22: =基本情况!A6 -> 填表日期： 2018年02月12日

Sheet 表4-1-3
A1: 可供出售金融资产—其他投资评估明细表
A2: =基本情况!A3 -> 评估基准日： 2018年02月12日
L3: 表4-1-3
A4: =基本情况!A1 -> 被评估单位（或者产权持有单位）：哈尔滨市爱地方快餐有限责任公司 | L4: ='表3-9-1'!L4 -> 金额单位:元
A5: 序号 | B5: 被投资单位名称 | C5: 金融资产名称 | D5: 投资日期 | E5: 持有数量 | F5: 基准日市价 | G5: 成本 | H5: 账面价值 | I5: 评估价值 | J5: 增减值 | K5: 增值率% | L5: 备注 | M5: 目录
A20: 合计 | H20: =SUM(H6:H19) -> 0 | I20: =SUM(I6:I19) -> 0
A21: =基本情况!A5 -> 被评估单位（或产权持有单位）填表人： | J21: =基本情况!A8 -> 评估人员：宋云鹏、王涛
A22: =基本情况!A6 -> 填表日期： 2018年02月12日

Sheet 表4-2
A1: 持有至到期投资评估明细表
A2: =基本情况!A3 -> 评估基准日： 2018年02月12日
L3: 表4-2
A4: =基本情况!A1 -> 被评估单位（或者产权持有单位）：哈尔滨市爱地方快餐有限责任公司 | L4: ='表3-9-1'!L4 -> 金额单位:元
A5: 序号 | B5: 被投资单位名称 | C5: 投资类别 | D5: 投资日期 | E5: 到期日 | F5: 票面利率% | G5: 投资成本 | H5: 账面价值 | I5: 评估价值 | J5: 增减值 | K5: 增值率% | L5: 备注 | M5: 目录
A18: 合计 | H18: =SUM(H6:H17) -> 0 | I18: =SUM(I6:I17) -> 0
A19: 减：持有至到期投资减值准备
A20: 合计 | H20: =H18-H19 -> 0 | I20: =I18-I19 -> 0
A21: =基本情况!A5 -> 被评估单位（或产权持有单位）填表人： | J21: =基本情况!A8 -> 评估人员：宋云鹏、王涛
A22: =基本情况!A6 -> 填表日期： 2018年02月12日

Sheet 表4-3
A1: 长期应收款评估明细表
A2: =基本情况!A3 -> 评估基准日： 2018年02月12日
I3: 表4-3
A4: =基本情况!A1 -> 被评估单位（或者产权持有单位）：哈尔滨市爱地方快餐有限责任公司 | I4: ='表3-9-1'!L4 -> 金额单位:元
A5: 序号 | B5: 欠款单位名称（结算对象） | C5: 业务内容 | D5: 发生日期 | E5: 账面价值 | F5: 评估价值 | G5: 增减值 | H5: 增值率% | I5: 备注 | J5: 目录
A18: 合计 | E18: =SUM(E6:E17) -> 0 | F18: =SUM(F6:F17) -> 0
A19: 减：长期应收款坏账准备
A20: 合计 | E20: =E18-E19 -> 0 | F20: =F18-F19 -> 0
A21: =基本情况!A5 -> 被评估单位（或产权持有单位）填表人： | G21: =基本情况!A8 -> 评估人员：宋云鹏、王涛
A22: =基本情况!A6 -> 填表日期： 2018年02月12日

Sheet 表4-4
A1: 长期股权投资评估明细表
A2: =基本情况!A3 -> 评估基准日： 2018年02月12日
K3: 表4-4
A4: =基本情况!A1 -> 被评估单位（或者产权持有单位）：哈尔滨市爱地方快餐有限责任公司 | K4: ='表3-9-1'!L4 -> 金额单位:元
A5: 序号 | B5: 被投资单位名称 | C5: 投资日期 | D5: 协议投资期限 | E5: 持股比例% | F5: 投资成本 | G5: 账面价值 | H5: 评估价值 | I5: 增减值 | J5: 增值率% | K5: 备注 | L5: 目录
A18: 合计 | G18: =SUM(G6:G17) -> 0 | H18: =SUM(H6:H17) -> 0
A19: 减：长期股权投资减值准备
A20: 合计 | G20: =G18-G19 -> 0 | H20: =H18-H19 -> 0
A21: =基本情况!A5 -> 被评估单位（或产权持有单位）填表人： | I21: =基本情况!A8 -> 评估人员：宋云鹏、王涛
A22: =基本情况!A6 -> 填表日期： 2018年02月12日

Sheet 表4-5
A1: 投资性房地产—房屋评估明细表
A2: （采用公允价值模式计量）
A3: =基本情况!A3 -> 评估基准日： 2018年02月12日
O4: 表4-5
A5: =基本情况!A1 -> 被评估单位（或者产权持有单位）：哈尔滨市爱地方快餐有限责任公司 | O5: ='表3-9-1'!L4 -> 金额单位:元
A6: 序号 | B6: 权证编号 | C6: 房屋名称 | D6: 来源（外购、自建、自用转入、存货转入等） | E6: 结构 | F6: 建成年月 | G6: 计量单位 | H6: 建筑面积 | I6: 成本单价（元/㎡) | J6: 原始入账价值 | K6: 账面价值 | L6: 评估价值 | M6: 增减值 | N6: 增值率% | O6: 备注 | P6: 目录
A21: 合计 | K21: =SUM(K7:K20) -> 0 | L21: =SUM(L7:L20) -> 0
A22: =基本情况!A5 -> 被评估单位（或产权持有单位）填表人： | M22: =基本情况!A8 -> 评估人员：宋云鹏、王涛
A23: =基本情况!A6 -> 填表日期： 2018年02月12日

Sheet 表4-5(2)
A1: 投资性房地产—房屋评估明细表
A2: （采用成本模式计量）
A3: =基本情况!A3 -> 评估基准日： 2018年02月12日
Q4: 表4-5
A5: =基本情况!A1 -> 被评估单位（或者产权持有单位）：哈尔滨市爱地方快餐有限责任公司 | Q5: ='表3-9-1'!L4 -> 金额单位:元
A6: 序号 | B6: 权证编号 | C6: 房屋名称 | D6: 来源（外购、自建、自用转入、存货转入等） | E6: 结构 | F6: 建成年月 | G6: 计量单位 | H6: 建筑面积 | I6: 成本单价（元/㎡) | J6: 账面价值 | L6: 评估价值 | O6: 增值率% | P6: 评估单价(元/㎡) | Q6: 备注 | R6: 目录
J7: 原值 | K7: 净值 | L7: 原值 | M7: 成新率% | N7: 净值
A21: 合计 | K21: =SUM(K8:K20) -> 0 | N21: =SUM(N8:N20) -> 0
A22: =基本情况!A5 -> 被评估单位（或产权持有单位）填表人： | M22: =基本情况!A8 -> 评估人员：宋云鹏、王涛
A23: =基本情况!A6 -> 填表日期： 2018年02月12日

Sheet 表4-5(3)
A1: 投资性房地产—土地使用权评估明细表
A2: （采用成本模式计量）
A3: =基本情况!A3 -> 评估基准日： 2018年02月12日
Q4: 表4-5
A5: =基本情况!A1 -> 被评估单位（或者产权持有单位）：哈尔滨市爱地方快餐有限责任公司 | Q5: ='表3-9-1'!L4 -> 金额单位:元
A6: 序号 | B6: 土地权证编号 | C6: 宗地名称 | D6: 来源（外购、自建、自用转入、存货转入等） | E6: 土地位置 | F6: 取得日期 | G6: 用地性质 | H6: 土地用途 | I6: 准用年限 | J6: 开发程度 | K6: 面积(㎡) | L6: 原始入账价值 | M6: 账面价值 | N6: 评估价值 | O6: 增减值 | P6: 增值率% | Q6: 备注 | R6: 目录
A21: 合计 | M21: =SUM(M7:M20) -> 0 | N21: =SUM(N7:N20) -> 0
A22: =基本情况!A5 -> 被评估单位（或产权持有单位）填表人： | O22: =基本情况!A8 -> 评估人员：宋云鹏、王涛
A23: =基本情况!A6 -> 填表日期： 2018年02月12日

Sheet 表4-5(4)
A1: 投资性房地产—土地使用权评估明细表
A2: （采用公允价值模式计量）
A3: =基本情况!A3 -> 评估基准日： 2018年02月12日
Q4: 表4-5
A5: =基本情况!A1 -> 被评估单位（或者产权持有单位）：哈尔滨市爱地方快餐有限责任公司 | Q5: ='表3-9-1'!L4 -> 金额单位:元
A6: 序号 | B6: 土地权证编号 | C6: 宗地名称 | D6: 来源（外购、自建、自用转入、存货转入等） | E6: 土地位置 | F6: 取得日期 | G6: 用地性质 | H6: 土地用途 | I6: 准用年限 | J6: 开发程度 | K6: 面积(㎡) | L6: 原始入账价值(转入日公允价值) | M6: 账面价值 | N6: 评估价值 | O6: 增减值 | P6: 增值率% | Q6: 备注 | R6: 目录
A21: 合计 | M21: =SUM(M7:M20) -> 0 | N21: =SUM(N7:N20) -> 0
A22: =基本情况!A5 -> 被评估单位（或产权持有单位）填表人： | O22: =基本情况!A8 -> 评估人员：宋云鹏、王涛
A23: =基本情况!A6 -> 填表日期： 2018年02月12日

Sheet 表4-6
A1: 固定资产评估汇总表
A2: =基本情况!A3 -> 评估基准日： 2018年02月12日
J3: 表4-6
A4: =基本情况!A1 -> 被评估单位（或者产权持有单位）：哈尔滨市爱地方快餐有限责任公司 | J4: =表3!F4 -> 金额单位：人民币元
A5: 编号 | B5: 科目名称 | C5: 账面价值 | E5: 评估价值 | G5: 增减值 | I5: 增值率%
C6: 原值 | D6: 净值 | E6: 原值 | F6: 净值 | G6: 原值 | H6: 净值 | I6: 原值 | J6: 净值
B7: 房屋建筑物类合计 | C7: =C8+C9+C10 -> 0 | D7: =D8+D9+D10 -> 0 | E7: =E8+E9+E10 -> 0 | F7: =F8+F9+F10 -> 0
A8: 4-6-1 | B8: 固定资产—房屋建筑物 | C8: ='表4-6-1'!H22 -> 0 | D8: ='表4-6-1'!I22 -> 0 | E8: ='表4-6-1'!J22 -> 0 | F8: ='表4-6-1'!L22 -> 0
A9: 4-6-2 | B9: 固定资产—构筑物及其他辅助设备 | C9: ='表4-6-2'!I22 -> 0 | D9: ='表4-6-2'!J22 -> 0 | E9: ='表4-6-2'!K22 -> 0 | F9: ='表4-6-2'!M22 -> 0
A10: 4-6-3 | B10: 固定资产—管道及沟槽 | C10: ='表4-6-3'!I22 -> 0 | D10: ='表4-6-3'!J22 -> 0 | E10: ='表4-6-3'!K22 -> 0 | F10: ='表4-6-3'!M22 -> 0
B12: 设备类合计 | C12: =C13+C14+C15 -> #REF! | D12: =D13+D14+D15 -> #REF! | E12: =E13+E14+E15 -> #REF! | F12: =F13+F14+F15 -> #REF!
A13: 4-6-4 | B13: 固定资产—机器设备 | C13: ='表4-6-6'!#REF! -> #REF! | D13: ='表4-6-6'!#REF! -> #REF! | E13: ='表4-6-6'!#REF! -> #REF! | F13: ='表4-6-6'!#REF! -> #REF!
A14: 4-6-5 | B14: 固定资产—车辆 | C14: ='表4-6-5'!J22 -> 0 | D14: ='表4-6-5'!K22 -> 0 | E14: ='表4-6-5'!L22 -> 0 | F14: ='表4-6-5'!N22 -> 0
A15: 4-6-6 | B15: 固定资产—电子设备 | C15: 0 | D15: 0 | E15: 0 | F15: 0
A17: 4-6-7 | B17: 固定资产—土地 | D17: ='表4-6-7'!L21 -> 0 | F17: ='表4-6-7'!M21 -> 0
A19: 合计 | C19: =C7+C12+C17 -> #REF! | D19: =D7+D12+D17 -> #REF! | E19: =E7+E12+E17 -> #REF! | F19: =F7+F12+F17 -> #REF!
A20: 减：固定资产减值准备
A21: 固定资产合计 | C21: =C19-C20 -> #REF! | D21: =D19-D20 -> #REF! | E21: =E19-E20 -> #REF! | F21: =F19-F20 -> #REF!
H22: =基本情况!A8 -> 评估人员：宋云鹏、王涛

Sheet 表4-6-1
A1: 固定资产---房屋建筑物评估明细表
A2: =基本情况!A3 -> 评估基准日： 2018年02月12日
O3: 表4-6-1
A4: =基本情况!A1 -> 被评估单位（或者产权持有单位）：哈尔滨市爱地方快餐有限责任公司 | O4: 金额单位:人民币元
A5: 序号 | B5: 权证号码 | C5: 建筑物名称 | D5: 结构 | E5: 建成年月 | F5: 建筑面积体积m2或m3 | G5: 成本单价（元/m2） | H5: 账面价值 | J5: 评估价值 | M5: 增值率% | N5: 评估单价（元/m2） | O5: 备注 | P5: 目录
H6: 原值 | I6: 净值 | J6: 原值 | K6: 成新率% | L6: 净值
H7: 0 | J7: 0
A20: 合计 | H20: =SUM(H7:H19) -> 0 | I20: =SUM(I7:I19) -> 0 | J20: =SUM(J7:J19) -> 0 | L20: =SUM(L7:L19) -> 0
A21: 减：房屋建筑物减值准备
A22: 合计 | H22: =H20-H21 -> 0 | I22: =I20-I21 -> 0 | J22: =J20-J21 -> 0 | L22: =L20-L21 -> 0
A23: =基本情况!A5 -> 被评估单位（或产权持有单位）填表人： | K23: =基本情况!A8 -> 评估人员：宋云鹏、王涛
A24: =基本情况!A6 -> 填表日期： 2018年02月12日

Sheet 表4-6-2
A1: 固定资产---构筑物及其他辅助设施评估明细表
A2: =基本情况!A3 -> 评估基准日： 2018年02月12日
P3: 表4-6-2
A4: =基本情况!A1 -> 被评估单位（或者产权持有单位）：哈尔滨市爱地方快餐有限责任公司 | P4: ='表4-6-1'!O4 -> 金额单位:人民币元
A5: 序号 | B5: 名称 | C5: 结构 | D5: 建成年月 | E5: 长度（m） | F5: 宽度（m） | G5: 计量单位 | H5: 面积体积（m2） | I5: 账面价值 | K5: 评估价值 | N5: 增值率% | O5: 评估单价（元/m2） | P5: 备注 | Q5: 目录
I6: 原值 | J6: 净值 | K6: 原值 | L6: 成新率% | M6: 净值
A7: 1 | I7: 0 | K7: 0
A8: =+A7+1 -> 2
A20: 合计 | I20: =SUM(I7:I19) -> 0 | J20: =SUM(J7:J19) -> 0 | K20: =SUM(K7:K19) -> 0 | M20: =SUM(M7:M19) -> 0
A21: 减：构筑物及其他辅助设施减值准备
A22: 合计 | I22: =I20-I21 -> 0 | J22: =J20-J21 -> 0 | K22: =K20-K21 -> 0 | M22: =M20-M21 -> 0
A23: =基本情况!A5 -> 被评估单位（或产权持有单位）填表人： | K23: =基本情况!A8 -> 评估人员：宋云鹏、王涛
A24: =基本情况!A6 -> 填表日期： 2018年02月12日

Sheet 表4-6-3
A1: 固定资产---管道和沟槽评估明细表
A2: =基本情况!A3 -> 评估基准日： 2018年02月12日
O3: 表4-6-3
A4: =基本情况!A1 -> 被评估单位（或者产权持有单位）：哈尔滨市爱地方快餐有限责任公司 | O4: ='表4-6-2'!P4 -> 金额单位:人民币元
A5: 序号 | B5: 名称 | C5: 长度（m） | D5: 槽深（m） | E5: 沟宽×沟厚(mm) | F5: 材质 | G5: 绝缘方式 | H5: 建成年月 | I5: 账面价值 | K5: 评估价值 | N5: 增值率% | O5: 备注 | P5: 目录
E6: 管径×壁厚(mm) | I6: 原值 | J6: 净值 | K6: 原值 | L6: 成新率% | M6: 净值
A7: 1 | I7: 0 | J7: 0 | K7: 0 | M7: 0
A8: =+A7+1 -> 2
A20: 合计 | I20: =SUM(I7:I19) -> 0 | J20: =SUM(J7:J19) -> 0 | K20: =SUM(K7:K19) -> 0 | M20: =SUM(M7:M19) -> 0
A21: 减：管道和沟槽减值准备
A22: 合计 | I22: =I20-I21 -> 0 | J22: =J20-J21 -> 0 | K22: =K20-K21 -> 0 | M22: =M20-M21 -> 0
A23: =基本情况!A5 -> 被评估单位（或产权持有单位）填表人： | J23: =基本情况!A8 -> 评估人员：宋云鹏、王涛
A24: =基本情况!A6 -> 填表日期： 2018年02月12日

Sheet 表4-6-4
A1: 固定资产---机器设备评估明细表
A2: =基本情况!A3 -> 评估基准日： 2018年02月12日
Q3: 表4-6-4
A4: =基本情况!A1 -> 被评估单位（或者产权持有单位）：哈尔滨市爱地方快餐有限责任公司 | Q4: ='表4-6-3'!O4 -> 金额单位:人民币元 | R4: 目录
A5: 序号 | B5: 设备编号 | C5: 设备名称 | D5: 规格型号 | E5: 生产厂家 | F5: 存放地点 | G5: 计量单位 | H5: 数量 | I5: 购置日期 | J5: 启用日期 | K5: 账面价值 | M5: 评估价值 | P5: 增值率% | Q5: 备注
K6: 原值 | L6: 净值 | M6: 原值 | N6: 成新率% | O6: 净值
A20: 合计
A21: 减：机器设备减值准备
A22: 合计
A23: =基本情况!A5 -> 被评估单位（或产权持有单位）填表人： | M23: =基本情况!A8 -> 评估人员：宋云鹏、王涛
A24: =基本情况!A6 -> 填表日期： 2018年02月12日

Sheet 表4-6-5
A1: 固定资产---车辆评估明细表
A2: =基本情况!A3 -> 评估基准日： 2018年02月12日
P3: 表4-6-5
A4: ='表3-1-2'!A4 -> 被评估单位（或者产权持有单位）：哈尔滨市爱地方快餐有限责任公司 | P4: ='表4-6-4'!Q4 -> 金额单位:人民币元 | Q4: 目录
A5: 序号 | B5: 车辆牌号 | C5: 车辆名称及规格型号 | D5: 生产厂家 | E5: 计量单位 | F5: 数量 | G5: 购置日期 | H5: 启用日期 | I5: 已行驶里程（公里） | J5: 账面价值 | L5: 评估价值 | O5: 增值率% | P5: 备注
J6: 原值 | K6: 净值 | L6: 原值 | M6: 成新率% | N6: 净值
A7: 1 | J7: 0 | L7: 0
A8: =+A7+1 -> 2
A20: 合计 | J20: =SUM(J7:J19) -> 0 | K20: =SUM(K7:K19) -> 0 | L20: =SUM(L7:L19) -> 0 | N20: =SUM(N7:N19) -> 0
A21: 减：车辆减值准备
A22: 合计 | J22: =J20-J21 -> 0 | K22: =K20-K21 -> 0 | L22: =L20-L21 -> 0 | N22: =N20-N21 -> 0
A23: =基本情况!A5 -> 被评估单位（或产权持有单位）填表人： | K23: =基本情况!A8 -> 评估人员：宋云鹏、王涛
A24: =基本情况!A6 -> 填表日期： 2018年02月12日

Sheet 表4-6-6
A1: 附件一 固定资产---机器设备清查评估明细表
A2: =基本情况!A3 -> 评估基准日： 2018年02月12日
O3: 表4-6-6
A4: ='表3-1-1'!A4 -> 被评估单位（或者产权持有单位）：哈尔滨市爱地方快餐有限责任公司 | P4: ='表4-6-5'!P4 -> 金额单位:人民币元
A5: 序号 | B5: 设备编号 | C5: 设备名称 | D5: 规格型号 | E5: 生产厂家 | F5: 计量单位 | G5: 数量 | H5: 购置日期 | I5: 启用日期 | J5: 账面价值 | L5: 评估价值 | O5: 增值率% | P5: 备注
J6: 原值 | K6: 净值 | L6: 原值 | M6: 成新率% | N6: 净值
A7: 1 | B7: 600020 | C7: 收款台 | F7: 个 | G7: 1 | H7: 2016.03.18 | I7: 2016.03.18 | J7: 920 | K7: 409.92 | L7: 736 | M7: 61 | N7: 448.96
A8: 2 | B8: 600021 | C8: 货架 | F8: 个 | G8: 1 | H8: 2016.03.18 | I8: 2016.03.18 | J8: 510 | K8: 227.34 | L8: 561 | M8: 80 | N8: 448.8
A9: 3 | B9: 600022 | C9: 货架 | F9: 个 | G9: 1 | H9: 2016.03.18 | I9: 2016.03.18 | J9: 510 | K9: 227.34 | L9: 561 | M9: 80 | N9: 448.8
A10: 4 | B10: 600023 | C10: 货架 | F10: 个 | G10: 1 | H10: 2016.03.18 | I10: 2016.03.18 | J10: 510 | K10: 227.34 | L10: 561 | M10: 80 | N10: 448.8
A11: 5 | B11: 600024 | C11: 货架 | F11: 个 | G11: 1 | H11: 2016.03.18 | I11: 2016.03.18 | J11: 510 | K11: 227.34 | L11: 561 | M11: 80 | N11: 448.8
A12: 6 | B12: 600025 | C12: 货架 | F12: 个 | G12: 1 | H12: 2016.03.18 | I12: 2016.03.18 | J12: 510 | K12: 227.34 | L12: 561 | M12: 80 | N12: 448.8
A13: 7 | B13: 600026 | C13: 货架 | F13: 个 | G13: 1 | H13: 2016.03.18 | I13: 2016.03.18 | J13: 510 | K13: 227.34 | L13: 561 | M13: 80 | N13: 448.8
A14: 8 | B14: 600027 | C14: 货架 | F14: 个 | G14: 1 | H14: 2016.03.18 | I14: 2016.03.18 | J14: 510 | K14: 227.34 | L14: 561 | M14: 80 | N14: 448.8
A15: 9 | B15: 600028 | C15: 货架 | F15: 个 | G15: 1 | H15: 2016.03.18 | I15: 2016.03.18 | J15: 510 | K15: 227.34 | L15: 561 | M15: 80 | N15: 448.8
A16: 10 | B16: 600029 | C16: 货架 | F16: 个 | G16: 1 | H16: 2016.03.18 | I16: 2016.03.18 | J16: 510 | K16: 227.34 | L16: 561 | M16: 80 | N16: 448.8
A17: 11 | B17: 600030 | C17: 货架 | F17: 个 | G17: 1 | H17: 2016.03.18 | I17: 2016.03.18 | J17: 510 | K17: 227.34 | L17: 561 | M17: 80 | N17: 448.8
A18: 12 | B18: 600031 | C18: 货架 | F18: 个 | G18: 1 | H18: 2016.03.18 | I18: 2016.03.18 | J18: 510 | K18: 227.34 | L18: 561 | M18: 80 | N18: 448.8
... A96: 90 | B96: 40251 | C96: 工作台 | F96: 张 | G96: 1 | H96: 2015.06.25 | I96: 2015.06.25 | J96: 1000 | K96: 636.6 | L96: 1100 | M96: 78 | N96: 858
A97: 91 | B97: 40258 | C97: 面条机 | D97: MTJ30 | E97: 亦盛达机械厂 | F97: 台 | G97: 1 | H97: 2015.06.25 | I97: 2015.06.25 | J97: 3600 | K97: 2291.76 | L97: 3780 | M97: 78 | N97: 2948.4
A98: 92 | B98: 40259 | C98: 和面机 | F98: 台 | G98: 1 | H98: 2015.06.25 | I98: 2015.06.25 | J98: 3300 | K98: 2100.78 | L98: 3465 | M98: 78 | N98: 2702.7
A99: 93 | B99: 40261 | C99: 麻辣烫锅 | F99: 个 | G99: 1 | H99: 2015.06.25 | I99: 2015.06.25 | J99: 1400 | K99: 891.24 | L99: 1470 | M99: 78 | N99: 1146.6
A100: 94 | B100: 40324 | C100: 餐桌 | F100: 张 | G100: 1 | H100: 2015.06.25 | I100: 2015.06.25 | J100: 89100 | K100: 6783.48 | L100: 71280 | M100: 67 | N100: 47757.6
A101: 95 | B101: 40325 | C101: 餐椅 | F101: 个 | G101: 1 | H101: 2015.06.25 | I101: 2015.06.25 | J101: 75145 | K101: 5720.99 | L101: 60116 | M101: 67 | N101: 40277.72
A102: 96 | B102: 20028 | C102: 收费机 | F102: 台 | G102: 1 | H102: 2014.06.26 | I102: 2014.06.26 | J102: 2850 | K102: 142.5 | L102: 2280 | M102: 59 | N102: 1345.2
A103: 97 | B103: 20029 | C103: 收费机 | F103: 台 | G103: 1 | H103: 2014.06.26 | I103: 2014.06.26 | J103: 2850 | K103: 142.5 | L103: 2280 | M103: 59 | N103: 1345.2
A104: 98 | B104: 20030 | C104: 收费机 | F104: 台 | G104: 1 | H104: 2014.06.26 | I104: 2014.06.26 | J104: 2850 | K104: 142.5 | L104: 2280 | M104: 59 | N104: 1345.2
A105: 99 | B105: 20033 | C105: 收费机 | F105: 台 | G105: 1 | H105: 2014.06.28 | I105: 2014.06.28 | J105: 2850 | K105: 142.5 | L105: 2280 | M105: 59 | N105: 1345.2
A106: 100 | B106: 20035 | C106: 播放器 | F106: 台 | G106: 1 | H106: 2014.06.28 | I106: 2014.06.28 | J106: 2400 | K106: 120 | L106: 1920 | M106: 59 | N106: 1132.8
A107: 101 | B107: 20036 | C107: 播放器 | E107: 冰城 | F107: 台 | G107: 1 | H107: 2014.06.28 | I107: 2014.06.28 | J107: 1200 | K107: 60 | L107: 960 | M107: 59 | N107: 566.4
A108: 102 | B108: 50026 | C108: 加热保温箱 | F108: 台 | G108: 1 | H108: 2014.06.28 | I108: 2014.06.28 | J108: 100800 | K108: 35501.76 | L108: 105840 | M108: 74 | N108: 78321.6
A109: 103 | B109: 20079 | C109: POS机（售饭机） | F109: 台 | G109: 1 | H109: 2014.12.26 | I109: 2014.12.26 | J109: 2500 | K109: 190 | L109: 2000 | M109: 26 | N109: 520
A110: 104 | B110: 20080 | C110: POS机（售饭机） | F110: 台 | G110: 1 | H110: 2014.12.26 | I110: 2014.12.26 | J110: 2500 | K110: 190 | L110: 2000 | M110: 26 | N110: 520
A111: 105 | B111: 20081 | C111: POS机（售饭机） | F111: 台 | G111: 1 | H111: 2014.12.26 | I111: 2014.12.26 | J111: 2500 | K111: 190 | L111: 2000 | M111: 26 | N111: 520
A112: 106 | B112: 20082 | C112: POS机（售饭机） | F112: 台 | G112: 1 | H112: 2014.12.26 | I112: 2014.12.26 | J112: 2500 | K112: 190 | L112: 2000 | M112: 26 | N112: 520
A113: 107 | B113: 20083 | C113: POS机（售饭机） | F113: 台 | G113: 1 | H113: 2014.12.26 | I113: 2014.12.26 | J113: 2500 | K113: 190 | L113: 2000 | M113: 26 | N113: 520
A114: 108 | B114: 20084 | C114: POS机（售饭机） | F114: 台 | G114: 1 | H114: 2014.12.26 | I114: 2014.12.26 | J114: 2500 | K114: 190 | L114: 2000 | M114: 26 | N114: 520
A115: 109 | B115: 20096 | C115: POS机（售饭机） | F115: 台 | G115: 1 | H115: 2014.12.26 | I115: 2014.12.26 | J115: 2280 | K115: 173.35 | L115: 1824 | M115: 26 | N115: 474.24
A116: 110 | B116: 20085 | C116: POS机（售饭机） | F116: 台 | G116: 1 | H116: 2014.12.26 | I116: 2014.12.26 | J116: 2500 | K116: 190 | L116: 2000 | M116: 26 | N116: 520
A117: 111 | B117: 20086 | C117: POS机（售饭机） | F117: 台 | G117: 1 | H117: 2014.12.26 | I117: 2014.12.26 | J117: 2500 | K117: 190 | L117: 2000 | M117: 26 | N117: 520
...

Sheet 表4-6-7
A1: 固定资产---土地评估明细表
A2: =基本情况!A3 -> 评估基准日： 2018年02月12日
O3: 表4-6-7 | Q3: 目录
A4: ='表3-1-1'!A4 -> 被评估单位（或者产权持有单位）：哈尔滨市爱地方快餐有限责任公司 | P4: ='表4-6-5'!P4 -> 金额单位:人民币元
A5: 序号 | B5: 土地权证编号 | C5: 宗地名称 | D5: 土地位置 | E5: 取得日期 | F5: 用地性质 | G5: 土地用途 | H5: 准用年限 | I5: 开发程度 | J5: 面积（㎡） | K5: 原始入账价值 | L5: 账面价值 | M5: 评估价值 | N5: 增减值 | O5: 增值率% | P5: 备注
A6: 1
A7: 2
L21: =SUM(L6:L20) -> 0 | M21: =SUM(M6:M20) -> 0
A22: =基本情况!A5 -> 被评估单位（或产权持有单位）填表人： | K22: =基本情况!A8 -> 评估人员：宋云鹏、王涛
A23: =基本情况!A6 -> 填表日期： 2018年02月12日

Sheet 表4-7
A1: 在建工程评估汇总表
A2: =基本情况!A3 -> 评估基准日： 2018年02月12日
F3: 表4-7 | G3: 目录
A4: =基本情况!A1 -> 被评估单位（或者产权持有单位）：哈尔滨市爱地方快餐有限责任公司 | F4: 金额单位：人民币元
A5: 编号 | B5: 科目名称 | C5: 账面价值 | D5: 评估价值 | E5: 增减值 | F5: 增值率%
A7: 4-7-1 | B7: 在建工程——土建工程 | C7: ='表4-7-1'!I21 -> 0 | D7: ='表4-7-1'!J21 -> 0 | E7: =D7-C7 -> 0 | F7: =E7/C7*100% -> #DIV/0!
A8: 4-7-2 | B8: 在建工程——设备安装工程 | C8: ='表4-7-2'!K22 -> 0 | D8: ='表4-7-2'!O22 -> 0 | E8: =D8-C8 -> 0 | F8: =E8/C8*100% -> #DIV/0!
A21: 在建工程合计 | C21: =SUM(C7:C20) -> 0 | D21: =SUM(D7:D20) -> 0
A22: 减：在建工程减值准备
A23: 在建工程合计 | C23: =C21-C22 -> 0 | D23: =D21-D22 -> 0
D24: =基本情况!A8 -> 评估人员：宋云鹏、王涛

Sheet 表4-7-1
A1: 在建工程—土建工程评估明细表评估明细表
A2: =基本情况!A3 -> 评估基准日： 2018年02月12日
L3: 表4-7-1 | N3: 目录
A4: ='表3-1-1'!A4 -> 被评估单位（或者产权持有单位）：哈尔滨市爱地方快餐有限责任公司 | M4: ='表4-6-5'!P4 -> 金额单位:人民币元
A5: 序号 | B5: 项目名称 | C5: 结构 | D5: 建筑面积/容积 | E5: 开工日期 | F5: 预计完工日期 | G5: 形象进度 | H5: 付款比例 | I5: 账面价值 | J5: 评估价值 | K5: 增减值 | L5: 增值率% | M5: 备注
A6: 1
A7: 2
A19: 合计 | I19: =SUM(I6:I18) -> 0 | J19: =SUM(J6:J18) -> 0
A20: 减:在建土建工程减值准备
A21: 合计 | I21: =I19-I20 -> 0 | J21: =J19-J20 -> 0
A22: =基本情况!A5 -> 被评估单位（或产权持有单位）填表人： | J22: =基本情况!A8 -> 评估人员：宋云鹏、王涛
A23: =基本情况!A6 -> 填表日期： 2018年02月12日

Sheet 表4-7-2
A1: 在建工程---设备安装工程评估明细表
A2: =基本情况!A3 -> 评估基准日： 2018年02月12日
P3: 表4-7-2 | S3: 目录
A4: =基本情况!A1 -> 被评估单位（或者产权持有单位）：哈尔滨市爱地方快餐有限责任公司 | R4: ='表4-7'!F4 -> 金额单位：人民币元
A5: 序号 | B5: 项目名称 | C5: 规格型号 | D5: 数量 | E5: 计量单位 | F5: 开工日期 | G5: 预计完工日期 | H5: 账面价值 | L5: 评估价值 | P5: 增减值 | Q5: 增值率% | R5: 备注
H6: 设备费 | I6: 资金成本 | J6: 安装费及其他 | K6: 合计 | L6: 设备费 | M6: 资金成本 | N6: 安装费及其他 | O6: 合计
A7: 1 | K7: =SUM(H7:J7) -> 0 | O7: =L7+M7+N7 -> 0
A8: =+A7+1 -> 2
A20: 合计 | K20: =SUM(K7:K19) -> 0 | O20: =SUM(O7:O19) -> 0
A21: 减:在建设备安装工程减值准备
A22: 合计 | K22: =SUM(K7:K21) -> 0 | O22: =SUM(O7:O21) -> 0
A23: =基本情况!A5 -> 被评估单位（或产权持有单位）填表人： | K23: =基本情况!A8 -> 评估人员：宋云鹏、王涛
A24: =基本情况!A6 -> 填表日期： 2018年02月12日

Sheet 表4-8
A1: 工程物资评估明细表
A2: =基本情况!A3 -> 评估基准日： 2018年02月12日
K3: 表4-8 | N3: 目录
A4: =基本情况!A1 -> 被评估单位（或者产权持有单位）：哈尔滨市爱地方快餐有限责任公司 | M4: ='表4-7'!F4 -> 金额单位：人民币元
A5: 序号 | B5: 名称 | C5: 工程项目 | D5: 计量单位 | E5: 账面价值 | H5: 评估价值 | K5: 增减值 | L5: 增值率% | M5: 备注
E6: 数量 | F6: 单价 | G6: 金额 | H6: 实际数量 | I6: 单价 | J6: 金额
A7: 1 | G7: =E7*F7 -> 0 | J7: =H7*I7 -> 0
A8: =+A7+1 -> 2
A20: 合计 | G20: =SUM(G7:G19) -> 0 | J20: =SUM(J7:J19) -> 0
A21: 减:工程物资减值准备
A22: 合计 | G22: =G20-G21 -> 0 | J22: =J20-J21 -> 0
A23: =基本情况!A5 -> 被评估单位（或产权持有单位）填表人： | G23: =基本情况!A8 -> 评估人员：宋云鹏、王涛
A24: =基本情况!A6 -> 填表日期： 2018年02月12日

Sheet 表4-9
A1: 固定资产清理评估明细表
A2: =基本情况!A3 -> 评估基准日： 2018年02月12日
H3: 表4-9 | I3: 目录
A4: =基本情况!A1 -> 被评估单位（或者产权持有单位）：哈尔滨市爱地方快餐有限责任公司 | H4: ='表4-8'!M4 -> 金额单位：人民币元
A5: 序号 | B5: 待处理资产名称 | C5: 发生日期 | D5: 账面价值 | E5: 评估价值 | F5: 增减值 | G5: 增值率% | H5: 备注
A7: 1
A8: =+A7+1 -> 2
A21: 合计 | D21: =SUM(D7:D20) -> 0 | E21: =SUM(E7:E20) -> 0
A22: =基本情况!A5 -> 被评估单位（或产权持有单位）填表人： | F22: =基本情况!A8 -> 评估人员：宋云鹏、王涛
A23: =基本情况!A6 -> 填表日期： 2018年02月12日

Sheet 表4-10
A1: 生产性生物资产评估明细表
A2: =基本情况!A3 -> 评估基准日： 2018年02月12日
L3: 表4-10 | N3: 目录
A4: =基本情况!A1 -> 被评估单位（或者产权持有单位）：哈尔滨市爱地方快餐有限责任公司 | M4: ='表4-7'!F4 -> 金额单位：人民币元
A5: 序号 | B5: 种类 | C5: 群别 | D5: 计量单位 | E5: 数量 | F5: 购置日期 | G5: 账面价值 | I5: 评估价值 | L5: 增值率% | M5: 备注
G6: 原值 | H6: 净值 | I6: 原值 | J6: 成新率% | K6: 净值
A7: 1
A8: =+A7+1 -> 2
A20: 合计 | H20: =SUM(H7:H19) -> 0 | K20: =SUM(K7:K19) -> 0
A21: 减:生产性生物资产减值准备
A22: 净额 | H22: =H20-H21 -> 0 | K22: =K20-K21 -> 0
A23: =基本情况!A5 -> 被评估单位（或产权持有单位）填表人： | K23: =基本情况!A8 -> 评估人员：宋云鹏、王涛
A24: =基本情况!A6 -> 填表日期： 2018年02月12日

Sheet 表4-11
A1: 油气资产评估明细表
A2: =基本情况!A3 -> 评估基准日： 2018年02月12日
M3: 表4-11 | O3: 目录
A4: =基本情况!A1 -> 被评估单位（或者产权持有单位）：哈尔滨市爱地方快餐有限责任公司 | N4: ='表4-7'!F4 -> 金额单位：人民币元
A5: 序号 | B5: 类别 | C5: 矿区(或油田) | D5: 计量单位 | E5: 数量 | F5: 形成日期 | G5: 来源(购入、自行建造） | H5: 账面价值 | J5: 评估价值 | M5: 增值率% | N5: 备注
H6: 原值 | I6: 净值 | J6: 原值 | K6: 成新率% | L6: 净值
A7: 1
A8: =+A7+1 -> 2
A20: 合计 | I20: =SUM(I7:I19) -> 0 | L20: =SUM(L7:L19) -> 0
A21: 减:油气资产减值准备
A22: 合计 | I22: =I20-I21 -> 0 | L22: =L20-L21 -> 0
A23: =基本情况!A5 -> 被评估单位（或产权持有单位）填表人： | L23: =基本情况!A8 -> 评估人员：宋云鹏、王涛
A24: =基本情况!A6 -> 填表日期： 2018年02月12日

Sheet 表4-12
A1: 无形资产评估汇总表
A2: =基本情况!A3 -> 评估基准日： 2018年02月12日
F3: 表4-12 | G3: 目录
A4: =基本情况!A1 -> 被评估单位（或者产权持有单位）：哈尔滨市爱地方快餐有限责任公司 | F4: 金额单位：人民币元
A5: 编号 | B5: 科目名称 | C5: 账面价值 | D5: 评估价值 | E5: 增减值 | F5: 增值率%
A7: 4-12-1 | B7: 无形资产——土地使用权 | C7: ='表4-12-1'!L21 -> 0 | D7: ='表4-12-1'!M21 -> 0 | E7: =D7-C7 -> 0 | F7: =E7/C7*100% -> #DIV/0!
A8: 4-12-2 | B8: 无形资产——矿业权 | C8: ='表4-12-2'!J21 -> 0 | D8: ='表4-12-2'!K21 -> 0 | E8: =D8-C8 -> 0 | F8: =E8/C8*100% -> #DIV/0!
A9: 4-12-3 | B9: 无形资产——其他无形资产 | C9: ='表4-12-3'!F21 -> 0 | D9: ='表4-12-3'!G21 -> 0 | E9: =D9-C9 -> 0 | F9: =E9/C9*100% -> #DIV/0!
A18: 合计 | C18: =SUM(C7:C17) -> 0 | D18: =SUM(D7:D17) -> 0
A19: 减：无形资产减值准备
A20: 合计 | C20: =C18-C19 -> 0 | D20: =D18-D19 -> 0
D21: =基本情况!A8 -> 评估人员：宋云鹏、王涛

Sheet 表4-12-1
A1: 无形资产—土地使用权评估明细表
A2: =基本情况!A3 -> 评估基准日： 2018年02月12日
O3: 表4-12-1 | Q3: 目录
A4: ='表3-1-1'!A4 -> 被评估单位（或者产权持有单位）：哈尔滨市爱地方快餐有限责任公司 | P4: ='表4-6-5'!P4 -> 金额单位:人民币元
A5: 序号 | B5: 土地权证编号 | C5: 宗地名称 | D5: 土地位置 | E5: 取得日期 | F5: 用地性质 | G5: 土地用途 | H5: 准用年限 | I5: 开发程度 | J5: 面积（㎡) | K5: 原始入账价值 | L5: 账面价值 | M5: 评估价值 | N5: 增减值 | O5: 增值率% | P5: 备注
A6: 1
A7: 2
A21: 合计 | L21: =SUM(L6:L20) -> 0 | M21: =SUM(M6:M20) -> 0
A22: =基本情况!A5 -> 被评估单位（或产权持有单位）填表人： | M22: =基本情况!A8 -> 评估人员：宋云鹏、王涛
A23: =基本情况!A6 -> 填表日期： 2018年02月12日

Sheet 表4-12-2
A1: 无形资产—矿业权评估明细表
A2: =基本情况!A3 -> 评估基准日： 2018年02月12日
M3: 表4-12-2 | O3: 目录
A4: ='表3-1-1'!A4 -> 被评估单位（或者产权持有单位）：哈尔滨市爱地方快餐有限责任公司 | N4: ='表4-6-5'!P4 -> 金额单位:人民币元
A5: 序号 | B5: 名称、种类（探矿权/采矿权) | C5: 勘查(采矿)许可证编号 | D5: 取得方式 | E5: 取得日期 | F5: 剩余有效年限 | G5: 勘查开发阶段 | H5: 核定(批准)生产规模 | I5: 原始入账价值 | J5: 账面价值 | K5: 评估价值 | L5: 增减值 | M5: 增值率% | N5: 备注
A6: 1
A7: 2
A21: 合计 | J21: =SUM(J6:J20) -> 0 | K21: =SUM(K6:K20) -> 0
A22: =基本情况!A5 -> 被评估单位（或产权持有单位）填表人： | K22: =基本情况!A8 -> 评估人员：宋云鹏、王涛
A23: =基本情况!A6 -> 填表日期： 2018年02月12日

Sheet 表4-12-3
A1: 无形资产—其他无形资产评估明细表
A2: =基本情况!A3 -> 评估基准日： 2018年02月12日
J3: 表4-12-3 | L3: 目录
A4: ='表3-1-1'!A4 -> 被评估单位（或者产权持有单位）：哈尔滨市爱地方快餐有限责任公司 | K4: ='表4-6-5'!P4 -> 金额单位:人民币元
A5: 序号 | B5: 无形资产名称和内容 | C5: 取得日期 | D5: 法定/预计使用年限 | E5: 原始入账价值 | F5: 账面价值 | G5: 尚可使用年限 | H5: 评估价值 | I5: 增减值 | J5: 增值率% | K5: 备注
A6: 1
A7: 2
A21: 合计 | F21: =SUM(F6:F20) -> 0 | H21: =SUM(H6:H20) -> 0
A22: =基本情况!A5 -> 被评估单位（或产权持有单位）填表人： | H22: =基本情况!A8 -> 评估人员：宋云鹏、王涛
A23: =基本情况!A6 -> 填表日期： 2018年02月12日

Sheet 表4-13
A1: 开发支出评估明细表
A2: =基本情况!A3 -> 评估基准日： 2018年02月12日
G3: 表4-13 | I3: 目录
A4: ='表3-1-1'!A4 -> 被评估单位（或者产权持有单位）：哈尔滨市爱地方快餐有限责任公司 | H4: ='表4-6-5'!P4 -> 金额单位:人民币元
A5: 序号 | B5: 内容或名称 | C5: 发生日期 | D5: 账面价值 | E5: 评估价值 | F5: 增减值 | G5: 增值率% | H5: 备注
A6: 1
A7: 2
A21: 合计 | D21: =SUM(D6:D20) -> 0 | E21: =SUM(E6:E20) -> 0
A22: =基本情况!A5 -> 被评估单位（或产权持有单位）填表人： | E22: =基本情况!A8 -> 评估人员：宋云鹏、王涛
A23: =基本情况!A6 -> 填表日期： 2018年02月12日

Sheet 表4-14
A1: 商誉评估明细表
A2: =基本情况!A3 -> 评估基准日： 2018年02月12日
G3: 表4-14 | I3: 目录
A4: ='表3-1-1'!A4 -> 被评估单位（或者产权持有单位）：哈尔滨市爱地方快餐有限责任公司 | H4: ='表4-6-5'!P4 -> 金额单位:人民币元
A5: 序号 | B5: 内容或名称 | C5: 取得日期 | D5: 账面价值 | E5: 评估价值 | F5: 增减值 | G5: 增值率% | H5: 备注
A6: 1
A7: 2
A19: 合计 | D19: =SUM(D6:D18) -> 0 | E19: =SUM(E6:E18) -> 0
A20: 减:商誉减值准备
A21: 合计 | D21: =D19-D20 -> 0 | E21: =E19-E20 -> 0
A22: =基本情况!A5 -> 被评估单位（或产权持有单位）填表人： | E22: =基本情况!A8 -> 评估人员：宋云鹏、王涛
A23: =基本情况!A6 -> 填表日期： 2018年02月12日

Sheet 表4-15
A1: 长期待摊费用评估明细表
A2: =基本情况!A3 -> 评估基准日： 2018年02月12日
K3: 表4-15 | L3: 目录
A4: =基本情况!A1 -> 被评估单位（或者产权持有单位）：哈尔滨市爱地方快餐有限责任公司 | K4: ='表4-14'!H4 -> 金额单位:人民币元
A5: 序号 | B5: 费用名称或内容 | C5: 形成日期 | D5: 原始发生额 | E5: 预计摊销月数 | F5: 账面价值 | G5: 尚存受益月数 | H5: 评估价值 | I5: 增减值 | J5: 增值率% | K5: 备注
A7: 1
A8: =+A7+1 -> 2
A21: 合计 | D21: =SUM(D7:D20) -> 0 | F21: =SUM(F7:F20) -> 0 | H21: =SUM(H7:H20) -> 0
A22: =基本情况!A5 -> 被评估单位（或产权持有单位）填表人： | H22: =基本情况!A8 -> 评估人员：宋云鹏、王涛
A23: =基本情况!A6 -> 填表日期： 2018年02月12日

Sheet 表4-16
A1: 递延所得税资产评估明细表
A2: =基本情况!A3 -> 评估基准日： 2018年02月12日
F3: 表4-16 | G3: 目录
A4: =基本情况!A1 -> 被评估单位（或者产权持有单位）：哈尔滨市爱地方快餐有限责任公司 | F4: ='表4-15'!K4 -> 金额单位:人民币元
A5: 序号 | B5: 内容或名称 | C5: 发生日期 | D5: 账面价值 | E5: 评估价值 | F5: 备注
A7: 1
A8: =+A7+1 -> 2
A21: 合 计 | D21: =SUM(D7:D20) -> 0 | E21: =SUM(E7:E20) -> 0
A22: =基本情况!A5 -> 被评估单位（或产权持有单位）填表人： | E22: =基本情况!A8 -> 评估人员：宋云鹏、王涛
A23: =基本情况!A6 -> 填表日期： 2018年02月12日

Sheet 表4-17
A1: 其他非流动资产评估明细表
A2: =基本情况!A3 -> 评估基准日： 2018年02月12日
I3: 表4-17 | J3: 目录
A4: =基本情况!A1 -> 被评估单位（或者产权持有单位）：哈尔滨市爱地方快餐有限责任公司 | I4: ='表4-15'!K4 -> 金额单位:人民币元
A5: 序号 | B5: 内容或名称 | C5: 取得日期 | D5: 发生日期 | E5: 账面价值 | F5: 评估价值 | G5: 增减值 | H5: 增值率% | I5: 备注
A7: 1
A8: =+A7+1 -> 2
A21: 合 计 | E21: =SUM(E7:E20) -> 0 | F21: =SUM(F7:F20) -> 0
A22: =基本情况!A5 -> 被评估单位（或产权持有单位）填表人： | F22: =基本情况!A8 -> 评估人员：宋云鹏、王涛
A23: =基本情况!A6 -> 填表日期： 2018年02月12日

Sheet 表5
A1: 流动负债评估汇总表
A2: =基本情况!A3 -> 评估基准日： 2018年02月12日
F3: 表5 | G3: 目录
A4: =基本情况!A1 -> 被评估单位（或者产权持有单位）：哈尔滨市爱地方快餐有限责任公司 | F4: =表2!F4 -> 金额单位：人民币元
A5: 序号 | B5: 科目名称 | C5: 账面价值 | D5: 评估价值 | E5: 增减值 | F5: 增值率%
A7: 5-1 | B7: 短期借款 | C7: ='表5-1'!H21 -> 0 | D7: ='表5-1'!J21 -> 0 | E7: =D7-C7 -> 0 | F7: =E7/C7*100% -> #DIV/0!
A8: 5-2 | B8: 交易性金融资产 | C8: ='表5-2'!E21 -> 0 | D8: ='表5-2'!F21 -> 0 | E8: =D8-C8 -> 0 | F8: =E8/C8*100% -> #DIV/0!
A9: 5-3 | B9: 应付票据 | C9: ='表5-3'!F21 -> 0 | D9: ='表5-3'!G21 -> 0 | E9: =D9-C9 -> 0 | F9: =E9/C9*100% -> #DIV/0!
A10: 5-4 | B10: 应付账款 | C10: ='表5-4'!E21 -> 0 | D10: ='表5-4'!F21 -> 0 | E10: =D10-C10 -> 0 | F10: =E10/C10*100% -> #DIV/0!
A11: 5-5 | B11: 预收账款 | C11: ='表5-5'!E21 -> 0 | D11: ='表5-5'!F21 -> 0 | E11: =D11-C11 -> 0 | F11: =E11/C11*100% -> #DIV/0!
A12: 5-6 | B12: 应付职工薪酬 | C12: ='表5-6'!D22 -> 0 | D12: ='表5-6'!E22 -> 0 | E12: =D12-C12 -> 0 | F12: =E12/C12*100% -> #DIV/0!
A13: 5-7 | B13: 应交税费 | C13: ='表5-7'!E21 -> 0 | D13: ='表5-7'!F21 -> 0 | E13: =D13-C13 -> 0 | F13: =E13/C13*100% -> #DIV/0!
A14: 5-8 | B14: 应付利息 | C14: ='表5-8'!G21 -> 0 | D14: ='表5-8'!H21 -> 0 | E14: =D14-C14 -> 0 | F14: =E14/C14*100% -> #DIV/0!
A15: 5-9 | B15: 应付股利（应付利润） | C15: ='表5-9'!E21 -> 0 | D15: ='表5-9'!F21 -> 0 | E15: =D15-C15 -> 0 | F15: =E15/C15*100% -> #DIV/0!
A16: 5-10 | B16: 其他应付款 | C16: ='表5-10'!E21 -> 0 | D16: ='表5-10'!F21 -> 0 | E16: =D16-C16 -> 0 | F16: =E16/C16*100% -> #DIV/0!
A17: 5-11 | B17: 一年内到期的非流动负债 | C17: ='表5-11'!F21 -> 0 | D17: ='表5-11'!G21 -> 0 | E17: =D17-C17 -> 0 | F17: =E17/C17*100% -> #DIV/0!
A18: 5-12 | B18: 其他流动负债 | C18: ='表5-12'!E21 -> 0 | D18: ='表5-12'!F21 -> 0 | E18: =D18-C18 -> 0 | F18: =E18/C18*100% -> #DIV/0!
E19: =D19-C19 -> 0 | F19: =E19/C19*100% -> #DIV/0!
A20: 流动负债合计 | C20: =SUM(C7:C19) -> 0 | D20: =SUM(D7:D19) -> 0 | E20: =D20-C20 -> 0 | F20: =E20/C20*100% -> #DIV/0!
E21: =基本情况!A8 -> 评估人员：宋云鹏、王涛

Sheet 表5-1
A1: 短期借款评估明细表
A2: =基本情况!A3 -> 评估基准日： 2018年02月12日
K3: 表5-1 | L3: 目录
A4: ='表3-1-1'!A4 -> 被评估单位（或者产权持有单位）：哈尔滨市爱地方快餐有限责任公司 | K4: ='表4-16'!F4 -> 金额单位:人民币元
A5: 序号 | B5: 放款银行（或机构）名称 | C5: 发生日期 | D5: 到期日 | E5: 月利率‰ | F5: 币种 | G5: 外币金额 | H5: 账面价值 | I5: 外币基准日汇率 | J5: 评估价值 | K5: 备注
A7: 1
A8: 2
A21: 合计 | H21: =SUM(H7:H20) -> 0 | J21: =SUM(J7:J20) -> 0
A22: =基本情况!A5 -> 被评估单位（或产权持有单位）填表人： | H22: =基本情况!A8 -> 评估人员：宋云鹏、王涛
A23: =基本情况!A6 -> 填表日期： 2018年02月12日

Sheet 表5-2
A1: 交易性金融负债评估明细表
A2: =基本情况!A3 -> 评估基准日： 2018年02月12日
G3: 表5-2 | H3: 目录
A4: ='表3-1-1'!A4 -> 被评估单位（或者产权持有单位）：哈尔滨市爱地方快餐有限责任公司 | G4: ='表4-16'!F4 -> 金额单位:人民币元
A5: 序号 | B5: 户名（结算对象） | C5: 发生日期 | D5: 业务内容 | E5: 账面价值 | F5: 评估价值 | G5: 备注
A7: 1
A8: 2
A21: 合计 | E21: =SUM(E7:E20) -> 0 | F21: =SUM(F7:F20) -> 0
A22: =基本情况!A5 -> 被评估单位（或产权持有单位）填表人： | E22: =基本情况!A8 -> 评估人员：宋云鹏、王涛
A23: =基本情况!A6 -> 填表日期： 2018年02月12日

Sheet 表5-3
A1: 应付票据清查评估明细表
A2: =基本情况!A3 -> 评估基准日： 2018年02月12日
H3: 表5-3 | I3: 目录
A4: =基本情况!A1 -> 被评估单位（或者产权持有单位）：哈尔滨市爱地方快餐有限责任公司 | H4: ='表5-1'!K4 -> 金额单位:人民币元
A5: 序号 | B5: 户名（结算对象） | C5: 发生日期 | D5: 到期日 | E5: 票面利率% | F5: 账面价值 | G5: 评估价值 | H5: 备注
A7: 1
A8: =A7+1 -> 2
A21: 合计 | F21: =SUM(F7:F20) -> 0 | G21: =SUM(G7:G20) -> 0
A22: =基本情况!A5 -> 被评估单位（或产权持有单位）填表人： | G22: =基本情况!A8 -> 评估人员：宋云鹏、王涛
A23: =基本情况!A6 -> 填表日期： 2018年02月12日

Sheet 表5-4
A1: 应付账款评估明细表
A2: =基本情况!A3 -> 评估基准日： 2018年02月12日
G3: 表5-4 | H3: 目录
A4: =基本情况!A1 -> 被评估单位（或者产权持有单位）：哈尔滨市爱地方快餐有限责任公司 | G4: ='表5-1'!K4 -> 金额单位:人民币元
A5: 序号 | B5: 户名（结算对象） | C5: 发生日期 | D5: 业务内容 | E5: 账面价值 | F5: 评估价值 | G5: 备注
A7: 1
A8: =A7+1 -> 2
A21: 合计 | E21: =SUM(E7:E20) -> 0 | F21: =SUM(F7:F20) -> 0
A22: =基本情况!A5 -> 被评估单位（或产权持有单位）填表人： | F22: =基本情况!A8 -> 评估人员：宋云鹏、王涛
A23: =基本情况!A6 -> 填表日期： 2018年02月12日

Sheet 表5-5
A1: 预收账款评估明细表
A2: =基本情况!A3 -> 评估基准日： 2018年02月12日
G3: 表5-3 | H3: 目录
A4: =基本情况!A1 -> 被评估单位（或者产权持有单位）：哈尔滨市爱地方快餐有限责任公司 | G4: ='表5-1'!K4 -> 金额单位:人民币元
A5: 序号 | B5: 户名（结算对象） | C5: 发生日期 | D5: 业务内容 | E5: 账面价值 | F5: 评估价值 | G5: 备注
A7: 1
A8: =A7+1 -> 2
A21: 合计 | E21: =SUM(E7:E20) -> 0 | F21: =SUM(F7:F20) -> 0
A22: =基本情况!A5 -> 被评估单位（或产权持有单位）填表人： | F22: =基本情况!A8 -> 评估人员：宋云鹏、王涛
A23: =基本情况!A6 -> 填表日期： 2018年02月12日

Sheet 表5-6
A1: 应付职工薪酬评估明细表
A2: =基本情况!A3 -> 评估基准日： 2018年02月12日
F3: 表5-6 | G3: 目录
A4: =基本情况!A1 -> 被评估单位（或者产权持有单位）：哈尔滨市爱地方快餐有限责任公司 | F4: ='表5-1'!K4 -> 金额单位:人民币元
A5: 序号 | B5: 结算内容 | C5: 发生日期 | D5: 账面价值 | E5: 评估价值 | F5: 备注
A7: 1 | B7: 工资、奖金、津贴和补贴
A8: 2 | B8: 职工福利费
A9: 3 | B9: 医疗保险费
A10: 4 | B10: 基本养老保险费
A11: 5 | B11: 年金缴费
A12: 6 | B12: 失业保险费
A13: 7 | B13: 工伤保险费
A14: 8 | B14: 生育保险费
A15: 9 | B15: 住房公积金
A16: 10 | B16: 工会经费
A17: 11 | B17: 职工教育经费
A18: 12 | B18: 非货币性福利
... A21: 15 | B21: 其他
A22: 合计 | D22: =SUM(D7:D20) -> 0 | E22: =SUM(E7:E20) -> 0
A23: =基本情况!A5 -> 被评估单位（或产权持有单位）填表人： | E23: =基本情况!A8 -> 评估人员：宋云鹏、王涛
A24: =基本情况!A6 -> 填表日期： 2018年02月12日

Sheet 表5-7
A1: 应交税费评估明细表
A2: =基本情况!A3 -> 评估基准日： 2018年02月12日
G3: 表5-7 | H3: 目录
A4: =基本情况!A1 -> 被评估单位（或者产权持有单位）：哈尔滨市爱地方快餐有限责任公司 | G4: ='表5-1'!K4 -> 金额单位:人民币元
A5: 序号 | B5: 征税机关 | C5: 发生日期 | D5: 税费种类 | E5: 账面价值 | F5: 评估价值 | G5: 备注
A7: 1
A8: =A7+1 -> 2
A21: 合计 | E21: =SUM(E7:E20) -> 0 | F21: =SUM(F7:F20) -> 0
A22: =基本情况!A5 -> 被评估单位（或产权持有单位）填表人： | F22: =基本情况!A8 -> 评估人员：宋云鹏、王涛
A23: =基本情况!A6 -> 填表日期： 2018年02月12日

Sheet 表5-8
A1: 应付利息评估明细表
A2: =基本情况!A3 -> 评估基准日： 2018年02月12日
I3: 表5-8 | J3: 目录
A4: =基本情况!A1 -> 被评估单位（或者产权持有单位）：哈尔滨市爱地方快餐有限责任公司 | I4: ='表5-1'!K4 -> 金额单位:人民币元
A5: 序号 | B5: 户名（结算对象） | C5: 发生日期 | D5: 本金 | E5: 利息所属期间 | F5: 利息率% | G5: 账面价值 | H5: 评估价值 | I5: 备注
A7: 1
A8: =A7+1 -> 2
A21: 合计 | G21: =SUM(G7:G20) -> 0 | H21: =SUM(H7:H20) -> 0
A22: =基本情况!A5 -> 被评估单位（或产权持有单位）填表人： | H22: =基本情况!A8 -> 评估人员：宋云鹏、王涛
A23: =基本情况!A6 -> 填表日期： 2018年02月12日

Sheet 表5-9
A1: 应付股利（应付利润）评估明细表
A2: =基本情况!A3 -> 评估基准日： 2018年02月12日
G3: 表5-9 | H3: 目录
A4: =基本情况!A1 -> 被评估单位（或者产权持有单位）：哈尔滨市爱地方快餐有限责任公司 | G4: ='表5-1'!K4 -> 金额单位:人民币元
A5: 序号 | B5: 投资单位名称（股东） | C5: 发生日期 | D5: 利润所属期间 | E5: 账面价值 | F5: 评估价值 | G5: 备注
A7: 1
A8: =A7+1 -> 2
A21: 合计 | E21: =SUM(E7:E20) -> 0 | F21: =SUM(F7:F20) -> 0
A22: =基本情况!A5 -> 被评估单位（或产权持有单位）填表人： | F22: =基本情况!A8 -> 评估人员：宋云鹏、王涛
A23: =基本情况!A6 -> 填表日期： 2018年02月12日

Sheet 表5-10
A1: 其他应付款评估明细表
A2: =基本情况!A3 -> 评估基准日： 2018年02月12日
G3: 表5-10 | H3: 目录
A4: =基本情况!A1 -> 被评估单位（或者产权持有单位）：哈尔滨市爱地方快餐有限责任公司 | G4: ='表5-1'!K4 -> 金额单位:人民币元
A5: 序号 | B5: 户名（结算对象） | C5: 发生日期 | D5: 业务内容 | E5: 账面价值 | F5: 评估价值 | G5: 备注
A7: 1
A8: =A7+1 -> 2
A21: 合计 | E21: =SUM(E7:E20) -> 0 | F21: =SUM(F7:F20) -> 0
A22: =基本情况!A5 -> 被评估单位（或产权持有单位）填表人： | F22: =基本情况!A8 -> 评估人员：宋云鹏、王涛
A23: =基本情况!A6 -> 填表日期： 2018年02月12日

Sheet 表5-11
A1: 一年内到期的非流动负债评估明细表
A2: =基本情况!A3 -> 评估基准日： 2018年02月12日
H3: 表5-11 | I3: 目录
A4: =基本情况!A1 -> 被评估单位（或者产权持有单位）：哈尔滨市爱地方快餐有限责任公司 | H4: ='表5-1'!K4 -> 金额单位:人民币元
A5: 序号 | B5: 结算项目 | C5: 发生日期 | D5: 到期日 | E5: 票面月利率% | F5: 账面价值 | G5: 评估价值 | H5: 备注
A7: 1
A8: =A7+1 -> 2
A21: 合计 | F21: =SUM(F7:F20) -> 0 | G21: =SUM(G7:G20) -> 0
A22: =基本情况!A5 -> 被评估单位（或产权持有单位）填表人： | G22: =基本情况!A8 -> 评估人员：宋云鹏、王涛
A23: =基本情况!A6 -> 填表日期： 2018年02月12日

Sheet 表5-12
A1: 其他流动负债评估明细表
A2: =基本情况!A3 -> 评估基准日： 2018年02月12日
G3: 表5-12 | H3: 目录
A4: =基本情况!A1 -> 被评估单位（或者产权持有单位）：哈尔滨市爱地方快餐有限责任公司 | G4: ='表5-1'!K4 -> 金额单位:人民币元
A5: 序号 | B5: 户名（结算对象） | C5: 发生日期 | D5: 结算内容 | E5: 账面价值 | F5: 评估价值 | G5: 备注
A7: 1
A8: =A7+1 -> 2
A21: 合计 | E21: =SUM(E7:E20) -> 0 | F21: =SUM(F7:F20) -> 0
A22: =基本情况!A5 -> 被评估单位（或产权持有单位）填表人： | F22: =基本情况!A8 -> 评估人员：宋云鹏、王涛
A23: =基本情况!A6 -> 填表日期： 2018年02月12日

Sheet 表6
A1: 非流动负债评估汇总表
A2: =基本情况!A3 -> 评估基准日： 2018年02月12日
F3: 表6 | G3: 目录
A4: =基本情况!A1 -> 被评估单位（或者产权持有单位）：哈尔滨市爱地方快餐有限责任公司 | F4: ='表5-1'!K4 -> 金额单位:人民币元
A5: 编号 | B5: 科目名称 | C5: 账面价值 | D5: 评估价值 | E5: 增减值 | F5: 增值率%
A7: 6-1 | B7: 长期借款 | C7: ='表6-1'!H21 -> 0 | D7: ='表6-1'!J21 -> 0 | E7: =D7-C7 -> 0 | F7: =E7/C7*100% -> #DIV/0!
A8: 6-2 | B8: 应付债券 | C8: ='表6-2'!G21 -> 0 | D8: ='表6-2'!H21 -> 0 | E8: =D8-C8 -> 0 | F8: =E8/C8*100% -> #DIV/0!
A9: 6-3 | B9: 长期应付款 | C9: ='表6-3'!G21 -> 0 | D9: ='表6-3'!H21 -> 0 | E9: =D9-C9 -> 0 | F9: =E9/C9*100% -> #DIV/0!
A10: 6-4 | B10: 专项应付款 | C10: ='表6-4'!E21 -> 0 | D10: ='表6-4'!F21 -> 0 | E10: =D10-C10 -> 0 | F10: =E10/C10*100% -> #DIV/0!
A11: 6-5 | B11: 预计负债 | C11: ='表6-5'!E21 -> 0 | D11: ='表6-5'!F21 -> 0 | E11: =D11-C11 -> 0 | F11: =E11/C11*100% -> #DIV/0!
A12: 6-6 | B12: 递延所得税负债 | C12: ='表6-6'!D21 -> 0 | D12: ='表6-6'!E21 -> 0 | E12: =D12-C12 -> 0 | F12: =E12/C12*100% -> #DIV/0!
A13: 6-7 | B13: 其他非流动负债 | C13: ='表6-7'!E21 -> 0 | D13: ='表6-7'!F21 -> 0 | E13: =D13-C13 -> 0 | F13: =E13/C13*100% -> #DIV/0!
A21: 非流动负债合计 | C21: =SUM(C7:C20) -> 0 | D21: =SUM(D7:D20) -> 0
D22: =基本情况!A8 -> 评估人员：宋云鹏、王涛

Sheet 表6-1
A1: 长期借款评估明细表
A2: =基本情况!A3 -> 评估基准日： 2018年02月12日
K3: 表6-1 | L3: 目录
A4: =基本情况!A1 -> 被评估单位（或者产权持有单位）：哈尔滨市爱地方快餐有限责任公司 | K4: ='表5-1'!K4 -> 金额单位:人民币元
A5: 序号 | B5: 放款银行（或机构）名称 | C5: 发生日期 | D5: 到期日 | E5: 月利率% | F5: 币种 | G5: 外币金额 | H5: 账面价值 | I5: 外币基准日汇率 | J5: 评估价值 | K5: 备注
A7: 1
A8: =A7+1 -> 2
A21: 合计 | H21: =SUM(H7:H20) -> 0 | J21: =SUM(J7:J20) -> 0
A22: =基本情况!A5 -> 被评估单位（或产权持有单位）填表人： | J22: =基本情况!A8 -> 评估人员：宋云鹏、王涛
A23: =基本情况!A6 -> 填表日期： 2018年02月12日

Sheet 表6-2
A1: 应付债券评估明细表
A2: =基本情况!A3 -> 评估基准日： 2018年02月12日
I3: 表6-2 | J3: 目录
