Workbook

Sheet 资产负债表(旧)
A1: 返回索引页
A2: 资产负债表
A3: 2007年6月30日
A4: #REF! | J4: 金额单位：人民币元
A5: 资产 | B5: 序号 | C5: 期初数 | D5: 期末数 | E5: 备注 | F5: 负债及所有者权益 | G5: 序号 | H5: 期初数 | I5: 期末数 | J5: 备注
A6: 流动资产： | B6: 1 | F6: 流动负债： | G6: 41
A7: 货币资金 | B7: 2 | F7: 短期借款 | G7: 42
A8: 短期投资 | B8: 3 | F8: 应付票据 | G8: 45
A9: 应收票据 | B9: 4 | F9: 应付账款 | G9: 46
A10: 应收账款 | B10: 5 | F10: 预收账款 | G10: 47
A11: 减：坏账准备 | B11: 6 | F11: 代销商品款 | G11: 48
A12: 应收账款净额 | B12: 7 | F12: 其他应付款 | G12: 49
A13: 应收股利 | B13: 8 | F13: 应付工资 | G13: 50
A14: 应收利息 | B14: 9 | F14: 应付福利费 | G14: 51
A15: 预付账款 | B15: 10 | F15: 应交税金 | G15: 52
A16: 应收补贴款 | B16: 11 | F16: 应付利润 | G16: 53
A17: 其他应收款 | B17: 12 | F17: 其他未交款 | G17: 54
... A20: 存货 | B20: 15 | F20: 其他流动负债 | G20: 54
A21: 待摊费用 | B21: 16 | F21: 流动负债合计 | G21: 55 | H21: =SUM(H7:H20) -> 0 | I21: =SUM(I7:I20) -> 0
A22: 待处理流动资产净损失 | B22: 17
A23: 一年内到期的长期债券投资 | B23: 18
A24: 其他流动资产 | B24: 19 | F24: 长期借款 | G24: 56
A25: 流动资产合计 | B25: 20 | C25: =SUM(C7:C9,C12:C16,C19:C24) -> 0 | D25: =SUM(D7:D9,D12:D16,D19:D24) -> 0 | F25: 应付债券 | G25: 57
A26: 长期投资 | B26: 21 | F26: 长期应付款 | G26: 58
A27: 固定资产 | B27: 22 | F27: 专项应付款 | G27: 59
A28: 固定资产原价 | B28: 23 | F28: 其他长期负债 | G28: 60
A29: 减：累计折旧 | B29: 24 | F29: 递延税款贷项 | G29: 61
A30: 固定资产减值 | B30: 25 | F30: 长期负债合计 | G30: 62 | H30: =SUM(H24:H29) -> 0 | I30: =SUM(I24:I29) -> 0
A31: 固定资产净额 | B31: 26
A32: 工程物资 | B32: 27 | F32: 負債合計 | G32: 63 | H32: =H21+H30 -> 0 | I32: =I21+I30 -> 0
A33: 在建工程 | B33: 28
A34: 固定资产清理 | B34: 29
A35: 待处理固定资产净损失 | B35: 30
A36: 固定资产合计 | B36: 31 | C36: =SUM(C31,C32,C33,C34,C35) -> 0 | D36: =SUM(D31,D32,D33,D34,D35) -> 0
A37: 无形资产合计 | B37: 32 | C37: =SUM(C38:C39) -> 0 | D37: =SUM(D38:D39) -> 0 | F37: 所有者权益： | G37: 64
A38: 其中：土地使用权 | B38: 33 | F38: 实收资本 | G38: 65
A39: 其他无形资产 | B39: 34 | F39: 资本公积 | G39: 66
A40: 递延资产合计 | B40: 35 | C40: =SUM(C41:C42) -> 0 | D40: =SUM(D41:D42) -> 0 | F40: 盈余公积 | G40: 67
A41: 其中：开办费 | B41: 36 | F41: 其中： 公益金 | G41: 68
A42: 长期待摊费用 | B42: 37 | F42: 上级拨入资金/撥付所屬資金 | G42: 69
...

Sheet 封面
B3: 资产评估清查评估明细表系统 | N3: 资产评估清查评估明细表系统
B4: 填表前请先阅读填表说明 | N4: 填表前请先阅读填表说明
D5: 资产申报单位请填写以下内容： | P5: 评估机构填写以下内容：
B6: 产权持有人名称： | D6: 阳煤集团青岛恒源化工有限公司 | N6: 评估机构名称： | P6: 山西诚成资产评估有限公司
B8: 评估基准日： | D8: 2018 | E8: 年 | F8: 12 | G8: 月 | H8: 31 | I8: 日 | N8: 地址：
B10: 产权持有单位填表人： | D10: 杨庆华 | N10: 联系电话： | R10: 传真：
B12: 填表日期： | D12: 2019 | E12: 年 | F12: 1 | G12: 月 | H12: 24 | I12: 日 | N12: 法定代表人： | R12: 法定代表授权人：
B14: 被评估单位住址： | N14: 项目负责人： | Q14: 邮箱：
B16: 被评估单位负责人： | N16: 签字注册资产评估师： | P16: 杜沛淼、许建爱
B18: 被评估单位注册资本： | N18: 流动资产评估人员：
B20: 被评估单位经营范围： | N20: 存货评估人员： | P20: 巨芳
B22: 被评估单位联系人： | N22: 非流动资产评估人员：
B24: 被评估单位联系电话： | N24: 设备类评估人员： | P24: 杜沛淼、路艳
B26: 被评估单位邮箱： | N26: 建筑物类评估人员：
B28: 委托单位名称： | N28: 无形资产评估人员：
B30: 委托单位联系人： | N30: 负债评估人员：
B32: 委托单位电话： | N32: 收益法评估人员：

Sheet 填表注意事项
A2: 1、 | B2: 本工作簿用于资产评估委托方或被评估单位对评估基准日下的委估资产及负债的账面价值的申报；
B3: 请贵单位填表人员按要求对各工作表中（所有汇总表自动汇总，不需填列可自动生成）序号栏至账面值栏据
B4: 实填写；需要单独说明的事项在备注栏注明；
A6: 2、 | B6: 此表各科目明细的合计数，应与本次资产评估范围内的资产评估基准日的资产负债表的数据相符；
A8: 3、 | B8: 如有债权、债务性资产的未达、坏帐及实物性资产的毁损、报废等的项目应在其备注中说明；
A10: 4、 | B10: 明细表中如有日期档，除各明细表中有具体要求外，其格式应为“XXXX-XX”；
B11: 例：“2003年05月16日”应填为“2003-05”
B12: 如无法确定具体月份，请将月份填为01月；
B13: 例：“2003年”应填为“2003-01”
B14: 如为累计发生的业务，请按一年以内、1-2年、2-3年、3-5年、5年以上等账龄段分行分别填列；
A16: 5、 | B16: 如明细表的行数不够时，请填表人员在“合计”的上两行进行插入行，不能在表中插列,不以免汇总表的公式链接被破坏。
A18: 6、 | B18: 填表人可通过“索引目录”来选择要查看或修改的科目。
A20: 7、 | B20: 填表人可通过点击各汇总表中的“科目名称”进入各明细表，再通过点击各工作表最后一行的“合计”来返回上一级科目。
A22: 8、 | B22: 不需用的科目不要删除，隐藏即可
A23: 注： | B23: 除以上要求企业填写的或按具体情况评估人员另作要求填写的档或项，企业不应对此套表的其它部分
B24: 作任何修改变动，谢谢合作！
B27: 如有疑问请与我所或我所现场人员联系
B28: 联系电话：0351-4118928 传真： | F28: 0351-4118928

Sheet 索引目录
A1: 资产评估明细表索引目录
D3: 汇总表
B5: 分类汇总表(资产) | C5: 流动资产 | D5: 货币资金 | E5: 现金 | F5: 分类汇总表(负债) | G5: 流动负债 | H5: 短期借款
E6: 银行存款 | H6: 交易性金融负债
E7: 其他货币资金 | H7: 应付票据
D8: 交易性金融资产 | E8: 股票投资 | H8: 应付账款
D9: 应收票据 | E9: 债券投资 | H9: 预收账款
D10: 应收账款 | E10: 基金投资 | H10: 职工薪酬
D11: 预付账款 | H11: 应交税费
D12: 应收利息 | H12: 应付利息
D13: 应收股利 | H13: 应付股利(利润)
D14: 其他应收款 | H14: 其他应付款
D15: 存货 | E15: 材料采购（在途物资） | H15: 一年到期非流动负债
D16: 一年到期非流动资产 | E16: 原材料 | H16: 其他流动负债
D17: 其它流动资产 | E17: 在库周转材料
E18: 委托加工物资
E19: 产成品(库存商品)
C20: 非流动资产 | D20: 可供出售金融资产 | E20: 在产品(自制半成品)
E21: 发出商品 | G21: 非流动负债 | H21: 长期借款
E22: 在用周转材料 | H22: 应付债券
H23: 长期应付款
E24: 股票投资 | H24: 专项应付款
E25: 债券投资 | H25: 预计负债
E26: 其他投资 | H26: 递延所得税负债
H27: 其他非流动负债
D28: 持有到期投资
D29: 长期应收款
D30: 长期股权投资
D31: 投资性房地产
D32: 固定资产 | E32: 房屋建筑物
E33: 构筑物及其他辅助设施
E34: 管道及沟槽
E35: 机器设备
E36: 车辆
E37: 电子设备
E38: 土地
D40: 在建工程 | E40: 在建土建
E41: 在建设备
D43: 工程物资
D44: 固定资产清理
...

Sheet 科目填表说明
B1: 评估明细表填表说明
B3: 一、基本要求
B4: 特别强调：对于纳入评估范围内的子公司下属控股子公司，需按科目逐一填报该表(不可与母公司合并填报）。该表由财务或资产管理人员填报并核账面值无误后，再交由设备或其他实物资产管理人员对评估作价必须的规格型号、厂家、数量等信息进行补充完善。
B5: (一)填表范围：
B6: 纳入评估范围的资产要保证与评估基准日资产占有单位的资产负债表（或模拟资产负债表）完全一致，即填表完成后，自动生成的新准则资产评估分类汇总表(表2)C列帐面值数据与该表右侧手工录入的G列资产负债表（或模拟资产负债表）各科目余额完全一致。如H列出现差异，请核对链接关系及所填报明细是否有误。
B7: (二)“评估基准日”与“被评估单位(或者产权持有单位)”名称,统一在“申报表封面” 中填列，各明细表会自动生成。单位名称要与该单位的营业执照所列示的名称完全一致,如经检查各明细表与报表的余额数据完全一致，填表人员需与评估人员沟通无异议后再在打印好的A4纸每页明细表左上角单位名称处加盖单位公章上报。
B8: (三)对于企业财务核算中没有的会计科目不必填写相应的明细表，对应明细表可隐藏但不可删除。
B9: (四) 对于各科目明细表中“评估价值”一栏(不含本栏)左方的所有空白栏以及需要填写的备注栏项目请企业填写齐全。尤其对于实物类资产的评估作价密切相关信息需填报完整，不要出现空白项，该类信息往往包括规格、厂家、单位、数量、产权证号、产权人名称、车辆行驶里程、不良资产实际状态等，需要由资产管理相关部门协助财务人员进行填报。
B10: (五)明细表中填列金额单位为“人民币元”，精确到小数点后两位。
B11: (六)明细表中日期根据要求填至月(如建成年月)或日(如出票日期)，填写日期格式为“2001-05”（不能写为2001.5）或 “2001-05-02”（不能填为2001.5.2）。
B12: (七)未指明月利率之处应指年利率，计量单位为“%”。若原始资料中为月利率或日利率,则换算为年利率。
B13: (八)明细表与各级汇总表之间的数据已建立链接关系，带“汇总”字样的各明细表中除个别项的减值准备外，其他项中不应直接录入数据。
... B185: ******

Sheet 企业基本情况表
A1: 法人企业基本情况表
A2: =封面!B8&封面!D8&封面!E8&封面!F8&封面!G8&封面!H8&封面!I8 -> 评估基准日：2018年12月31日
A3: 企业填写以下内容:
A4: 资产占有单位名称: | B4: 中文 | H4: 法定代表人 | J4: 电话
B5: 英文 | H5: 财务负责人 | J5: 固定电话
A6: 法定地址 | F6: 邮政编码 | J6: 手机
A7: 办公地址 | F7: 邮政编码 | H7: 主要填表人 | J7: 固定电话
A8: 联系人办公电话 | C8: 传真 | E8: E-mail | J8: 手机
A9: 经营范围 | H9: 成立日期 | I9: 年 月 日 | J9: 经营期限 | K9: 年 月 日至 年 月 日
A10: 企业股东名称 | H10: 注册资本 | J10: 实收资本
H11: 金额（万元） | I11: 出资比例% | J11: 金额（万元） | K11: 出资比例%
A12: 1
A13: 2
A14: 3
A15: 4
A16: 5
A17: 合计
A18: 下属长期投资单位（或异地分支机构）名称 | F18: 地址 | I18: 注册资金% | J18: 持股比例% | K18: 核算方式
A19: 1
A20: 2
A21: 3
A22: 4
A23: 5
A24: 6
A25: 7
A26: 8
A27: 9
A28: 10

Sheet 企业报表
A1: 根据企业报表格式列示

Sheet 审定报表
A1: 根据审计机构报表格式列示

Sheet 万元汇总表(报告用表)
A1: 资产评估结果汇总表
A2: =封面!B8&封面!D8&封面!E8&封面!F8&封面!G8&封面!H8&封面!I8 -> 评估基准日：2018年12月31日
E3: 表1
A4: =封面!B6&封面!D6 -> 产权持有人名称：阳煤集团青岛恒源化工有限公司 | E4: 金额单位：人民币万元
A5: 项目 | B5: 账面价值 | C5: 评估价值 | D5: 增减值 | E5: 增值率％
A6: 一、流动资产 | B6: =ROUND('2-分类汇总'!C6/10000,2) -> 263.13 | C6: =ROUND('2-分类汇总'!D6/10000,2) -> 15.49 | D6: =C6-B6 -> -247.64 | E6: =IF(B6<>0,ROUND(100*D6/ABS(B6),2),0) -> -94.11
A7: 二、非流动资产 | B7: =SUM(B8:B24) -> 5933.49 | C7: =SUM(C8:C24) -> 969.62 | D7: =C7-B7 -> -4963.87 | E7: =IF(B7<>0,ROUND(100*D7/ABS(B7),2),0) -> -83.66
A8: 其中：可供出售金融资产 | B8: =ROUND('2-分类汇总'!C20/10000,2) -> 0 | C8: =ROUND('2-分类汇总'!D20/10000,2) -> 0 | D8: =C8-B8 -> 0 | E8: =IF(B8<>0,ROUND(100*D8/ABS(B8),2),0) -> 0
A9: 持有至到期投资 | B9: =ROUND('2-分类汇总'!C21/10000,2) -> 0 | C9: =ROUND('2-分类汇总'!D21/10000,2) -> 0 | D9: =C9-B9 -> 0 | E9: =IF(B9<>0,ROUND(100*D9/ABS(B9),2),0) -> 0
A10: 长期应收款 | B10: =ROUND('2-分类汇总'!C22/10000,2) -> 0 | C10: =ROUND('2-分类汇总'!D22/10000,2) -> 0 | D10: =C10-B10 -> 0 | E10: =IF(B10<>0,ROUND(100*D10/ABS(B10),2),0) -> 0
A11: 长期股权投资 | B11: =ROUND('2-分类汇总'!C23/10000,2) -> 0 | C11: =ROUND('2-分类汇总'!D23/10000,2) -> 0 | D11: =C11-B11 -> 0 | E11: =IF(B11<>0,ROUND(100*D11/ABS(B11),2),0) -> 0
A12: 投资性房地产 | B12: =ROUND('2-分类汇总'!C24/10000,2) -> 0 | C12: =ROUND('2-分类汇总'!D24/10000,2) -> 0 | D12: =C12-B12 -> 0 | E12: =IF(B12<>0,ROUND(100*D12/ABS(B12),2),0) -> 0
A13: 固定资产 | B13: =ROUND('2-分类汇总'!C25/10000,2) -> 215.34 | C13: =ROUND('2-分类汇总'!D25/10000,2)+G25 -> 129.33 | D13: =C13-B13 -> -86.01 | E13: =IF(B13<>0,ROUND(100*D13/ABS(B13),2),0) -> -39.94
A14: 在建工程 | B14: =ROUND('2-分类汇总'!C26/10000,2) -> 5425.92 | C14: =ROUND('2-分类汇总'!D26/10000,2) -> 818.9 | D14: =C14-B14 -> -4607.02 | E14: =IF(B14<>0,ROUND(100*D14/ABS(B14),2),0) -> -84.91
A15: 工程物资 | B15: =ROUND('2-分类汇总'!C27/10000,2) -> 292.23 | C15: =ROUND('2-分类汇总'!D27/10000,2) -> 21.39 | D15: =C15-B15 -> -270.84 | E15: =IF(B15<>0,ROUND(100*D15/ABS(B15),2),0) -> -92.68
A16: 固定资产清理 | B16: =ROUND('2-分类汇总'!C28/10000,2) -> 0 | C16: =ROUND('2-分类汇总'!D28/10000,2) -> 0 | D16: =C16-B16 -> 0 | E16: =IF(B16<>0,ROUND(100*D16/ABS(B16),2),0) -> 0
A17: 生产性生物资产 | B17: =ROUND('2-分类汇总'!C29/10000,2) -> 0 | C17: =ROUND('2-分类汇总'!D29/10000,2) -> 0 | D17: =C17-B17 -> 0 | E17: =IF(B17<>0,ROUND(100*D17/ABS(B17),2),0) -> 0
A18: 油气资产 | B18: =ROUND('2-分类汇总'!C30/10000,2) -> 0 | C18: =ROUND('2-分类汇总'!D30/10000,2) -> 0 | D18: =C18-B18 -> 0 | E18: =IF(B18<>0,ROUND(100*D18/ABS(B18),2),0) -> 0
A19: 无形资产 | B19: =ROUND('2-分类汇总'!C31/10000,2) -> 0 | C19: =ROUND('2-分类汇总'!D31/10000,2) -> 0 | D19: =C19-B19 -> 0 | E19: =IF(B19<>0,ROUND(100*D19/ABS(B19),2),0) -> 0
A20: 开发支出 | B20: =ROUND('2-分类汇总'!C32/10000,2) -> 0 | C20: =ROUND('2-分类汇总'!D32/10000,2) -> 0 | D20: =C20-B20 -> 0 | E20: =IF(B20<>0,ROUND(100*D20/ABS(B20),2),0) -> 0
A21: 商誉 | B21: =ROUND('2-分类汇总'!C33/10000,2) -> 0 | C21: =ROUND('2-分类汇总'!D33/10000,2) -> 0 | D21: =C21-B21 -> 0 | E21: =IF(B21<>0,ROUND(100*D21/ABS(B21),2),0) -> 0
A22: 长期待摊费用 | B22: =ROUND('2-分类汇总'!C34/10000,2) -> 0 | C22: =ROUND('2-分类汇总'!D34/10000,2) -> 0 | D22: =C22-B22 -> 0 | E22: =IF(B22<>0,ROUND(100*D22/ABS(B22),2),0) -> 0
A23: 递延所得税资产 | B23: =ROUND('2-分类汇总'!C35/10000,2) -> 0 | C23: =ROUND('2-分类汇总'!D35/10000,2) -> 0 | D23: =C23-B23 -> 0 | E23: =IF(B23<>0,ROUND(100*D23/ABS(B23),2),0) -> 0
A24: 其他非流动资产 | B24: =ROUND('2-分类汇总'!C36/10000,2) -> 0 | C24: =ROUND('2-分类汇总'!D36/10000,2) -> 0 | D24: =C24-B24 -> 0 | E24: =IF(B24<>0,ROUND(100*D24/ABS(B24),2),0) -> 0
A25: 资产总计 | B25: =B6+B7 -> 6196.62 | C25: =C6+C7 -> 985.11 | D25: =C25-B25 -> -5211.51 | E25: =IF(B25<>0,ROUND(100*D25/ABS(B25),2),0) -> -84.1
A26: 三、流动负债 | B26: =ROUND('2-分类汇总'!C39/10000,2) -> 0 | C26: =ROUND('2-分类汇总'!D39/10000,2) -> 0 | D26: =C26-B26 -> 0 | E26: =IF(B26<>0,ROUND(100*D26/ABS(B26),2),0) -> 0
A27: 四、非流动负债 | B27: =ROUND('2-分类汇总'!C53/10000,2) -> 0 | C27: =ROUND('2-分类汇总'!D53/10000,2) -> 0 | D27: =C27-B27 -> 0 | E27: =IF(B27<>0,ROUND(100*D27/ABS(B27),2),0) -> 0
A28: 负债合计 | B28: =SUM(B26:B27) -> 0 | C28: =SUM(C26:C27) -> 0 | D28: =C28-B28 -> 0 | E28: =IF(B28<>0,ROUND(100*D28/ABS(B28),2),0) -> 0 | F28: =B26+B27-B28 -> 0 | G28: =C26+C27-C28 -> 0
A29: 净资产（所有者权益） | B29: =B25-B28 -> 6196.62 | C29: =C25-C28 -> 985.11 | D29: =C29-B29 -> -5211.51 | E29: =IF(B29<>0,ROUND(100*D29/ABS(B29),2),0) -> -84.1 | F29: =B25-B28-B29 -> 0 | G29: =C25-C28-C29 -> 0

Sheet 万元汇总表(报国资委)
A1: 资产评估结果汇总表
A2: =封面!B8&封面!D8&封面!E8&封面!F8&封面!G8&封面!H8&封面!I8 -> 评估基准日：2018年12月31日
F3: 表1
A4: =封面!B6&封面!D6 -> 产权持有人名称：阳煤集团青岛恒源化工有限公司 | F4: 金额单位：人民币万元
A5: 项 目 | C5: 账面价值 | D5: 评估价值 | E5: 增减值 | F5: 增值率％
C6: A | D6: B | E6: C=B-A | F6: D=C/A×100%
A7: 1 | B7: 流动资产 | C7: =ROUND('2-分类汇总'!C6/10000,2) -> 263.13 | D7: =ROUND('2-分类汇总'!D6/10000,2) -> 15.49 | E7: =D7-C7 -> -247.64 | F7: =IF(C7<>0,ROUND(100*E7/ABS(C7),2),0) -> -94.11
A8: 2 | B8: 非流动资产 | C8: =ROUND('2-分类汇总'!C19/10000,2) -> 5933.48 | D8: =ROUND('2-分类汇总'!D19/10000,2) -> 969.61 | E8: =D8-C8 -> -4963.87 | F8: =IF(C8<>0,ROUND(100*E8/ABS(C8),2),0) -> -83.66
A9: 3 | B9: 其中：可供出售金融资产 | C9: =ROUND('2-分类汇总'!C20/10000,2) -> 0 | D9: =ROUND('2-分类汇总'!D20/10000,2) -> 0 | E9: =D9-C9 -> 0 | F9: =IF(C9<>0,ROUND(100*E9/ABS(C9),2),0) -> 0
A10: 4 | B10: 持有至到期投资 | C10: =ROUND('2-分类汇总'!C21/10000,2) -> 0 | D10: =ROUND('2-分类汇总'!D21/10000,2) -> 0 | E10: =D10-C10 -> 0 | F10: =IF(C10<>0,ROUND(100*E10/ABS(C10),2),0) -> 0
A11: 5 | B11: 长期应收款 | C11: =ROUND('2-分类汇总'!C22/10000,2) -> 0 | D11: =ROUND('2-分类汇总'!D22/10000,2) -> 0 | E11: =D11-C11 -> 0 | F11: =IF(C11<>0,ROUND(100*E11/ABS(C11),2),0) -> 0
A12: 6 | B12: 长期股权投资 | C12: =ROUND('2-分类汇总'!C23/10000,2) -> 0 | D12: =ROUND('2-分类汇总'!D23/10000,2) -> 0 | E12: =D12-C12 -> 0 | F12: =IF(C12<>0,ROUND(100*E12/ABS(C12),2),0) -> 0
A13: 7 | B13: 投资性房地产 | C13: =ROUND('2-分类汇总'!C24/10000,2) -> 0 | D13: =ROUND('2-分类汇总'!D24/10000,2) -> 0 | E13: =D13-C13 -> 0 | F13: =IF(C13<>0,ROUND(100*E13/ABS(C13),2),0) -> 0
A14: 8 | B14: 固定资产 | C14: =ROUND('2-分类汇总'!C25/10000,2) -> 215.34 | D14: =ROUND('2-分类汇总'!D25/10000,2)+H26 -> 129.33 | E14: =D14-C14 -> -86.01 | F14: =IF(C14<>0,ROUND(100*E14/ABS(C14),2),0) -> -39.94
A15: 9 | B15: 在建工程 | C15: =ROUND('2-分类汇总'!C26/10000,2) -> 5425.92 | D15: =ROUND('2-分类汇总'!D26/10000,2) -> 818.9 | E15: =D15-C15 -> -4607.02 | F15: =IF(C15<>0,ROUND(100*E15/ABS(C15),2),0) -> -84.91
A16: 10 | B16: 工程物资 | C16: =ROUND('2-分类汇总'!C27/10000,2) -> 292.23 | D16: =ROUND('2-分类汇总'!D27/10000,2) -> 21.39 | E16: =D16-C16 -> -270.84 | F16: =IF(C16<>0,ROUND(100*E16/ABS(C16),2),0) -> -92.68
A17: 11 | B17: 固定资产清理 | C17: =ROUND('2-分类汇总'!C28/10000,2) -> 0 | D17: =ROUND('2-分类汇总'!D28/10000,2) -> 0 | E17: =D17-C17 -> 0 | F17: =IF(C17<>0,ROUND(100*E17/ABS(C17),2),0) -> 0
A18: 12 | B18: 生产性生物资产 | C18: =ROUND('2-分类汇总'!C29/10000,2) -> 0 | D18: =ROUND('2-分类汇总'!D29/10000,2) -> 0 | E18: =D18-C18 -> 0 | F18: =IF(C18<>0,ROUND(100*E18/ABS(C18),2),0) -> 0
A19: 13 | B19: 油气资产 | C19: =ROUND('2-分类汇总'!C30/10000,2) -> 0 | D19: =ROUND('2-分类汇总'!D30/10000,2) -> 0 | E19: =D19-C19 -> 0 | F19: =IF(C19<>0,ROUND(100*E19/ABS(C19),2),0) -> 0
A20: 14 | B20: 无形资产 | C20: =ROUND('2-分类汇总'!C31/10000,2) -> 0 | D20: =ROUND('2-分类汇总'!D31/10000,2) -> 0 | E20: =D20-C20 -> 0 | F20: =IF(C20<>0,ROUND(100*E20/ABS(C20),2),0) -> 0
A21: 15 | B21: 开发支出 | C21: =ROUND('2-分类汇总'!C32/10000,2) -> 0 | D21: =ROUND('2-分类汇总'!D32/10000,2) -> 0 | E21: =D21-C21 -> 0 | F21: =IF(C21<>0,ROUND(100*E21/ABS(C21),2),0) -> 0
A22: 16 | B22: 商誉 | C22: =ROUND('2-分类汇总'!C33/10000,2) -> 0 | D22: =ROUND('2-分类汇总'!D33/10000,2) -> 0 | E22: =D22-C22 -> 0 | F22: =IF(C22<>0,ROUND(100*E22/ABS(C22),2),0) -> 0
A23: 17 | B23: 长期待摊费用 | C23: =ROUND('2-分类汇总'!C34/10000,2) -> 0 | D23: =ROUND('2-分类汇总'!D34/10000,2) -> 0 | E23: =D23-C23 -> 0 | F23: =IF(C23<>0,ROUND(100*E23/ABS(C23),2),0) -> 0
A24: 18 | B24: 递延所得税资产 | C24: =ROUND('2-分类汇总'!C35/10000,2) -> 0 | D24: =ROUND('2-分类汇总'!D35/10000,2) -> 0 | E24: =D24-C24 -> 0 | F24: =IF(C24<>0,ROUND(100*E24/ABS(C24),2),0) -> 0
A25: 19 | B25: 其他非流动资产 | C25: =ROUND('2-分类汇总'!C36/10000,2) -> 0 | D25: =ROUND('2-分类汇总'!D36/10000,2) -> 0 | E25: =D25-C25 -> 0 | F25: =IF(C25<>0,ROUND(100*E25/ABS(C25),2),0) -> 0
A26: 20 | B26: 资产总计 | C26: =C7+C8 -> 6196.61 | D26: =D7+D8 -> 985.1 | E26: =D26-C26 -> -5211.51 | F26: =IF(C26<>0,ROUND(100*E26/ABS(C26),2),0) -> -84.1
A27: 21 | B27: 流动负债 | C27: =ROUND('2-分类汇总'!C39/10000,2) -> 0 | D27: =ROUND('2-分类汇总'!D39/10000,2) -> 0 | E27: =D27-C27 -> 0 | F27: =IF(C27<>0,ROUND(100*E27/ABS(C27),2),0) -> 0
A28: 22 | B28: 非流动负债 | C28: =ROUND('2-分类汇总'!C53/10000,2) -> 0 | D28: =ROUND('2-分类汇总'!D53/10000,2) -> 0 | E28: =D28-C28 -> 0 | F28: =IF(C28<>0,ROUND(100*E28/ABS(C28),2),0) -> 0
A29: 23 | B29: 负债合计 | C29: =SUM(C27:C28) -> 0 | D29: =SUM(D27:D28) -> 0 | E29: =D29-C29 -> 0 | F29: =IF(C29<>0,ROUND(100*E29/ABS(C29),2),0) -> 0 | G29: =C27+C28-C29 -> 0 | H29: =D27+D28-D29 -> 0
A30: 24 | B30: 净资产（所有者权益） | C30: =C26-C29 -> 6196.61 | D30: =D26-D29 -> 985.1 | E30: =D30-C30 -> -5211.51 | F30: =IF(C30<>0,ROUND(100*E30/ABS(C30),2),0) -> -84.1 | G30: =C26-C29-C30 -> 0 | H30: =D26-D29-D30 -> 0
A31: 评估机构：山西诚成资产评估有限公司 | D31: 注册资产评估师：
A33: 法定代表人：陈小刚 | D33: 注册资产评估师：
C34: =C30*10000-'2-分类汇总'!C64 -> -51.98

Sheet Sheet1
A5: =封面!D6&"资产评估项目" -> 阳煤集团青岛恒源化工有限公司资产评估项目
A8: 评估申报明细表
A10: =封面!B8&封面!D8&封面!E8&封面!F8&封面!G8&封面!H8&封面!I8 -> 评估基准日：2018年12月31日
C13: =封面!B6&封面!D6 -> 产权持有人名称：阳煤集团青岛恒源化工有限公司
C16: 企业负责人：xxx | G16: 财务负责人：xxx
C19: 主要填表人：xxx | G19: 填表人电话：xxx

Sheet 1-汇总表
A1: 资产评估结果汇总表
A2: =封面!B8&封面!D8&封面!E8&封面!F8&封面!G8&封面!H8&封面!I8 -> 评估基准日：2018年12月31日
F3: 表1
A4: =封面!B6&封面!D6 -> 产权持有人名称：阳煤集团青岛恒源化工有限公司 | F4: 金额单位：人民币万元
A5: 项 目 | C5: 账面价值 | D5: 评估价值 | E5: 增减值 | F5: 增值率％
C6: A | D6: B | E6: C=B-A | F6: D=C/A×100%
A7: 1 | B7: 流动资产 | C7: =ROUND('2-分类汇总'!C6/10000,2) -> 263.13 | D7: =ROUND('2-分类汇总'!D6/10000,2) -> 15.49 | E7: =D7-C7 -> -247.64 | F7: =IF(OR(C7=0,C7=""),"",ROUND(E7/C7*100,2)) -> -94.11
A8: 2 | B8: 非流动资产 | C8: =SUM(C9:C25) -> 5933.49 | D8: =SUM(D9:D25) -> 969.62 | E8: =D8-C8 -> -4963.87 | F8: =IF(OR(C8=0,C8=""),"",ROUND(E8/C8*100,2)) -> -83.66 | G8: =SUM(C9:C25)-C8 -> 0 | H8: =SUM(D9:D25)-D8 -> 0
A9: 3 | B9: 其中：可供出售金融资产
A10: 4 | B10: 持有至到期投资
A11: 5 | B11: 长期应收款
A12: 6 | B12: 长期股权投资
A13: 7 | B13: 投资性房地产
A14: 8 | B14: 固定资产 | C14: =ROUND('2-分类汇总'!C25/10000,2) -> 215.34 | D14: =ROUND('2-分类汇总'!D25/10000,2) -> 129.33 | E14: =D14-C14 -> -86.01 | F14: =IF(OR(C14=0,C14=""),"",ROUND(E14/C14*100,2)) -> -39.94
A15: 9 | B15: 在建工程 | C15: =ROUND('2-分类汇总'!C26/10000,2) -> 5425.92 | D15: =ROUND('2-分类汇总'!D26/10000,2) -> 818.9 | E15: =D15-C15 -> -4607.02 | F15: =IF(OR(C15=0,C15=""),"",ROUND(E15/C15*100,2)) -> -84.91
A16: 10 | B16: 工程物资 | C16: =ROUND('2-分类汇总'!C27/10000,2) -> 292.23 | D16: =ROUND('2-分类汇总'!D27/10000,2) -> 21.39 | E16: =D16-C16 -> -270.84 | F16: =IF(OR(C16=0,C16=""),"",ROUND(E16/C16*100,2)) -> -92.68
A17: 11 | B17: 固定资产清理
A18: 12 | B18: 生产性生物资产
A19: 13 | B19: 油气资产
A20: 14 | B20: 无形资产
A21: 15 | B21: 开发支出
A22: 16 | B22: 商誉
A23: 17 | B23: 长期待摊费用
A24: 18 | B24: 递延所得税资产
A25: 19 | B25: 其他非流动资产
A26: 20 | B26: 资产总计 | C26: =C7+C8 -> 6196.62 | D26: =D7+D8 -> 985.11 | E26: =D26-C26 -> -5211.51 | F26: =IF(OR(C26=0,C26=""),"",ROUND(E26/C26*100,2)) -> -84.1 | G26: =C7+C8-C26 -> 0 | H26: =D7+D8-D26 -> 0
A27: 21 | B27: 流动负债 | C27: =ROUND('2-分类汇总'!C39/10000,2) -> 0 | D27: =ROUND('2-分类汇总'!D39/10000,2) -> 0 | E27: =D27-C27 -> 0 | F27: =IF(C27<>0,ROUND(100*E27/ABS(C27),2),0) -> 0
A28: 22 | B28: 非流动负债 | C28: =ROUND('2-分类汇总'!C53/10000,2) -> 0 | D28: =ROUND('2-分类汇总'!D53/10000,2) -> 0 | E28: =D28-C28 -> 0 | F28: =IF(C28<>0,ROUND(100*E28/ABS(C28),2),0) -> 0
A29: 23 | B29: 负债合计 | C29: =SUM(C27:C28) -> 0 | D29: =SUM(D27:D28) -> 0 | E29: =D29-C29 -> 0 | F29: =IF(C29<>0,ROUND(100*E29/ABS(C29),2),0) -> 0 | G29: =C27+C28-C29 -> 0 | H29: =D27+D28-D29 -> 0
A30: 24 | B30: 净资产（所有者权益） | C30: =C26-C29 -> 6196.62 | D30: =D26-D29 -> 985.11 | E30: =D30-C30 -> -5211.51 | F30: =IF(C30<>0,ROUND(100*E30/ABS(C30),2),0) -> -84.1 | G30: =C26-C29-C30 -> 0 | H30: =D26-D29-D30 -> 0
A31: 评估机构：山西诚成资产评估有限公司
C38: 263.13 | D38: 15.49 | E38: -247.64 | F38: -94.11
C39: 6357.61 | D39: 1136.56 | E39: -5221.05 | F39: -82.12
C40: 215.34 | D40: 129.33 | E40: -86.01 | F40: -39.94
C41: 5850.04 | D41: 985.84 | E41: -4864.2 | F41: -83.15
C42: 292.23 | D42: 21.39 | E42: -270.84 | F42: -92.68
C43: 6620.74 | D43: 1152.05 | E43: -5468.69 | F43: -82.6

Sheet 2-分类汇总
A1: 资产评估结果分类汇总表
A2: ='1-汇总表'!A2:F2 -> 评估基准日：2018年12月31日
F3: 表2
A4: ='1-汇总表'!A4 -> 产权持有人名称：阳煤集团青岛恒源化工有限公司 | F4: 金额单位：人民币元
A5: 序号 | B5: 科目名称 | C5: 账面价值 | D5: 评估价值 | E5: 增减值 | F5: 增值率% | G5: 企业报表数 | H5: 企业报表核对 | I5: 审定数 | J5: 审定数核对
A6: 1 | B6: 一、流动资产合计 | C6: =SUM(C7:C17) -> 2631318.4 | D6: =SUM(D7:D17) -> 154883.26 | E6: =SUM(E7:E17) -> -2476435.1 | F6: =SUM(F7:F17) -> -94.11 | H6: =C6-G6 -> 2631318.4 | J6: =C6-I6 -> 2631318.4
A7: 2 | B7: 货币资金 | C7: ='3-流动汇总'!C7 -> 0 | H7: =C7-G7 -> 0 | J7: =C7-I7 -> 0
A8: 3 | B8: 交易性金融资产 | C8: ='3-流动汇总'!C8 -> 0 | H8: =C8-G8 -> 0 | J8: =C8-I8 -> 0
A9: 4 | B9: 应收票据 | C9: ='3-流动汇总'!C9 -> 0 | H9: =C9-G9 -> 0 | J9: =C9-I9 -> 0
A10: 5 | B10: 应收账款 | C10: ='3-流动汇总'!C10 -> 0 | H10: =C10-G10 -> 0 | J10: =C10-I10 -> 0
A11: 6 | B11: 预付款项 | C11: ='3-流动汇总'!C11 -> 0 | H11: =C11-G11 -> 0 | J11: =C11-I11 -> 0
A12: 7 | B12: 应收利息 | C12: ='3-流动汇总'!C12 -> 0 | H12: =C12-G12 -> 0 | J12: =C12-I12 -> 0
A13: 8 | B13: 应收股利 | C13: ='3-流动汇总'!C13 -> 0 | H13: =C13-G13 -> 0 | J13: =C13-I13 -> 0
A14: 9 | B14: 其他应收款 | C14: ='3-流动汇总'!C14 -> 0 | H14: =C14-G14 -> 0 | J14: =C14-I14 -> 0
A15: 10 | B15: 存货 | C15: ='3-流动汇总'!C15 -> 2631318.4 | D15: ='3-9存货汇总'!D28 -> 154883.26 | E15: =D15-C15 -> -2476435.1 | F15: =IF(OR(C15=0,C15=""),"",ROUND(E15/C15*100,2)) -> -94.11 | H15: =C15-G15 -> 2631318.4 | J15: =C15-I15 -> 2631318.4
A16: 11 | B16: 一年内到期的非流动资产 | C16: ='3-流动汇总'!C16 -> 0 | H16: =C16-G16 -> 0 | J16: =C16-I16 -> 0
A17: 12 | B17: 其他流动资产 | C17: ='3-流动汇总'!C17 -> 0 | H17: =C17-G17 -> 0 | J17: =C17-I17 -> 0
A18: 13 | H18: =C18-G18 -> 0 | J18: =C18-I18 -> 0
A19: 14 | B19: 二、非流动资产合计 | C19: =SUM(C20:C36) -> 59334834 | D19: =SUM(D20:D36) -> 9696128.6 | E19: =SUM(E20:E36) -> -49638705 | F19: =SUM(F20:F36) -> -217.53 | H19: =C19-G19 -> 59334834 | J19: =C19-I19 -> 59334834
A20: 15 | B20: 可供出售金融资产 | C20: ='4-非流动资产汇总'!C7 -> 0 | H20: =C20-G20 -> 0 | J20: =C20-I20 -> 0
A21: 16 | B21: 持有至到期投资 | C21: ='4-非流动资产汇总'!C8 -> 0 | H21: =C21-G21 -> 0 | J21: =C21-I21 -> 0
A22: 17 | B22: 长期应收款 | C22: ='4-非流动资产汇总'!C9 -> 0 | H22: =C22-G22 -> 0 | J22: =C22-I22 -> 0
A23: 18 | B23: 长期股权投资 | C23: ='4-非流动资产汇总'!C10 -> 0 | H23: =C23-G23 -> 0 | J23: =C23-I23 -> 0
A24: 19 | B24: 投资性房地产 | C24: ='4-非流动资产汇总'!C11 -> 0 | H24: =C24-G24 -> 0 | J24: =C24-I24 -> 0
A25: 20 | B25: 固定资产 | C25: ='4-非流动资产汇总'!C12 -> 2153399.2 | D25: ='4-6固定资产汇总'!F28 -> 1293275.8 | E25: =D25-C25 -> -860123.41 | F25: =IF(OR(C25=0,C25=""),"",ROUND(E25/C25*100,2)) -> -39.94 | H25: =C25-G25 -> 2153399.2 | J25: =C25-I25 -> 2153399.2
A26: 21 | B26: 在建工程 | C26: ='4-非流动资产汇总'!C13 -> 54259159 | D26: ='4-7-2在建（设备）'!V570 -> 8188983.2 | E26: =D26-C26 -> -46070176 | F26: =IF(OR(C26=0,C26=""),"",ROUND(E26/C26*100,2)) -> -84.91 | H26: =C26-G26 -> 54259159 | J26: =C26-I26 -> 54259159
A27: 22 | B27: 工程物资 | C27: ='4-非流动资产汇总'!C14 -> 2922275.1 | D27: ='4-8工程物资'!N43 -> 213869.6 | E27: =D27-C27 -> -2708405.5 | F27: =IF(OR(C27=0,C27=""),"",ROUND(E27/C27*100,2)) -> -92.68 | H27: =C27-G27 -> 2922275.1 | J27: =C27-I27 -> 2922275.1
A28: 23 | B28: 固定资产清理 | C28: ='4-非流动资产汇总'!C15 -> 0 | H28: =C28-G28 -> 0 | J28: =C28-I28 -> 0
A29: 24 | B29: 生产性生物资产 | C29: ='4-非流动资产汇总'!C16 -> 0 | H29: =C29-G29 -> 0 | J29: =C29-I29 -> 0
A30: 25 | B30: 油气资产 | C30: ='4-非流动资产汇总'!C17 -> 0 | H30: =C30-G30 -> 0 | J30: =C30-I30 -> 0
A31: 26 | B31: 无形资产 | C31: ='4-非流动资产汇总'!C18 -> 0 | H31: =C31-G31 -> 0 | J31: =C31-I31 -> 0
A32: 27 | B32: 开发支出 | C32: ='4-非流动资产汇总'!C19 -> 0 | H32: =C32-G32 -> 0 | J32: =C32-I32 -> 0
A33: 28 | B33: 商誉 | C33: ='4-非流动资产汇总'!C20 -> 0 | H33: =C33-G33 -> 0 | J33: =C33-I33 -> 0
A34: 29 | B34: 长期待摊费用 | C34: ='4-非流动资产汇总'!C21 -> 0 | H34: =C34-G34 -> 0 | J34: =C34-I34 -> 0
A35: 30 | B35: 递延所得税资产 | C35: ='4-非流动资产汇总'!C22 -> 0 | H35: =C35-G35 -> 0 | J35: =C35-I35 -> 0
A36: 31 | B36: 其他非流动资产 | C36: ='4-非流动资产汇总'!C23 -> 0 | H36: =C36-G36 -> 0 | J36: =C36-I36 -> 0
A37: 32 | H37: =C37-G37 -> 0 | J37: =C37-I37 -> 0
A38: 33 | B38: 三、资产总计 | C38: =C6+C19 -> 61966152 | D38: =D6+D19 -> 9851011.9 | E38: =D38-C38 -> -52115140 | F38: =IF(OR(C38=0,C38=""),"",ROUND(E38/C38*100,2)) -> -84.1 | H38: =C38-G38 -> 61966152 | J38: =C38-I38 -> 61966152
A39: 35 | B39: 四、流动负债合计 | C39: =SUM(C40:C51) -> 0 | D39: =SUM(D40:D51) -> 0 | E39: =D39-C39 -> 0 | F39: =IF(C39<>0,ROUND(100*E39/ABS(C39),2),0) -> 0 | H39: =C39-G39 -> 0 | J39: =C39-I39 -> 0
A40: 36 | B40: 短期借款 | C40: ='5-流动负债汇总'!C6 -> 0 | D40: ='5-流动负债汇总'!D6 -> 0 | E40: =D40-C40 -> 0 | F40: =IF(C40<>0,ROUND(100*E40/ABS(C40),2),0) -> 0 | H40: =C40-G40 -> 0 | J40: =C40-I40 -> 0
...

Sheet 3-流动汇总
A2: 流动资产评估汇总表
A3: ='1-汇总表'!A2:F2 -> 评估基准日：2018年12月31日
A5: ='1-汇总表'!A4 -> 产权持有人名称：阳煤集团青岛恒源化工有限公司
A6: 编号 | B6: 科目名称 | C6: 账面价值 | D6: 评估价值 | E6: 增减值 | F6: 增值率%
A7: 3-1 | B7: 货币资金 | C7: ='表3-1货币汇总表'!C27 -> 0 | D7: ='表3-1货币汇总表'!D27 -> 0 | E7: =D7-C7 -> 0 | F7: =ROUND(IF(C7<>0,100*E7/C7,),2) -> 0
A8: 3-2 | B8: 交易性金融资产 | C8: ='3-2交易性金融资产汇总'!C28 -> 0 | D8: ='3-2交易性金融资产汇总'!D28 -> 0 | E8: =D8-C8 -> 0 | F8: =ROUND(IF(C8<>0,100*E8/C8,),2) -> 0
A9: 3-3 | B9: 应收票据 | C9: ='3-3应收票据'!F28 -> 0 | D9: ='3-3应收票据'!G28 -> 0 | E9: =D9-C9 -> 0 | F9: =ROUND(IF(C9<>0,100*E9/C9,),2) -> 0
A10: 3-4 | B10: 应收账款 | C10: ='3-4应收账款'!I27 -> 0 | D10: ='3-4应收账款'!M27 -> 0 | E10: =D10-C10 -> 0 | F10: =ROUND(IF(C10<>0,100*E10/C10,),2) -> 0
A11: 3-5 | B11: 预付账款 | C11: ='3-5预付账款'!F27 -> 0 | D11: ='3-5预付账款'!G27 -> 0 | E11: =D11-C11 -> 0 | F11: =ROUND(IF(C11<>0,100*E11/C11,),2) -> 0
A12: 3-6 | B12: 应收利息 | C12: ='3-6应收利息'!G28 -> 0 | D12: ='3-6应收利息'!H28 -> 0 | E12: =D12-C12 -> 0 | F12: =ROUND(IF(C12<>0,100*E12/C12,),2) -> 0
A13: 3-7 | B13: 应收股利 | C13: ='3-7应收股利'!E28 -> 0 | D13: ='3-7应收股利'!F28 -> 0 | E13: =D13-C13 -> 0 | F13: =ROUND(IF(C13<>0,100*E13/C13,),2) -> 0
A14: 3-8 | B14: 其他应收款 | C14: ='3-8其他应收款'!I26 -> 0 | D14: ='3-8其他应收款'!M26 -> 0 | E14: =D14-C14 -> 0 | F14: =ROUND(IF(C14<>0,100*E14/C14,),2) -> 0
A15: 3-9 | B15: 存货 | C15: ='3-9存货汇总'!C28 -> 2631318.4 | D15: ='3-9存货汇总'!D28 -> 154883.26 | E15: =D15-C15 -> -2476435.1 | F15: =ROUND(IF(C15<>0,100*E15/C15,),2) -> -94.11
A16: 3-10 | B16: 一年内到期的非流动资产 | C16: ='3-10一年到期非流动资产'!E26 -> 0 | D16: ='3-10一年到期非流动资产'!F26 -> 0 | E16: =D16-C16 -> 0 | F16: =ROUND(IF(C16<>0,100*E16/C16,),2) -> 0
A17: 3-11 | B17: 其他流动资产 | C17: ='3-11其他流动资产'!F28 -> 0 | D17: ='3-11其他流动资产'!G28 -> 0 | E17: =D17-C17 -> 0 | F17: =ROUND(IF(C17<>0,100*E17/C17,),2) -> 0
A28: 流动资产合计 | C28: =SUM(C7:C17) -> 2631318.4 | D28: =SUM(D7:D17) -> 154883.26 | E28: =D28-C28 -> -2476435.1 | F28: =ROUND(IF(C28<>0,100*E28/C28,),2) -> -94.11
D30: ="评估人员："&封面!$P$18 -> 评估人员：

Sheet 表3-1货币汇总表
A1: 货币资金评估汇总表
A2: ='1-汇总表'!A2:F2 -> 评估基准日：2018年12月31日
A4: ='1-汇总表'!A4 -> 产权持有人名称：阳煤集团青岛恒源化工有限公司
A5: 编号 | B5: 科目名称 | C5: 账面价值 | D5: 评估价值 | E5: 增减值 | F5: 增值率% | G5: 备注
A6: 3-1-1 | B6: 现金 | C6: ='3-1-1现金'!F28 -> 0 | D6: ='3-1-1现金'!G28 -> 0 | E6: =D6-C6 -> 0 | F6: =ROUND(IF(C6<>0,100*E6/C6,),2) -> 0
A7: 3-1-2 | B7: 银行存款 | C7: ='3-1-2银行存款'!G28 -> 0 | D7: ='3-1-2银行存款'!H28 -> 0 | E7: =D7-C7 -> 0 | F7: =ROUND(IF(C7<>0,100*E7/C7,),2) -> 0
A8: 3-1-3 | B8: 其他货币资金 | C8: ='3-1-3其他货币资金'!G29 -> 0 | D8: ='3-1-3其他货币资金'!H29 -> 0 | E8: =D8-C8 -> 0 | F8: =ROUND(IF(C8<>0,100*E8/C8,),2) -> 0
A27: 合 计 | C27: =SUM(C6:C8) -> 0 | D27: =SUM(D6:D8) -> 0 | E27: =D27-C27 -> 0 | F27: =ROUND(IF(C27<>0,100*E27/C27,),2) -> 0
D29: ="评估人员："&封面!$P$18 -> 评估人员：

Sheet 3-1-1现金
A1: 货币资金—现金评估明细表
A2: ='1-汇总表'!A2:F2 -> 评估基准日：2018年12月31日
A4: ='1-汇总表'!A4 -> 产权持有人名称：阳煤集团青岛恒源化工有限公司
A5: 序号 | B5: 存放部门（单位） | C5: 币种 | D5: 外币账面金额 | E5: 评估基准日汇率 | F5: 账面价值 | G5: 评估价值 | H5: 增减值 | I5: 增值率% | J5: 备注
G6: =F6 -> 0 | H6: =G6-F6 -> 0 | I6: =ROUND(IF(F6<>0,100*H6/F6,),2) -> 0
A28: 合 计 | F28: =SUM(F6:F27) -> 0 | G28: =SUM(G6:G27) -> 0 | H28: =G28-F28 -> 0 | I28: =ROUND(IF(F28<>0,100*H28/F28,),2) -> 0
A29: =封面!B$10&封面!D$10 -> 产权持有单位填表人：杨庆华
A30: =封面!B$12&封面!D$12&封面!E$12&封面!F$12&封面!G$12&封面!H$12&封面!I$12 -> 填表日期：2019年1月24日 | G30: ="评估人员："&封面!$P$18 -> 评估人员：

Sheet 3-1-2银行存款
A1: 货币资金—银行存款评估明细表
A2: ='1-汇总表'!A2:F2 -> 评估基准日：2018年12月31日
A4: ='1-汇总表'!A4 -> 产权持有人名称：阳煤集团青岛恒源化工有限公司
A5: 序号 | B5: 开户银行 | C5: 账号 | D5: 币种 | E5: 外币账面金额 | F5: 评估基准日汇率 | G5: 账面价值 | H5: 评估价值 | I5: 增减值 | J5: 增值率% | K5: 备注
H6: =G6 -> 0 | I6: =H6-G6 -> 0 | J6: =ROUND(IF(G6<>0,100*I6/G6,),2) -> 0
H7: =G7 -> 0 | I7: =H7-G7 -> 0 | J7: =ROUND(IF(G7<>0,100*I7/G7,),2) -> 0
H8: =G8 -> 0 | I8: =H8-G8 -> 0 | J8: =ROUND(IF(G8<>0,100*I8/G8,),2) -> 0
H9: =G9 -> 0 | I9: =H9-G9 -> 0 | J9: =ROUND(IF(G9<>0,100*I9/G9,),2) -> 0
H10: =G10 -> 0 | I10: =H10-G10 -> 0 | J10: =ROUND(IF(G10<>0,100*I10/G10,),2) -> 0
H11: =G11 -> 0 | I11: =H11-G11 -> 0 | J11: =ROUND(IF(G11<>0,100*I11/G11,),2) -> 0
A28: 合 计 | G28: =SUM(G6:G27) -> 0 | H28: =SUM(H6:H27) -> 0 | I28: =H28-G28 -> 0 | J28: =ROUND(IF(G28<>0,100*I28/G28,),2) -> 0
A29: =封面!B$10&封面!D$10 -> 产权持有单位填表人：杨庆华
A30: =封面!B$12&封面!D$12&封面!E$12&封面!F$12&封面!G$12&封面!H$12&封面!I$12 -> 填表日期：2019年1月24日 | H30: ="评估人员："&封面!$P$18 -> 评估人员：

Sheet 3-1-3其他货币资金
A1: 货币资金—其他货币资金评估明细表
A2: ='1-汇总表'!A2:F2 -> 评估基准日：2018年12月31日
A4: ='1-汇总表'!A4 -> 产权持有人名称：阳煤集团青岛恒源化工有限公司
A5: 序号 | B5: 名称及内容 | C5: 用途 | D5: 币种 | E5: 外币账面金额 | F5: 评估基准日汇率 | G5: 账面价值 | H5: 评估价值 | I5: 增减值 | J5: 增值率% | K5: 备注
H6: =G6 -> 0 | I6: =H6-G6 -> 0 | J6: =ROUND(IF(G6<>0,100*I6/G6,),2) -> 0
H7: =G7 -> 0 | I7: =H7-G7 -> 0 | J7: =ROUND(IF(G7<>0,100*I7/G7,),2) -> 0
A29: 合 计 | G29: =SUM(G6:G28) -> 0 | H29: =SUM(H6:H28) -> 0 | I29: =H29-G29 -> 0 | J29: =ROUND(IF(G29<>0,100*I29/G29,),2) -> 0
A30: =封面!B$10&封面!D$10 -> 产权持有单位填表人：杨庆华
A31: =封面!B$12&封面!D$12&封面!E$12&封面!F$12&封面!G$12&封面!H$12&封面!I$12 -> 填表日期：2019年1月24日 | H31: ="评估人员："&封面!$P$18 -> 评估人员：

Sheet 3-2交易性金融资产汇总
A1: 交易性金融资产评估汇总表
A2: ='1-汇总表'!A2:F2 -> 评估基准日：2018年12月31日
A4: ='1-汇总表'!A4 -> 产权持有人名称：阳煤集团青岛恒源化工有限公司
A5: 编号 | B5: 科目名称 | C5: 账面价值 | D5: 评估价值 | E5: 增减值 | F5: 增值率%
A6: 3-2-1 | B6: 交易性金融资产-股票投资 | C6: =INDEX('3-2-1交易性-股票'!$A$1:$Z$10000,MATCH("*合*计*",'3-2-1交易性-股票'!$A$1:$A$10000,0),7) -> 0 | D6: =INDEX('3-2-1交易性-股票'!$A$1:$Z$10000,MATCH("*合*计*",'3-2-1交易性-股票'!$A$1:$A$10000,0),9) -> 0 | E6: =D6-C6 -> 0 | F6: =ROUND(IF(C6<>0,100*E6/C6,),2) -> 0
A7: 3-2-2 | B7: 交易性金融资产-债券投资 | C7: =INDEX('3-2-2交易性-债券'!$A$1:$Z$10001,MATCH("*合*计*",'3-2-2交易性-债券'!$A$1:$A$10001,0),8) -> 0 | D7: =INDEX('3-2-2交易性-债券'!$A$1:$Z$10001,MATCH("*合*计*",'3-2-2交易性-债券'!$A$1:$A$10001,0),9) -> 0 | E7: =D7-C7 -> 0 | F7: =ROUND(IF(C7<>0,100*E7/C7,),2) -> 0
A8: 3-2-3 | B8: 交易性金融资产-基金投资 | C8: =INDEX('3-2-3交易性-基金'!$A$1:$Z$10000,MATCH("*合*计*",'3-2-3交易性-基金'!$A$1:$A$10000,0),7) -> 0 | D8: =INDEX('3-2-3交易性-基金'!$A$1:$Z$10000,MATCH("*合*计*",'3-2-3交易性-基金'!$A$1:$A$10000,0),9) -> 0 | E8: =D8-C8 -> 0 | F8: =ROUND(IF(C8<>0,100*E8/C8,),2) -> 0
A28: 合 计 | C28: =SUM(C6:C8) -> 0 | D28: =SUM(D6:D8) -> 0 | E28: =D28-C28 -> 0 | F28: =ROUND(IF(C28<>0,100*E28/C28,),2) -> 0
D30: ="评估人员："&封面!$P$18 -> 评估人员：

Sheet 3-2-1交易性-股票
A1: 交易性金融资产—股票投资评估明细表
A2: ='1-汇总表'!A2:F2 -> 评估基准日：2018年12月31日
A4: ='1-汇总表'!A4 -> 产权持有人名称：阳煤集团青岛恒源化工有限公司
A5: 序号 | B5: 被投资单位名称 | C5: 股票名称 | D5: 投资日期 | E5: 持股数量 | F5: 成 本 | G5: 账面价值 | H5: 基准日收盘价元/股 | I5: 评估价值 | J5: 增减值 | K5: 增值率% | L5: 备注
I6: =ROUND(H6*E6,2) -> 0 | J6: =I6-G6 -> 0 | K6: =IF(G6<>0,ROUND(100*J6/ABS(G6),2),0) -> 0
I7: =ROUND(H7*E7,2) -> 0 | J7: =I7-G7 -> 0 | K7: =IF(G7<>0,ROUND(100*J7/ABS(G7),2),0) -> 0
I8: =ROUND(H8*E8,2) -> 0 | J8: =I8-G8 -> 0 | K8: =IF(G8<>0,ROUND(100*J8/ABS(G8),2),0) -> 0
I9: =ROUND(H9*E9,2) -> 0 | J9: =I9-G9 -> 0 | K9: =IF(G9<>0,ROUND(100*J9/ABS(G9),2),0) -> 0
I10: =ROUND(H10*E10,2) -> 0 | J10: =I10-G10 -> 0 | K10: =IF(G10<>0,ROUND(100*J10/ABS(G10),2),0) -> 0
I11: =ROUND(H11*E11,2) -> 0 | J11: =I11-G11 -> 0 | K11: =IF(G11<>0,ROUND(100*J11/ABS(G11),2),0) -> 0
I12: =ROUND(H12*E12,2) -> 0 | J12: =I12-G12 -> 0 | K12: =IF(G12<>0,ROUND(100*J12/ABS(G12),2),0) -> 0
I13: =ROUND(H13*E13,2) -> 0 | J13: =I13-G13 -> 0 | K13: =IF(G13<>0,ROUND(100*J13/ABS(G13),2),0) -> 0
I14: =ROUND(H14*E14,2) -> 0 | J14: =I14-G14 -> 0 | K14: =IF(G14<>0,ROUND(100*J14/ABS(G14),2),0) -> 0
I15: =ROUND(H15*E15,2) -> 0 | J15: =I15-G15 -> 0 | K15: =IF(G15<>0,ROUND(100*J15/ABS(G15),2),0) -> 0
I16: =ROUND(H16*E16,2) -> 0 | J16: =I16-G16 -> 0 | K16: =IF(G16<>0,ROUND(100*J16/ABS(G16),2),0) -> 0
I17: =ROUND(H17*E17,2) -> 0 | J17: =I17-G17 -> 0 | K17: =IF(G17<>0,ROUND(100*J17/ABS(G17),2),0) -> 0
... I26: =ROUND(H26*E26,2) -> 0 | J26: =I26-G26 -> 0 | K26: =IF(G26<>0,ROUND(100*J26/ABS(G26),2),0) -> 0
A27: 合 计 | G27: =SUM(G6:G26) -> 0 | I27: =SUM(I6:I26) -> 0 | J27: =I27-G27 -> 0 | K27: =IF(G27<>0,ROUND(100*J27/ABS(G27),2),0) -> 0
A28: =封面!B$10&封面!D$10 -> 产权持有单位填表人：杨庆华
A29: =封面!B$12&封面!D$12&封面!E$12&封面!F$12&封面!G$12&封面!H$12&封面!I$12 -> 填表日期：2019年1月24日 | I29: ="评估人员："&封面!$P$18 -> 评估人员：

Sheet 3-2-2交易性-债券
A1: 交易性金融资产—债券投资评估明细表
A2: ='1-汇总表'!A2:F2 -> 评估基准日：2018年12月31日
A4: ='1-汇总表'!A4 -> 产权持有人名称：阳煤集团青岛恒源化工有限公司
A5: 序号 | B5: 被投资单位名称 | C5: 债券名称 | D5: 发行日期 | E5: 投资日期 | F5: 票面利率% | G5: 成本 | H5: 账面价值 | I5: 评估价值 | J5: 增减值 | K5: 增值率% | L5: 备注
I6: =H6 -> 0 | J6: =I6-H6 -> 0 | K6: =IF(H6<>0,ROUND(100*J6/ABS(H6),2),0) -> 0
I7: =H7 -> 0 | J7: =I7-H7 -> 0 | K7: =IF(H7<>0,ROUND(100*J7/ABS(H7),2),0) -> 0
I8: =H8 -> 0 | J8: =I8-H8 -> 0 | K8: =IF(H8<>0,ROUND(100*J8/ABS(H8),2),0) -> 0
I9: =H9 -> 0 | J9: =I9-H9 -> 0 | K9: =IF(H9<>0,ROUND(100*J9/ABS(H9),2),0) -> 0
I10: =H10 -> 0 | J10: =I10-H10 -> 0 | K10: =IF(H10<>0,ROUND(100*J10/ABS(H10),2),0) -> 0
I11: =H11 -> 0 | J11: =I11-H11 -> 0 | K11: =IF(H11<>0,ROUND(100*J11/ABS(H11),2),0) -> 0
I12: =H12 -> 0 | J12: =I12-H12 -> 0 | K12: =IF(H12<>0,ROUND(100*J12/ABS(H12),2),0) -> 0
I13: =H13 -> 0 | J13: =I13-H13 -> 0 | K13: =IF(H13<>0,ROUND(100*J13/ABS(H13),2),0) -> 0
I16: =H16 -> 0 | J16: =I16-H16 -> 0 | K16: =IF(H16<>0,ROUND(100*J16/ABS(H16),2),0) -> 0
I17: =H17 -> 0 | J17: =I17-H17 -> 0 | K17: =IF(H17<>0,ROUND(100*J17/ABS(H17),2),0) -> 0
I18: =H18 -> 0 | J18: =I18-H18 -> 0 | K18: =IF(H18<>0,ROUND(100*J18/ABS(H18),2),0) -> 0
I19: =H19 -> 0 | J19: =I19-H19 -> 0 | K19: =IF(H19<>0,ROUND(100*J19/ABS(H19),2),0) -> 0
... I27: =H27 -> 0 | J27: =I27-H27 -> 0 | K27: =IF(H27<>0,ROUND(100*J27/ABS(H27),2),0) -> 0
A28: 合 计 | G28: =SUM(G6:G27) -> 0 | H28: =SUM(H6:H27) -> 0 | I28: =SUM(I6:I27) -> 0 | J28: =I28-H28 -> 0 | K28: =IF(H28<>0,ROUND(100*J28/ABS(H28),2),0) -> 0
A29: =封面!B$10&封面!D$10 -> 产权持有单位填表人：杨庆华
A30: =封面!B$12&封面!D$12&封面!E$12&封面!F$12&封面!G$12&封面!H$12&封面!I$12 -> 填表日期：2019年1月24日 | I30: ="评估人员："&封面!$P$18 -> 评估人员：

Sheet 3-2-3交易性-基金
A1: 交易性金融资产—基金投资评估明细表
A2: ='1-汇总表'!A2:F2 -> 评估基准日：2018年12月31日
A4: ='1-汇总表'!A4 -> 产权持有人名称：阳煤集团青岛恒源化工有限公司
A5: 序号 | B5: 基金发行单位 | C5: 基金名称 | D5: 基金类型 | E5: 投资日期 | F5: 成本 | G5: 账面价值 | H5: 基准日净值/份 | I5: 评估价值 | J5: 增减值 | K5: 增值率% | L5: 备注
I6: =ROUND(H6*F6,2) -> 0 | J6: =I6-G6 -> 0 | K6: =IF(G6<>0,ROUND(100*J6/ABS(G6),2),0) -> 0
I7: =ROUND(H7*F7,2) -> 0 | J7: =I7-G7 -> 0 | K7: =IF(G7<>0,ROUND(100*J7/ABS(G7),2),0) -> 0
I8: =ROUND(H8*F8,2) -> 0 | J8: =I8-G8 -> 0 | K8: =IF(G8<>0,ROUND(100*J8/ABS(G8),2),0) -> 0
I9: =ROUND(H9*F9,2) -> 0 | J9: =I9-G9 -> 0 | K9: =IF(G9<>0,ROUND(100*J9/ABS(G9),2),0) -> 0
I10: =ROUND(H10*F10,2) -> 0 | J10: =I10-G10 -> 0 | K10: =IF(G10<>0,ROUND(100*J10/ABS(G10),2),0) -> 0
I11: =ROUND(H11*F11,2) -> 0 | J11: =I11-G11 -> 0 | K11: =IF(G11<>0,ROUND(100*J11/ABS(G11),2),0) -> 0
I12: =ROUND(H12*F12,2) -> 0 | J12: =I12-G12 -> 0 | K12: =IF(G12<>0,ROUND(100*J12/ABS(G12),2),0) -> 0
I13: =ROUND(H13*F13,2) -> 0 | J13: =I13-G13 -> 0 | K13: =IF(G13<>0,ROUND(100*J13/ABS(G13),2),0) -> 0
I14: =ROUND(H14*F14,2) -> 0 | J14: =I14-G14 -> 0 | K14: =IF(G14<>0,ROUND(100*J14/ABS(G14),2),0) -> 0
I15: =ROUND(H15*F15,2) -> 0 | J15: =I15-G15 -> 0 | K15: =IF(G15<>0,ROUND(100*J15/ABS(G15),2),0) -> 0
I16: =ROUND(H16*F16,2) -> 0 | J16: =I16-G16 -> 0 | K16: =IF(G16<>0,ROUND(100*J16/ABS(G16),2),0) -> 0
I17: =ROUND(H17*F17,2) -> 0 | J17: =I17-G17 -> 0 | K17: =IF(G17<>0,ROUND(100*J17/ABS(G17),2),0) -> 0
... I26: =ROUND(H26*F26,2) -> 0 | J26: =I26-G26 -> 0 | K26: =IF(G26<>0,ROUND(100*J26/ABS(G26),2),0) -> 0
A27: 合 计 | G27: =SUM(G6:G26) -> 0 | I27: =SUM(I6:I26) -> 0 | J27: =I27-G27 -> 0 | K27: =IF(G27<>0,ROUND(100*J27/ABS(G27),2),0) -> 0
A28: =封面!B$10&封面!D$10 -> 产权持有单位填表人：杨庆华
A29: =封面!B$12&封面!D$12&封面!E$12&封面!F$12&封面!G$12&封面!H$12&封面!I$12 -> 填表日期：2019年1月24日 | I29: ="评估人员："&封面!$P$18 -> 评估人员：

Sheet 3-3应收票据
A1: 应收票据评估明细表
A2: ='1-汇总表'!A2:F2 -> 评估基准日：2018年12月31日
A4: ='1-汇总表'!A4 -> 产权持有人名称：阳煤集团青岛恒源化工有限公司
A5: 序号 | B5: 户名（结算对象） | C5: 出票日期 | D5: 到期日期 | E5: 票面利率% | F5: 账面价值 | G5: 评估价值 | H5: 增减值 | I5: 增值率% | J5: 备注
G6: =F6 -> 0 | H6: =G6-F6 -> 0 | I6: =IF(F6<>0,ROUND(100*H6/ABS(F6),2),0) -> 0
G7: =F7 -> 0 | H7: =G7-F7 -> 0 | I7: =IF(F7<>0,ROUND(100*H7/ABS(F7),2),0) -> 0
G8: =F8 -> 0 | H8: =G8-F8 -> 0 | I8: =IF(F8<>0,ROUND(100*H8/ABS(F8),2),0) -> 0
G9: =F9 -> 0 | H9: =G9-F9 -> 0 | I9: =IF(F9<>0,ROUND(100*H9/ABS(F9),2),0) -> 0
G10: =F10 -> 0 | H10: =G10-F10 -> 0 | I10: =IF(F10<>0,ROUND(100*H10/ABS(F10),2),0) -> 0
G11: =F11 -> 0 | H11: =G11-F11 -> 0 | I11: =IF(F11<>0,ROUND(100*H11/ABS(F11),2),0) -> 0
G12: =F12 -> 0 | H12: =G12-F12 -> 0 | I12: =IF(F12<>0,ROUND(100*H12/ABS(F12),2),0) -> 0
G13: =F13 -> 0 | H13: =G13-F13 -> 0 | I13: =IF(F13<>0,ROUND(100*H13/ABS(F13),2),0) -> 0
G14: =F14 -> 0 | H14: =G14-F14 -> 0 | I14: =IF(F14<>0,ROUND(100*H14/ABS(F14),2),0) -> 0
G15: =F15 -> 0 | H15: =G15-F15 -> 0 | I15: =IF(F15<>0,ROUND(100*H15/ABS(F15),2),0) -> 0
G16: =F16 -> 0 | H16: =G16-F16 -> 0 | I16: =IF(F16<>0,ROUND(100*H16/ABS(F16),2),0) -> 0
G17: =F17 -> 0 | H17: =G17-F17 -> 0 | I17: =IF(F17<>0,ROUND(100*H17/ABS(F17),2),0) -> 0
G18: =F18 -> 0 | H18: =G18-F18 -> 0 | I18: =IF(F18<>0,ROUND(100*H18/ABS(F18),2),0) -> 0
A26: 小 计 | F26: =SUM(F6:F25) -> 0 | G26: =SUM(G6:G25) -> 0 | H26: =G26-F26 -> 0 | I26: =IF(F26<>0,ROUND(100*H26/ABS(F26),2),0) -> 0
A27: 减：应收票据坏账准备
A28: 合 计 | F28: =F26-ABS(F27) -> 0 | G28: =G26-ABS(G27) -> 0 | H28: =G28-F28 -> 0 | I28: =IF(F28<>0,ROUND(100*H28/ABS(F28),2),0) -> 0
A29: =封面!B$10&封面!D$10 -> 产权持有单位填表人：杨庆华
A30: =封面!B$12&封面!D$12&封面!E$12&封面!F$12&封面!G$12&封面!H$12&封面!I$12 -> 填表日期：2019年1月24日 | G30: ="评估人员："&封面!$P$18 -> 评估人员：

Sheet 3-4应收账款
A1: 应收账款评估明细表
A2: ='1-汇总表'!A2:F2 -> 评估基准日：2018年12月31日
A4: ='1-汇总表'!A4 -> 产权持有人名称：阳煤集团青岛恒源化工有限公司
A5: 序号 | B5: 欠款单位名称（结算对象） | C5: 业务内容 | D5: 发生日期 | E5: 账面价值 | J5: 计提坏账准备 | M5: 评估价值 | N5: 增减值 | O5: 增值率% | P5: 备注
E6: 1年以内 | F6: 1年-2年 | G6: 2年-3年 | H6: 3年以上 | I6: 小计 | J6: 账龄计提 | K6: 个别计提 | L6: 合计 | M6: =#REF! -> #REF! | N6: =M6-#REF! -> #REF! | O6: =IF(#REF!<>0,ROUND(100*N6/ABS(#REF!),2),0) -> #REF!
I7: =SUM(E7:H7) -> 0 | L7: =SUM(J7:K7) -> 0 | M7: =I7-L7 -> 0 | N7: =M7-I7 -> 0 | O7: =IF(I7<>0,ROUND(100*N7/ABS(I7),2),0) -> 0
I8: =SUM(E8:H8) -> 0 | L8: =SUM(J8:K8) -> 0 | M8: =I8-L8 -> 0 | N8: =M8-I8 -> 0 | O8: =IF(I8<>0,ROUND(100*N8/ABS(I8),2),0) -> 0
I9: =SUM(E9:H9) -> 0 | L9: =SUM(J9:K9) -> 0 | M9: =I9-L9 -> 0 | N9: =M9-I9 -> 0 | O9: =IF(I9<>0,ROUND(100*N9/ABS(I9),2),0) -> 0
I10: =SUM(E10:H10) -> 0 | L10: =SUM(J10:K10) -> 0 | M10: =I10-L10 -> 0 | N10: =M10-I10 -> 0 | O10: =IF(I10<>0,ROUND(100*N10/ABS(I10),2),0) -> 0
I11: =SUM(E11:H11) -> 0 | L11: =SUM(J11:K11) -> 0 | M11: =I11-L11 -> 0 | N11: =M11-I11 -> 0 | O11: =IF(I11<>0,ROUND(100*N11/ABS(I11),2),0) -> 0
I12: =SUM(E12:H12) -> 0 | L12: =SUM(J12:K12) -> 0 | M12: =I12-L12 -> 0 | N12: =M12-I12 -> 0 | O12: =IF(I12<>0,ROUND(100*N12/ABS(I12),2),0) -> 0
I13: =SUM(E13:H13) -> 0 | L13: =SUM(J13:K13) -> 0 | M13: =I13-L13 -> 0 | N13: =M13-I13 -> 0 | O13: =IF(I13<>0,ROUND(100*N13/ABS(I13),2),0) -> 0
I14: =SUM(E14:H14) -> 0 | L14: =SUM(J14:K14) -> 0 | M14: =I14-L14 -> 0 | N14: =M14-I14 -> 0 | O14: =IF(I14<>0,ROUND(100*N14/ABS(I14),2),0) -> 0
I15: =SUM(E15:H15) -> 0 | L15: =SUM(J15:K15) -> 0 | M15: =I15-L15 -> 0 | N15: =M15-I15 -> 0 | O15: =IF(I15<>0,ROUND(100*N15/ABS(I15),2),0) -> 0
I16: =SUM(E16:H16) -> 0 | L16: =SUM(J16:K16) -> 0 | M16: =I16-L16 -> 0 | N16: =M16-I16 -> 0 | O16: =IF(I16<>0,ROUND(100*N16/ABS(I16),2),0) -> 0
I17: =SUM(E17:H17) -> 0 | L17: =SUM(J17:K17) -> 0 | M17: =I17-L17 -> 0 | N17: =M17-I17 -> 0 | O17: =IF(I17<>0,ROUND(100*N17/ABS(I17),2),0) -> 0
I18: =SUM(E18:H18) -> 0 | L18: =SUM(J18:K18) -> 0 | M18: =I18-L18 -> 0 | N18: =M18-I18 -> 0 | O18: =IF(I18<>0,ROUND(100*N18/ABS(I18),2),0) -> 0
... I24: =SUM(E24:H24) -> 0 | L24: =SUM(J24:K24) -> 0 | M24: =I24-L24 -> 0 | N24: =M24-I24 -> 0 | O24: =IF(I24<>0,ROUND(100*N24/ABS(I24),2),0) -> 0
A25: 小 计 | E25: =SUM(E7:E24) -> 0 | F25: =SUM(F7:F24) -> 0 | G25: =SUM(G7:G24) -> 0 | H25: =SUM(H7:H24) -> 0 | I25: =SUM(I7:I24) -> 0 | J25: =SUM(J7:J24) -> 0 | K25: =SUM(K7:K24) -> 0 | L25: =SUM(L7:L24) -> 0 | M25: =SUM(M7:M24) -> 0 | N25: =M25-I25 -> 0 | O25: =IF(I25<>0,ROUND(100*N25/ABS(I25),2),0) -> 0
A26: 减：应收账款坏账准备 | I26: =L25 -> 0 | O26: =IF(I26<>0,ROUND(100*N26/ABS(I26),2),0) -> 0
A27: 合 计 | E27: =E25-ABS(E26) -> 0 | F27: =F25-ABS(F26) -> 0 | G27: =G25-ABS(G26) -> 0 | H27: =H25-ABS(H26) -> 0 | I27: =I25-ABS(I26) -> 0 | M27: =M25-ABS(M26) -> 0 | N27: =M27-I27 -> 0 | O27: =IF(I27<>0,ROUND(100*N27/ABS(I27),2),0) -> 0
A28: =封面!B$10&封面!D$10 -> 产权持有单位填表人：杨庆华
A29: =封面!B$12&封面!D$12&封面!E$12&封面!F$12&封面!G$12&封面!H$12&封面!I$12 -> 填表日期：2019年1月24日 | M29: ="评估人员："&封面!$P$18 -> 评估人员：

Sheet 3-5预付账款
A1: 预付账款评估明细表
A2: ='1-汇总表'!A2:F2 -> 评估基准日：2018年12月31日
A4: ='1-汇总表'!A4 -> 产权持有人名称：阳煤集团青岛恒源化工有限公司
A5: 序号 | B5: 收款单位名称（结算对象） | C5: 业务内容 | D5: 发生日期 | E5: 账龄 | F5: 账面价值 | G5: 评估价值 | H5: 增减值 | I5: 增值率% | J5: 备注
G6: =F6 -> 0 | H6: =G6-F6 -> 0 | I6: =IF(F6<>0,ROUND(100*H6/ABS(F6),2),0) -> 0
G7: =F7 -> 0 | H7: =G7-F7 -> 0 | I7: =IF(F7<>0,ROUND(100*H7/ABS(F7),2),0) -> 0
G8: =F8 -> 0 | H8: =G8-F8 -> 0 | I8: =IF(F8<>0,ROUND(100*H8/ABS(F8),2),0) -> 0
G9: =F9 -> 0 | H9: =G9-F9 -> 0 | I9: =IF(F9<>0,ROUND(100*H9/ABS(F9),2),0) -> 0
G10: =F10 -> 0 | H10: =G10-F10 -> 0 | I10: =IF(F10<>0,ROUND(100*H10/ABS(F10),2),0) -> 0
G11: =F11 -> 0 | H11: =G11-F11 -> 0 | I11: =IF(F11<>0,ROUND(100*H11/ABS(F11),2),0) -> 0
G12: =F12 -> 0 | H12: =G12-F12 -> 0 | I12: =IF(F12<>0,ROUND(100*H12/ABS(F12),2),0) -> 0
G13: =F13 -> 0 | H13: =G13-F13 -> 0 | I13: =IF(F13<>0,ROUND(100*H13/ABS(F13),2),0) -> 0
G14: =F14 -> 0 | H14: =G14-F14 -> 0 | I14: =IF(F14<>0,ROUND(100*H14/ABS(F14),2),0) -> 0
G15: =F15 -> 0 | H15: =G15-F15 -> 0 | I15: =IF(F15<>0,ROUND(100*H15/ABS(F15),2),0) -> 0
G16: =F16 -> 0 | H16: =G16-F16 -> 0 | I16: =IF(F16<>0,ROUND(100*H16/ABS(F16),2),0) -> 0
G17: =F17 -> 0 | H17: =G17-F17 -> 0 | I17: =IF(F17<>0,ROUND(100*H17/ABS(F17),2),0) -> 0
... G24: =F24 -> 0 | H24: =G24-F24 -> 0 | I24: =IF(F24<>0,ROUND(100*H24/ABS(F24),2),0) -> 0
A25: 小 计 | F25: =SUM(F6:F24) -> 0 | G25: =SUM(G6:G24) -> 0 | H25: =G25-F25 -> 0 | I25: =IF(F25<>0,ROUND(100*H25/ABS(F25),2),0) -> 0
A26: 减：预付账款坏账准备
A27: 合 计 | F27: =F25-ABS(F26) -> 0 | G27: =G25-ABS(G26) -> 0 | H27: =G27-F27 -> 0 | I27: =IF(F27<>0,ROUND(100*H27/ABS(F27),2),0) -> 0
A28: =封面!B$10&封面!D$10 -> 产权持有单位填表人：杨庆华
A29: =封面!B$12&封面!D$12&封面!E$12&封面!F$12&封面!G$12&封面!H$12&封面!I$12 -> 填表日期：2019年1月24日 | G29: ="评估人员："&封面!$P$18 -> 评估人员：

Sheet 3-6应收利息
A1: 应收利息评估明细表
A2: ='1-汇总表'!A2:F2 -> 评估基准日：2018年12月31日
A4: ='1-汇总表'!A4 -> 产权持有人名称：阳煤集团青岛恒源化工有限公司
A5: 序号 | B5: 欠款单位名称（结算对象） | C5: 发生日期 | D5: 本金 | E5: 利息所属期间 | F5: 利息率% | G5: 账面价值 | H5: 评估价值 | I5: 增减值 | J5: 增值率% | K5: 备注
H6: =G6 -> 0 | I6: =H6-G6 -> 0 | J6: =IF(G6<>0,ROUND(100*I6/ABS(G6),2),0) -> 0
H7: =G7 -> 0 | I7: =H7-G7 -> 0 | J7: =IF(G7<>0,ROUND(100*I7/ABS(G7),2),0) -> 0
H8: =G8 -> 0 | I8: =H8-G8 -> 0 | J8: =IF(G8<>0,ROUND(100*I8/ABS(G8),2),0) -> 0
A28: 合 计 | G28: =SUM(G6:G27) -> 0 | H28: =SUM(H6:H27) -> 0 | I28: =H28-G28 -> 0 | J28: =IF(G28<>0,ROUND(100*I28/ABS(G28),2),0) -> 0
A29: =封面!B$10&封面!D$10 -> 产权持有单位填表人：杨庆华
A30: =封面!B$12&封面!D$12&封面!E$12&封面!F$12&封面!G$12&封面!H$12&封面!I$12 -> 填表日期：2019年1月24日 | H30: ="评估人员："&封面!$P$18 -> 评估人员：

Sheet 3-7应收股利
A1: 应收股利（应收利润）评估明细表
A2: ='1-汇总表'!A2:F2 -> 评估基准日：2018年12月31日
A4: ='1-汇总表'!A4 -> 产权持有人名称：阳煤集团青岛恒源化工有限公司
A5: 序号 | B5: 户名（结算对象） | C5: 发生日期 | D5: 股利（利润）所属期间 | E5: 账面价值 | F5: 评估价值 | G5: 增减值 | H5: 增值率% | I5: 备注
F6: =E6 -> 0 | G6: =F6-E6 -> 0 | H6: =IF(E6<>0,ROUND(100*G6/ABS(E6),2),0) -> 0
F7: =E7 -> 0 | G7: =F7-E7 -> 0 | H7: =IF(E7<>0,ROUND(100*G7/ABS(E7),2),0) -> 0
F8: =E8 -> 0 | G8: =F8-E8 -> 0 | H8: =IF(E8<>0,ROUND(100*G8/ABS(E8),2),0) -> 0
A28: 合 计 | E28: =SUM(E6:E27) -> 0 | F28: =SUM(F6:F27) -> 0 | G28: =F28-E28 -> 0 | H28: =IF(E28<>0,ROUND(100*G28/ABS(E28),2),0) -> 0
A29: =封面!B$10&封面!D$10 -> 产权持有单位填表人：杨庆华
A30: =封面!B$12&封面!D$12&封面!E$12&封面!F$12&封面!G$12&封面!H$12&封面!I$12 -> 填表日期：2019年1月24日 | F30: ="评估人员："&封面!$P$18 -> 评估人员：

Sheet 3-8其他应收款
A1: 其他应收款评估明细表
A2: ='1-汇总表'!A2:F2 -> 评估基准日：2018年12月31日
A4: ='1-汇总表'!A4 -> 产权持有人名称：阳煤集团青岛恒源化工有限公司
A5: 序号 | B5: 欠款单位名称（结算对象） | C5: 业务内容 | D5: 发生日期 | E5: 账面价值 | J5: 计提坏账准备 | M5: 评估价值 | N5: 增减值 | O5: 增值率% | P5: 备注
E6: 1年以内 | F6: 1年-2年 | G6: 2年-3年 | H6: 3年以上 | I6: 小计 | J6: 账龄计提 | K6: 个别计提 | L6: 合计 | M6: =#REF! -> #REF! | N6: =M6-#REF! -> #REF! | O6: =IF(#REF!<>0,ROUND(100*N6/ABS(#REF!),2),0) -> #REF!
I7: =SUM(E7:H7) -> 0 | L7: =SUM(J7:K7) -> 0 | M7: =I7-L7 -> 0 | N7: =M7-I7 -> 0 | O7: =IF(I7<>0,ROUND(100*N7/ABS(I7),2),0) -> 0
I8: =SUM(E8:H8) -> 0 | L8: =SUM(J8:K8) -> 0 | M8: =I8-L8 -> 0 | N8: =M8-I8 -> 0 | O8: =IF(I8<>0,ROUND(100*N8/ABS(I8),2),0) -> 0
I9: =SUM(E9:H9) -> 0 | L9: =SUM(J9:K9) -> 0 | M9: =I9-L9 -> 0 | N9: =M9-I9 -> 0 | O9: =IF(I9<>0,ROUND(100*N9/ABS(I9),2),0) -> 0
I10: =SUM(E10:H10) -> 0 | L10: =SUM(J10:K10) -> 0 | M10: =I10-L10 -> 0 | N10: =M10-I10 -> 0 | O10: =IF(I10<>0,ROUND(100*N10/ABS(I10),2),0) -> 0
I11: =SUM(E11:H11) -> 0 | L11: =SUM(J11:K11) -> 0 | M11: =I11-L11 -> 0 | N11: =M11-I11 -> 0 | O11: =IF(I11<>0,ROUND(100*N11/ABS(I11),2),0) -> 0
I12: =SUM(E12:H12) -> 0 | L12: =SUM(J12:K12) -> 0 | M12: =I12-L12 -> 0 | N12: =M12-I12 -> 0 | O12: =IF(I12<>0,ROUND(100*N12/ABS(I12),2),0) -> 0
I13: =SUM(E13:H13) -> 0 | L13: =SUM(J13:K13) -> 0 | M13: =I13-L13 -> 0 | N13: =M13-I13 -> 0 | O13: =IF(I13<>0,ROUND(100*N13/ABS(I13),2),0) -> 0
I14: =SUM(E14:H14) -> 0 | L14: =SUM(J14:K14) -> 0 | M14: =I14-L14 -> 0 | N14: =M14-I14 -> 0 | O14: =IF(I14<>0,ROUND(100*N14/ABS(I14),2),0) -> 0
I15: =SUM(E15:H15) -> 0 | L15: =SUM(J15:K15) -> 0 | M15: =I15-L15 -> 0 | N15: =M15-I15 -> 0 | O15: =IF(I15<>0,ROUND(100*N15/ABS(I15),2),0) -> 0
I16: =SUM(E16:H16) -> 0 | L16: =SUM(J16:K16) -> 0 | M16: =I16-L16 -> 0 | N16: =M16-I16 -> 0 | O16: =IF(I16<>0,ROUND(100*N16/ABS(I16),2),0) -> 0
I17: =SUM(E17:H17) -> 0 | L17: =SUM(J17:K17) -> 0 | M17: =I17-L17 -> 0 | N17: =M17-I17 -> 0 | O17: =IF(I17<>0,ROUND(100*N17/ABS(I17),2),0) -> 0
I18: =SUM(E18:H18) -> 0 | L18: =SUM(J18:K18) -> 0 | M18: =I18-L18 -> 0 | N18: =M18-I18 -> 0 | O18: =IF(I18<>0,ROUND(100*N18/ABS(I18),2),0) -> 0
... I23: =SUM(E23:H23) -> 0 | L23: =SUM(J23:K23) -> 0 | M23: =I23-L23 -> 0 | N23: =M23-I23 -> 0 | O23: =IF(I23<>0,ROUND(100*N23/ABS(I23),2),0) -> 0
A24: 合 计 | E24: =SUM(E7:E23) -> 0 | F24: =SUM(F7:F23) -> 0 | G24: =SUM(G7:G23) -> 0 | H24: =SUM(H7:H23) -> 0 | I24: =SUM(I7:I23) -> 0 | J24: =SUM(J7:J23) -> 0 | K24: =SUM(K7:K23) -> 0 | L24: =SUM(L7:L23) -> 0 | M24: =SUM(M7:M23) -> 0 | N24: =M24-I24 -> 0 | O24: =IF(I24<>0,ROUND(100*N24/ABS(I24),2),0) -> 0
A25: 减：其他应收款坏账准备 | I25: =L24 -> 0 | O25: =IF(I25<>0,ROUND(100*N25/ABS(I25),2),0) -> 0
A26: 净 额 | E26: =E24-ABS(E25) -> 0 | F26: =F24-ABS(F25) -> 0 | G26: =G24-ABS(G25) -> 0 | H26: =H24-ABS(H25) -> 0 | I26: =I24-ABS(I25) -> 0 | M26: =M24-ABS(M25) -> 0 | N26: =M26-I26 -> 0 | O26: =IF(I26<>0,ROUND(100*N26/ABS(I26),2),0) -> 0
A27: =封面!B$10&封面!D$10 -> 产权持有单位填表人：杨庆华
A28: =封面!B$12&封面!D$12&封面!E$12&封面!F$12&封面!G$12&封面!H$12&封面!I$12 -> 填表日期：2019年1月24日 | G28: ="评估人员："&封面!$P$18 -> 评估人员：

Sheet 3-9存货汇总
A1: 存货评估汇总表
A2: ='1-汇总表'!A2:F2 -> 评估基准日：2018年12月31日
A4: ='1-汇总表'!A4 -> 产权持有人名称：阳煤集团青岛恒源化工有限公司
A5: 编号 | B5: 科目名称 | C5: 账面价值 | D5: 评估价值 | E5: 增减值 | F5: 增值率%
A6: 3-9-1 | B6: 材料采购（在途物资）
A7: 3-9-2 | B7: 原材料 | C7: ='3-9-2原材料'!H800 -> 1756052.1 | D7: ='3-9-2原材料'!M800 -> 154883.26 | E7: =D7-C7 -> -1601168.9 | F7: =IF(OR(C7=0,C7=""),"",ROUND(E7/C7*100,2)) -> -91.18
A8: 3-9-3 | B8: 在库周转材料
A9: 3-9-4 | B9: 委托加工物资
A10: 3-9-5 | B10: 产成品（库存商品） | C10: ='3-9-5产成品（库存商品）'!J28 -> 875266.21 | D10: ='3-9-5产成品（库存商品）'!S28 -> 0 | E10: =D10-C10 -> -875266.21 | F10: =IF(OR(C10=0,C10=""),"",ROUND(E10/C10*100,2)) -> -100
A11: 3-9-6 | B11: 在产品（自制半成品）
A12: 3-9-7 | B12: 发出商品
A13: 3-9-8 | B13: 在用周转材料
A26: 合 计 | C26: =SUM(C6:C13) -> 2631318.4 | D26: =SUM(D6:D13) -> 154883.26 | E26: =D26-C26 -> -2476435.1 | F26: =IF(OR(C26=0,C26=""),"",ROUND(E26/C26*100,2)) -> -94.11
A27: 减：存货跌价准备
A28: 合 计 | C28: =C26-C27 -> 2631318.4 | D28: =D26-D27 -> 154883.26 | E28: =D28-C28 -> -2476435.1 | F28: =IF(OR(C28=0,C28=""),"",ROUND(E28/C28*100,2)) -> -94.11
D30: ="评估人员："&封面!$P$20 -> 评估人员：巨芳
C34: 1756052.1 | D34: 154883.26 | E34: -1601168.9 | F34: -91.18
C35: 875266.21 | D35: 0 | E35: -875266.21 | F35: -100
C36: 2631318.4 | D36: 154883.26 | E36: -2476435.1 | F36: -94.11

Sheet 3-9-1材料采购（在途物资）
A1: 存货—材料采购（在途物资）评估明细表
A2: ='1-汇总表'!A2:F2 -> 评估基准日：2018年12月31日
A4: ='1-汇总表'!A4 -> 产权持有人名称：阳煤集团青岛恒源化工有限公司
A5: 序号 | B5: 名称及规格型号 | C5: 计量单位 | D5: 账面价值 | G5: 评估价值 | J5: 增减值 | K5: 增值率% | L5: 备注
D6: 数量 | E6: 单价 | F6: 金额 | G6: 实际数量 | H6: 评估单价 | I6: 金额
G7: =D7 -> 0 | I7: =ROUND(H7*G7,2) -> 0 | J7: =I7-F7 -> 0 | K7: =IF(OR(F7=0,F7=""),"",ROUND(J7/F7*100,2))
G8: =D8 -> 0 | I8: =ROUND(H8*G8,2) -> 0 | J8: =I8-F8 -> 0 | K8: =IF(OR(F8=0,F8=""),"",ROUND(J8/F8*100,2))
G9: =D9 -> 0 | I9: =ROUND(H9*G9,2) -> 0 | J9: =I9-F9 -> 0 | K9: =IF(OR(F9=0,F9=""),"",ROUND(J9/F9*100,2))
G10: =D10 -> 0 | I10: =ROUND(H10*G10,2) -> 0 | J10: =I10-F10 -> 0 | K10: =IF(OR(F10=0,F10=""),"",ROUND(J10/F10*100,2))
G11: =D11 -> 0 | I11: =ROUND(H11*G11,2) -> 0 | J11: =I11-F11 -> 0 | K11: =IF(OR(F11=0,F11=""),"",ROUND(J11/F11*100,2))
G12: =D12 -> 0 | I12: =ROUND(H12*G12,2) -> 0 | J12: =I12-F12 -> 0 | K12: =IF(OR(F12=0,F12=""),"",ROUND(J12/F12*100,2))
G13: =D13 -> 0 | I13: =ROUND(H13*G13,2) -> 0 | J13: =I13-F13 -> 0 | K13: =IF(OR(F13=0,F13=""),"",ROUND(J13/F13*100,2))
G14: =D14 -> 0 | I14: =ROUND(H14*G14,2) -> 0 | J14: =I14-F14 -> 0 | K14: =IF(OR(F14=0,F14=""),"",ROUND(J14/F14*100,2))
G15: =D15 -> 0 | I15: =ROUND(H15*G15,2) -> 0 | J15: =I15-F15 -> 0 | K15: =IF(OR(F15=0,F15=""),"",ROUND(J15/F15*100,2))
G16: =D16 -> 0 | I16: =ROUND(H16*G16,2) -> 0 | J16: =I16-F16 -> 0 | K16: =IF(OR(F16=0,F16=""),"",ROUND(J16/F16*100,2))
G17: =D17 -> 0 | I17: =F17 -> 0 | J17: =I17-F17 -> 0 | K17: =IF(OR(F17=0,F17=""),"",ROUND(J17/F17*100,2))
G18: =D18 -> 0 | I18: =F18 -> 0 | J18: =I18-F18 -> 0
G19: =D19 -> 0 | I19: =ROUND(H19*G19,2) -> 0 | J19: =I19-F19 -> 0 | K19: =IF(OR(F19=0,F19=""),"",ROUND(J19/F19*100,2))
G20: =D20 -> 0 | I20: =ROUND(H20*G20,2) -> 0 | J20: =I20-F20 -> 0 | K20: =IF(OR(F20=0,F20=""),"",ROUND(J20/F20*100,2))
G21: =D21 -> 0 | I21: =ROUND(H21*G21,2) -> 0 | J21: =I21-F21 -> 0 | K21: =IF(OR(F21=0,F21=""),"",ROUND(J21/F21*100,2))
G22: =D22 -> 0 | I22: =ROUND(H22*G22,2) -> 0 | J22: =I22-F22 -> 0 | K22: =IF(OR(F22=0,F22=""),"",ROUND(J22/F22*100,2))
G23: =D23 -> 0 | I23: =ROUND(H23*G23,2) -> 0 | J23: =I23-F23 -> 0 | K23: =IF(OR(F23=0,F23=""),"",ROUND(J23/F23*100,2))
G24: =D24 -> 0 | I24: =ROUND(H24*G24,2) -> 0 | J24: =I24-F24 -> 0 | K24: =IF(OR(F24=0,F24=""),"",ROUND(J24/F24*100,2))
A28: 合 计 | F28: =SUM(F7:F27) -> 0 | I28: =SUM(I7:I27) -> 0 | J28: =I28-F28 -> 0 | K28: =IF(OR(F28=0,F28=""),"",ROUND(J28/F28*100,2))
A29: =封面!B$10&封面!D$10 -> 产权持有单位填表人：杨庆华
A30: =封面!B$12&封面!D$12&封面!E$12&封面!F$12&封面!G$12&封面!H$12&封面!I$12 -> 填表日期：2019年1月24日 | I30: ="评估人员："&封面!$P$20 -> 评估人员：巨芳

Sheet 3-9-2原材料
A1: 存货—原材料评估明细表
A2: ='1-汇总表'!A2:F2 -> 评估基准日：2018年12月31日
A4: ='1-汇总表'!A4 -> 产权持有人名称：阳煤集团青岛恒源化工有限公司
A5: 序号 | B5: 名称及规格型号 | C5: 计量单位 | D5: 存放地点 | E5: 资产状态（报废、报废、淘汰） | F5: 账面价值 | I5: 可回收材料（废钢、废铜、其他） | J5: 残余重量总重（kg） | K5: 评估价值 | N5: 增减值 | O5: 增值率% | P5: 备注
F6: 数量 | G6: 单价 | H6: 金额 | K6: 实际数量 | L6: 评估单价 | M6: 金额
A7: 1 | B7: 碳纤维盘根 | C7: kg | D7: 1#库 | E7: 变质 | F7: 5 | G7: =H7/F7 -> 153 | H7: 765 | K7: 5 | L7: 0 | M7: 0 | N7: =M7-H7 -> -765 | O7: =IF(OR(H7=0,H7=""),"",ROUND(N7/H7*100,2)) -> -100 | P7: 无回收价值
A8: 2 | B8: 干粉灭火器 | C8: 台 | D8: 1#库 | E8: 变质 | F8: 20 | G8: =H8/F8 -> 80 | H8: 1600 | K8: 20 | L8: 0 | M8: 0 | N8: =M8-H8 -> -1600 | O8: =IF(OR(H8=0,H8=""),"",ROUND(N8/H8*100,2)) -> -100 | P8: 无回收价值
A9: 3 | B9: 室内消防栓 | C9: 台 | D9: 1#库 | E9: 变质 | F9: 1 | G9: =H9/F9 -> 555.56 | H9: 555.56 | K9: 1 | L9: 0 | M9: 0 | N9: =M9-H9 -> -555.56 | O9: =IF(OR(H9=0,H9=""),"",ROUND(N9/H9*100,2)) -> -100 | P9: 无回收价值
A10: 4 | B10: 消防带 | C10: 条 | D10: 1#库 | E10: 变质 | F10: 9 | G10: =H10/F10 -> 230 | H10: 2070 | K10: 9 | L10: 0 | M10: 0 | N10: =M10-H10 -> -2070 | O10: =IF(OR(H10=0,H10=""),"",ROUND(N10/H10*100,2)) -> -100 | P10: 无回收价值
A11: 5 | B11: 消防锨 | C11: 把 | D11: 1#库 | E11: 变质 | F11: 32 | G11: =H11/F11 -> 15 | H11: 480 | K11: 32 | L11: 0 | M11: 0 | N11: =M11-H11 -> -480 | O11: =IF(OR(H11=0,H11=""),"",ROUND(N11/H11*100,2)) -> -100 | P11: 无回收价值
A12: 6 | B12: 结合器 | C12: 台 | D12: 1#库 | E12: 变质 | F12: 1 | G12: =H12/F12 -> 820.51 | H12: 820.51 | K12: 1 | L12: 0 | M12: 0 | N12: =M12-H12 -> -820.51 | O12: =IF(OR(H12=0,H12=""),"",ROUND(N12/H12*100,2)) -> -100 | P12: 无回收价值
A13: 7 | B13: 水枪 | C13: 个 | D13: 1#库 | E13: 变质 | F13: 11 | G13: =H13/F13 -> 23.08 | H13: 253.88 | K13: 11 | L13: 0 | M13: 0 | N13: =M13-H13 -> -253.88 | O13: =IF(OR(H13=0,H13=""),"",ROUND(N13/H13*100,2)) -> -100 | P13: 无回收价值
A14: 8 | B14: 消防筒 | C14: 个 | D14: 1#库 | E14: 变质 | F14: 4 | G14: =H14/F14 -> 10 | H14: 40 | K14: 4 | L14: 0 | M14: 0 | N14: =M14-H14 -> -40 | O14: =IF(OR(H14=0,H14=""),"",ROUND(N14/H14*100,2)) -> -100 | P14: 无回收价值
A15: 9 | B15: 三角带 | C15: 条 | D15: 1#库 | E15: 变质 | F15: 5 | G15: =H15/F15 -> 68.38 | H15: 341.9 | K15: 5 | L15: 0 | M15: 0 | N15: =M15-H15 -> -341.9 | O15: =IF(OR(H15=0,H15=""),"",ROUND(N15/H15*100,2)) -> -100 | P15: 无回收价值
A16: 10 | B16: 三角带 | C16: 条 | D16: 1#库 | E16: 变质 | F16: 18 | G16: =H16/F16 -> 239.32 | H16: 4307.76 | K16: 18 | L16: 0 | M16: 0 | N16: =M16-H16 -> -4307.76 | O16: =IF(OR(H16=0,H16=""),"",ROUND(N16/H16*100,2)) -> -100 | P16: 无回收价值
A17: 11 | B17: 三角带 | C17: 条 | D17: 1#库 | E17: 变质 | F17: 3 | G17: =H17/F17 -> 16.35 | H17: 49.05 | K17: 3 | L17: 0 | M17: 0 | N17: =M17-H17 -> -49.05 | O17: =IF(OR(H17=0,H17=""),"",ROUND(N17/H17*100,2)) -> -100 | P17: 无回收价值
A18: 12 | B18: 油毡纸 | C18: 捆 | D18: 1#库 | E18: 变质 | F18: 4 | G18: =H18/F18 -> 40 | H18: 160 | K18: 4 | L18: 0 | M18: 0 | N18: =M18-H18 -> -160 | O18: =IF(OR(H18=0,H18=""),"",ROUND(N18/H18*100,2)) -> -100 | P18: 无回收价值
... A28: 22 | B28: 石英视镜 | C28: 块 | D28: 1#库 | E28: 变质 | F28: 2 | G28: =H28/F28 -> 780 | H28: 1560 | K28: 2 | L28: 0 | M28: 0 | N28: =M28-H28 -> -1560 | O28: =IF(OR(H28=0,H28=""),"",ROUND(N28/H28*100,2)) -> -100 | P28: 无回收价值
A29: 23 | B29: 轴承 | C29: 套 | D29: 1#库 | E29: 报废 | F29: 1 | G29: =H29/F29 -> 1709.4 | H29: 1709.4 | I29: 废不锈钢 | J29: 25 | K29: 1 | L29: 205 | M29: 205 | N29: =M29-H29 -> -1504.4 | O29: =IF(OR(H29=0,H29=""),"",ROUND(N29/H29*100,2)) -> -88.01 | P29: 新厂
A30: 24 | B30: 轴承 | C30: 套 | D30: 1#库 | E30: 报废 | F30: 2 | G30: =H30/F30 -> 211.97 | H30: 423.94 | I30: 废不锈钢 | J30: 6 | K30: 2 | L30: 24.6 | M30: 49.2 | N30: =M30-H30 -> -374.74 | O30: =IF(OR(H30=0,H30=""),"",ROUND(N30/H30*100,2)) -> -88.39 | P30: 新厂
A31: 25 | B31: 轴承 | C31: 套 | D31: 1#库 | E31: 报废 | F31: 2 | G31: =H31/F31 -> 31.62 | H31: 63.24 | I31: 废不锈钢 | J31: 2 | K31: 2 | L31: 8.2 | M31: 16.4 | N31: =M31-H31 -> -46.84 | O31: =IF(OR(H31=0,H31=""),"",ROUND(N31/H31*100,2)) -> -74.07 | P31: 新厂
A32: 26 | B32: 轴承 | C32: 套 | D32: 1#库 | E32: 报废 | F32: 2 | G32: =H32/F32 -> 576.92 | H32: 1153.84 | I32: 废不锈钢 | J32: 8 | K32: 2 | L32: 32.8 | M32: 65.6 | N32: =M32-H32 -> -1088.24 | O32: =IF(OR(H32=0,H32=""),"",ROUND(N32/H32*100,2)) -> -94.31 | P32: 新厂
A33: 27 | B33: 螺栓 | C33: 个 | D33: 1#库 | E33: 报废 | F33: 6585 | G33: =H33/F33 -> 0.68 | H33: 4477.8 | I33: 碳钢 | J33: 800 | K33: 6585 | L33: 0.26 | M33: 1712 | N33: =M33-H33 -> -2765.8 | O33: =IF(OR(H33=0,H33=""),"",ROUND(N33/H33*100,2)) -> -61.77 | P33: 新厂
A34: 28 | B34: 螺栓 | C34: 个 | D34: 1#库 | E34: 报废 | F34: 1012 | G34: =H34/F34 -> 1 | H34: 1012 | I34: 碳钢 | J34: 200 | K34: 1012 | L34: 0.42 | M34: 428 | N34: =M34-H34 -> -584 | O34: =IF(OR(H34=0,H34=""),"",ROUND(N34/H34*100,2)) -> -57.71 | P34: 新厂
A35: 29 | B35: 螺栓 | C35: 个 | D35: 1#库 | E35: 报废 | F35: 1274 | G35: =H35/F35 -> 3.08 | H35: 3923.92 | I35: 碳钢 | J35: 210 | K35: 1274 | L35: 0.35 | M35: 449.4 | N35: =M35-H35 -> -3474.52 | O35: =IF(OR(H35=0,H35=""),"",ROUND(N35/H35*100,2)) -> -88.55 | P35: 新厂
A36: 30 | B36: 螺栓 | C36: 个 | D36: 1#库 | E36: 报废 | F36: 40 | G36: =H36/F36 -> 4.2 | H36: 168 | I36: 碳钢 | J36: 40 | K36: 40 | L36: 2.14 | M36: 85.6 | N36: =M36-H36 -> -82.4 | O36: =IF(OR(H36=0,H36=""),"",ROUND(N36/H36*100,2)) -> -49.05 | P36: 新厂
A37: 31 | B37: 螺栓 | C37: 个 | D37: 1#库 | E37: 报废 | F37: 205 | G37: =H37/F37 -> 5 | H37: 1025 | I37: 碳钢 | J37: 200 | K37: 205 | L37: 2.09 | M37: 428 | N37: =M37-H37 -> -597 | O37: =IF(OR(H37=0,H37=""),"",ROUND(N37/H37*100,2)) -> -58.24 | P37: 新厂
A38: 32 | B38: 螺栓 | C38: 个 | D38: 1#库 | E38: 报废 | F38: 81 | G38: =H38/F38 -> 5 | H38: 405 | I38: 碳钢 | J38: 80 | K38: 81 | L38: 2.11 | M38: 171.2 | N38: =M38-H38 -> -233.8 | O38: =IF(OR(H38=0,H38=""),"",ROUND(N38/H38*100,2)) -> -57.73 | P38: 新厂
A39: 33 | B39: 螺栓 | C39: 个 | D39: 1#库 | E39: 报废 | F39: 155 | G39: =H39/F39 -> 8.2 | H39: 1271 | I39: 碳钢 | J39: 300 | K39: 155 | L39: 4.14 | M39: 642 | N39: =M39-H39 -> -629 | O39: =IF(OR(H39=0,H39=""),"",ROUND(N39/H39*100,2)) -> -49.49 | P39: 新厂
A40: 34 | B40: 花兰螺栓 | C40: 个 | D40: 1#库 | E40: 报废 | F40: 116 | G40: =H40/F40 -> 10 | H40: 1160 | I40: 碳钢 | J40: 200 | K40: 116 | L40: 3.69 | M40: 428 | N40: =M40-H40 -> -732 | O40: =IF(OR(H40=0,H40=""),"",ROUND(N40/H40*100,2)) -> -63.1 | P40: 新厂
... A96: 90 | B96: 轴承 | C96: 套 | D96: 1#库 | E96: 报废 | F96: 4 | G96: =H96/F96 -> 140.78 | H96: 563.12 | I96: 废不锈钢 | J96: 6 | K96: 4 | L96: 12.3 | M96: 49.2 | N96: =M96-H96 -> -513.92 | O96: =IF(OR(H96=0,H96=""),"",ROUND(N96/H96*100,2)) -> -91.26 | P96: 新厂
A97: 91 | B97: 泵轴 | C97: 件 | D97: 2#库 | E97: 报废 | F97: 2 | G97: =H97/F97 -> 538 | H97: 1076 | I97: 碳钢 | J97: 15.5 | K97: 2 | L97: 16.59 | M97: 33.17 | N97: =M97-H97 -> -1042.83 | O97: =IF(OR(H97=0,H97=""),"",ROUND(N97/H97*100,2)) -> -96.92
A98: 92 | B98: 轴套 | C98: 件 | D98: 2#库 | E98: 报废 | F98: 6 | G98: =H98/F98 -> 564 | H98: 3384 | I98: 碳钢 | J98: 360 | K98: 6 | L98: 128.4 | M98: 770.4 | N98: =M98-H98 -> -2613.6 | O98: =IF(OR(H98=0,H98=""),"",ROUND(N98/H98*100,2)) -> -77.23
A99: 93 | B99: 轴帽 | C99: 件 | D99: 2#库 | E99: 报废 | F99: 3 | G99: =H99/F99 -> 104 | H99: 312 | I99: 碳钢 | J99: 37 | K99: 3 | L99: 26.39 | M99: 79.18 | N99: =M99-H99 -> -232.82 | O99: =IF(OR(H99=0,H99=""),"",ROUND(N99/H99*100,2)) -> -74.62
A100: 94 | B100: 叶轮 | C100: 件 | D100: 2#库 | E100: 报废 | F100: 3 | G100: =H100/F100 -> 2438 | H100: 7314 | I100: 碳钢 | J100: 103.5 | K100: 3 | L100: 73.83 | M100: 221.49 | N100: =M100-H100 -> -7092.51 | O100: =IF(OR(H100=0,H100=""),"",ROUND(N100/H100*100,2)) -> -96.97
A101: 95 | B101: 泵壳 | C101: 件 | D101: 2#库 | E101: 报废 | F101: 1 | G101: =H101/F101 -> 4726 | H101: 4726 | I101: 碳钢 | J101: 21 | K101: 1 | L101: 44.94 | M101: 44.94 | N101: =M101-H101 -> -4681.06 | O101: =IF(OR(H101=0,H101=""),"",ROUND(N101/H101*100,2)) -> -99.05
A102: 96 | B102: 中间支架 | C102: 件 | D102: 2#库 | E102: 报废 | F102: 2 | G102: =H102/F102 -> 692 | H102: 1384 | I102: 碳钢 | J102: 70 | K102: 2 | L102: 74.9 | M102: 149.8 | N102: =M102-H102 -> -1234.2 | O102: =IF(OR(H102=0,H102=""),"",ROUND(N102/H102*100,2)) -> -89.18
A103: 97 | B103: 轴承压盖 | C103: 件 | D103: 2#库 | E103: 报废 | F103: 2 | G103: =H103/F103 -> 241.03 | H103: 482.06 | I103: 碳钢 | J103: 44 | K103: 2 | L103: 47.08 | M103: 94.16 | N103: =M103-H103 -> -387.9 | O103: =IF(OR(H103=0,H103=""),"",ROUND(N103/H103*100,2)) -> -80.47
A104: 98 | B104: 轴承箱 | C104: 件 | D104: 2#库 | E104: 报废 | F104: 1 | G104: =H104/F104 -> 664.1 | H104: 664.1 | I104: 碳钢 | J104: 54 | K104: 1 | L104: 115.56 | M104: 115.56 | N104: =M104-H104 -> -548.54 | O104: =IF(OR(H104=0,H104=""),"",ROUND(N104/H104*100,2)) -> -82.6
A105: 99 | B105: 石墨轴承 | C105: 付 | D105: 2#库 | E105: 报废 | F105: 6 | G105: =H105/F105 -> 153 | H105: 918 | I105: 碳钢 | J105: 29 | K105: 6 | L105: 10.34 | M105: 62.06 | N105: =M105-H105 -> -855.94 | O105: =IF(OR(H105=0,H105=""),"",ROUND(N105/H105*100,2)) -> -93.24
...

Sheet 3-9-3在库周转材料
A1: 存货—在库周转材料评估明细表
A2: ='1-汇总表'!A2:F2 -> 评估基准日：2018年12月31日
A4: ='1-汇总表'!A4 -> 产权持有人名称：阳煤集团青岛恒源化工有限公司
A5: 序号 | B5: 名称及规格型号 | C5: 计量单位 | D5: 存放地点 | E5: 账面价值 | H5: 评估价值 | K5: 增减值 | L5: 增值率% | M5: 备注
E6: 数量 | F6: 单价 | G6: 金额 | H6: 实际数量 | I6: 评估单价 | J6: 金额
H7: =E7 -> 0 | J7: =ROUND(I7*H7,2) -> 0 | K7: =J7-G7 -> 0 | L7: =IF(OR(G7=0,G7=""),"",ROUND(K7/G7*100,2))
H8: =E8 -> 0 | J8: =ROUND(I8*H8,2) -> 0 | K8: =J8-G8 -> 0 | L8: =IF(OR(G8=0,G8=""),"",ROUND(K8/G8*100,2))
H9: =E9 -> 0 | J9: =ROUND(I9*H9,2) -> 0 | K9: =J9-G9 -> 0 | L9: =IF(OR(G9=0,G9=""),"",ROUND(K9/G9*100,2))
H10: =E10 -> 0 | J10: =ROUND(I10*H10,2) -> 0 | K10: =J10-G10 -> 0 | L10: =IF(OR(G10=0,G10=""),"",ROUND(K10/G10*100,2))
H11: =E11 -> 0 | J11: =ROUND(I11*H11,2) -> 0 | K11: =J11-G11 -> 0 | L11: =IF(OR(G11=0,G11=""),"",ROUND(K11/G11*100,2))
H12: =E12 -> 0 | J12: =ROUND(I12*H12,2) -> 0 | K12: =J12-G12 -> 0 | L12: =IF(OR(G12=0,G12=""),"",ROUND(K12/G12*100,2))
H13: =E13 -> 0 | J13: =ROUND(I13*H13,2) -> 0 | K13: =J13-G13 -> 0 | L13: =IF(OR(G13=0,G13=""),"",ROUND(K13/G13*100,2))
H14: =E14 -> 0 | J14: =ROUND(I14*H14,2) -> 0 | K14: =J14-G14 -> 0 | L14: =IF(OR(G14=0,G14=""),"",ROUND(K14/G14*100,2))
H15: =E15 -> 0 | J15: =ROUND(I15*H15,2) -> 0 | K15: =J15-G15 -> 0 | L15: =IF(OR(G15=0,G15=""),"",ROUND(K15/G15*100,2))
H16: =E16 -> 0 | J16: =ROUND(I16*H16,2) -> 0 | K16: =J16-G16 -> 0
H17: =E17 -> 0 | J17: =ROUND(I17*H17,2) -> 0 | K17: =J17-G17 -> 0 | L17: =IF(OR(G17=0,G17=""),"",ROUND(K17/G17*100,2))
H18: =E18 -> 0 | J18: =ROUND(I18*H18,2) -> 0 | K18: =J18-G18 -> 0 | L18: =IF(OR(G18=0,G18=""),"",ROUND(K18/G18*100,2))
H19: =E19 -> 0 | J19: =ROUND(I19*H19,2) -> 0 | K19: =J19-G19 -> 0 | L19: =IF(OR(G19=0,G19=""),"",ROUND(K19/G19*100,2))
H20: =E20 -> 0 | J20: =ROUND(I20*H20,2) -> 0 | K20: =J20-G20 -> 0 | L20: =IF(OR(G20=0,G20=""),"",ROUND(K20/G20*100,2))
H21: =E21 -> 0 | J21: =ROUND(I21*H21,2) -> 0 | K21: =J21-G21 -> 0 | L21: =IF(OR(G21=0,G21=""),"",ROUND(K21/G21*100,2))
H22: =E22 -> 0 | J22: =ROUND(I22*H22,2) -> 0 | K22: =J22-G22 -> 0 | L22: =IF(OR(G22=0,G22=""),"",ROUND(K22/G22*100,2))
H23: =E23 -> 0 | J23: =ROUND(I23*H23,2) -> 0 | K23: =J23-G23 -> 0 | L23: =IF(OR(G23=0,G23=""),"",ROUND(K23/G23*100,2))
H24: =E24 -> 0 | J24: =ROUND(I24*H24,2) -> 0 | K24: =J24-G24 -> 0 | L24: =IF(OR(G24=0,G24=""),"",ROUND(K24/G24*100,2))
