Workbook
Name AccountsPayableBookValue: '5-4应付账款'!$G$51
Name AccountsPayableValuationPrice: '5-4应付账款'!$H$51
Name AccountsReceivableBookValue: '3-4应收账款'!$H$23
Name AccountsReceivableValuationPrice: '3-4应收账款'!$J$23
Name AccountsReceivedinAdvanceBookValue: '5-5预收款项'!$G$27
Name AccountsReceivedinAdvanceValuationPrice: '5-5预收款项'!$H$27
Name AmortizedinvestmentBookValue: '4-7-3在建（待摊投资）'!$E$70
Name AmortizedinvestmentValuationPrice: '4-7-3在建（待摊投资）'!$F$70
Name AvaisaleOthersBookValue: '4-1-3可出售-其他'!$I$27
Name AvaisaleOthersValuationPrice: '4-1-3可出售-其他'!$K$27
Name AvaisaleStocksBookValue: '4-1-1可出售-股票'!$I$27
Name AvaisaleStocksValuationPrice: '4-1-1可出售-股票'!$K$27
Name AvasaleBondsBookValue: '4-1-2可出售-债券'!$I$27
Name AvasaleBondsValuationPrice: '4-1-2可出售-债券'!$K$27
Name B: '3-1-2银行存款'!$A$6:$J$27
Name BankDepositBookValue: '3-1-2银行存款'!$G$27
Name BankDepositValuationPrice: '3-1-2银行存款'!$H$27
Name BillsPayableBookValue: '5-3应付票据'!$F$27
Name BillsPayableValuationPrice: '5-3应付票据'!$G$27
Name BillsReceivableBookValue: '3-3应收票据'!$F$27
Name BillsReceivableValuationPrice: '3-3应收票据'!$H$27
Name BondsPayableBookValue: '6-2应付债券'!$G$27
Name BondsPayableValuationPrice: '6-2应付债券'!$H$27
Name BuildingsBookValue: '4-6-1房屋建筑物'!$V$26
Name BuildingsValuationPrice: '4-6-1房屋建筑物'!$Z$26
Name BusinessReputationBookValue: '4-14商誉'!$D$27
Name BusinessReputationValuationPrice: '4-14商誉'!$E$27
Name CashBookValue: '3-1-1现金'!$F$22
Name CashValuationPrice: '3-1-1现金'!$G$22
Name ConstruProcCivilEngiBookValue: '4-7-1在建（土建）'!$N$250
Name ConstruProcCivilEngiValuationPrice: '4-7-1在建（土建）'!$P$250
Name ConstruProcEquipBookValue: '4-7-2在建（设备）'!$O$390
Name ConstruProcEquipValuationPrice: '4-7-2在建（设备）'!$T$390
Name ConsumptiveBiologicalAssetsBookValue: '3-9-11消耗性生物资产'!$I$27
Name ConsumptiveBiologicalAssetsValuationPrice: '3-9-11消耗性生物资产'!$M$27
Name ContractAssestsBookValue: '3-12合同资产'!$I$27
Name ContractAssesValuationPrice: '3-12合同资产'!$K$27
Name ContractDebitBookValue: '5-13合同负债'!$G$27
Name ContractDebitValuationPrice: '5-13合同负债'!$H$27
Name CostofDevelopmentBookValue: '3-9-10开发成本'!$W$27
Name CostofDevelopmentValuationPrice: '3-9-10开发成本'!$X$27
Name DeferIncoTaxAsBookValue: '4-16递延所得税资产'!$D$27
Name DeferIncoTaxAsValuationPrice: '4-16递延所得税资产'!$E$27
Name DeferIncoTaxLiabBookValue: '6-6递延所得税负债'!$D$27
Name DeferIncoTaxLiabValuationPrice: '6-6递延所得税负债'!$E$27
Name DevelopExpendBookValue: '4-13开发支出'!$I$27
Name DevelopExpendValuationPrice: '4-13开发支出'!$J$27
Name DevelopProductBookValue: '3-9-9开发产品'!$V$27
Name DevelopProductValuationPrice: '3-9-9开发产品'!$W$27
Name DividendPayableBookValue: '5-9应付股利（利润）'!$E$27
Name DividendPayableValuationPrice: '5-9应付股利（利润）'!$F$27
Name DividendReceivableBookValue: '3-7应收股利'!$E$27
Name DividendReceivableValuationPrice: '3-7应收股利'!$F$27
Name ElecEquipBookValue: '4-6-7电子设备'!$N$71
Name ElecEquipValuationPrice: '4-6-7电子设备'!$R$71
Name EmployeeCompensationBookValue: '5-6职工薪酬'!$D$31
Name EmployeeCompensationValuationPrice: '5-6职工薪酬'!$E$31
Name EngineerMaterialBookValue: '4-8工程物资'!$G$27
Name EngineerMaterialValuationPrice: '4-8工程物资'!$K$27
Name EquityInvestmentBookValue: '4-4股权投资'!$I$27

Sheet 资产基础法评估明表工作流程图
B2: 资产基础法操作导航图（点击并完成各模块的任务）V1.0
D3: 01 | H3: 02 | L3: 03 | P3: 04 | T3: 05
B8: 01 | D8: 阅读填表说明 | H8: 数据输入 | L8: 核对资料 | P8: 方法确定 | T8: 结果分析
B10: 03 | D10: 数据输入★ | H10: 报表核对 | L10: 履行调查核实程序 | P10: 取价方式 | T10: 评估调整
B12: 04 | D12: 报表核对★ | L12: 账实调查结果 | P12: 参数输入 | T12: 打印输出
B14: 05 | L14: 产权调查结果 | P14: 评估测算
B18: 备注：每个科目按照以上程序完成

Sheet 索引目录
A1: 资产评估申报表索引目录
B2: 基本信息输入表
B3: 填表说明（填表前请先阅读）
B4: 企业基本情况表 | C4: 资产负债表 | D4: 汇总表 | E4: 分类汇总表
C6: 流动资产 | D6: 货币资金 | E6: 现金 | G6: 流动负债 | I6: 短期借款
E7: 银行存款 | I7: 交易性金融负债
E8: 其他货币资金 | I8: 应付票据
D9: 交易性金融资产 | E9: 股票投资 | I9: 应付账款
E10: 债券投资 | I10: 预收款项
E11: 基金投资 | I11: 职工薪酬
D12: 应收票据 | I12: 应交税费
D13: 应收账款 | I13: 应付利息
D14: 预付款项 | I14: 应付股利（应付利润）
D15: 应收利息 | I15: 其他应付款
D16: 应收股利 | I16: 一年内到期的非流动负债
D17: 其他应收款 | I17: 其他流动负债
D18: 存货 | E18: 材料采购（在途物资）
E19: 原材料
E20: 在库周转材料 | G20: 非流动负债 | I20: 长期借款
E21: 委托加工物资 | I21: 应付债券
E22: 产成品（库存商品） | I22: 长期应付款
E23: 在产品（自制半成品） | I23: 专项应付款
E24: 发出商品 | I24: 预计负债
E25: 在用周转材料 | I25: 递延所得税负债
D26: 一年到期非流动资产 | E26: 开发产品 | I26: 其他非流动负债
D27: 其他流动资产 | E27: 开发成本
E28: 消耗性生物资产
E29: 工程施工
C30: 长期投资 | D30: 可供出售金融资产 | E30: 股票投资
E31: 债券投资
E32: 其他投资
D33: 持有至到期投资
D34: 长期应收款
D35: 长期股权投资
D36: 投资性房地产 | E36: 投资性房地产（成本计量）
E37: 投资性房地产（公允计量）
E38: 投资性地产（成本计量）
E39: 投资性地产(公允计量）
C42: 固定资产 | D42: 固定资产 | E42: 房屋建筑物
E43: 构筑物及其他辅助设施
...

Sheet 基本信息输入表
A1: 返回索引目录
A5: 一、项目基本信息
B6: 1.企业名称（输入）： | K6: 被评估单位 | M6: 山西华润昌裕煤业有限公司
B7: 2.评估基准日（选择）： | M7: 43921
B8: 3.评估机构名称： | M8: 北京中企华资产评估有限责任公司
B9: 4.项目名称： | M9: 质控部XXX项目
B10: 5.填表人及填表日期：
C11: 选择 | D11: 科目 | M11: 填表人员姓名 | O11: 填表日期 | Q11: 评估人员
C12: √ | D12: 流动资产（汇总） | M12: 阎丽红 | O12: 43946 | Q12: 孙艳平
C13: √ | D13: 货币资金（汇总） | M13: 阎丽红 | O13: 43946 | Q13: 孙艳平
C14: √ | D14: 现金 | M14: 阎丽红 | O14: 43946 | Q14: 孙艳平
C15: √ | D15: 银行存款 | M15: 阎丽红 | O15: 43946 | Q15: 孙艳平
C16: √ | D16: 货币资金 | M16: 阎丽红 | O16: 43946 | Q16: 孙艳平
C17: √ | D17: 交易性金融资产（汇总） | M17: 阎丽红 | O17: 43946 | Q17: 孙艳平
C18: √ | D18: 股票投资 | M18: 阎丽红 | O18: 43946 | Q18: 孙艳平
C19: √ | D19: 债券投资 | M19: 阎丽红 | O19: 43946 | Q19: 孙艳平
C20: √ | D20: 基金投资 | M20: 阎丽红 | O20: 43946 | Q20: 孙艳平
C21: √ | D21: 应收票据 | M21: 阎丽红 | O21: 43946 | Q21: 孙艳平
C22: √ | D22: 应收账款 | M22: 阎丽红 | O22: 43946 | Q22: 孙艳平
C23: √ | D23: 预付账款 | M23: 阎丽红 | O23: 43946 | Q23: 孙艳平
... C81: √ | D81: 流动负债（汇总） | M81: 阎丽红 | O81: 43946 | Q81: 孙艳平
C82: √ | D82: 短期借款 | M82: 阎丽红 | O82: 43946
C83: √ | D83: 交易性金融负债 | M83: 阎丽红 | O83: 43946
C84: √ | D84: 应付票据 | M84: 阎丽红 | O84: 43946
C85: √ | D85: 应付账款 | M85: 阎丽红 | O85: 43946
C86: √ | D86: 预收款项 | M86: 阎丽红 | O86: 43946
C87: √ | D87: 应付职工薪酬 | M87: 阎丽红 | O87: 43946
C88: √ | D88: 应交税费 | M88: 阎丽红 | O88: 43946
C89: √ | D89: 应付利息 | M89: 阎丽红 | O89: 43946
C90: √ | D90: 应付股利 | M90: 阎丽红 | O90: 43946
C91: √ | D91: 其他应付款 | M91: 阎丽红 | O91: 43946
C92: √ | D92: 一年内到期的非流动负债 | M92: 阎丽红 | O92: 43946
C93: √ | D93: 其他流动负债 | M93: 阎丽红 | O93: 43946
... C101: √ | D101: 其他非流动负债 | M101: 阎丽红 | O101: 43946
E273: 42400
E274: 42429
E275: 42460
E276: 42490
E277: 42521
E278: 42551
...

Sheet 企业基本情况表
A1: 企业基本情况表
A2: ="评估基准日："&TEXT(基本信息输入表!M7,"yyyy年mm月dd日") -> 评估基准日：2020年03月31日
A3: 企业填写以下内容:
A4: 被评估单位名称: | B4: 中文 | H4: 法定代表人 | J4: 移动电话
B5: 英文 | H5: 财务负责人 | J5: 固定电话
A6: 法定地址 | F6: 邮政编码 | J6: 手机
A7: 办公地址 | F7: 邮政编码 | H7: 主要填表人 | J7: 固定电话
A8: 联系人办公电话 | C8: 传真 | E8: E-mail | J8: 手机
A9: 经营范围 | H9: 成立日期 | I9: 年 月 日 | J9: 经营期限 | K9: 年 月 日至 年 月 日
A10: 企业股东名称 | H10: 注册资本 | J10: 实收资本
H11: 金额（万元） | I11: 出资比例% | J11: 金额（万元） | K11: 出资比例%
A12: 1
A13: 2
A14: 3
A15: 4
A16: 5
A17: 合计
A18: 下属长期投资单位（或异地分支机构）名称 | F18: 地址 | I18: 注册资金% | J18: 持股比例% | K18: 核算方式
A19: 1
A20: 2
A21: 3
A22: 4
A23: 5
A24: 6
A25: 7
A26: 8
A27: 9
A28: 10

Sheet 填表说明
B1: 评估明细表填表说明
B3: 一、基本要求
B4: (一)填表范围：
B5: 对于纳入评估范围的各科目明细表余额要保证与评估基准日被评估单位的资产负债表（或模拟资产负债表）完全一致，如出现差异，请核对链接关系及所填报明细是否有误。
B6: (二)“评估基准日”、“被评估单位(或者产权持有单位)名称”、填表人、填表日期,统一在“基本信息输入表” 中填列，各明细表会自动生成。单位名称要与该单位的营业执照所列示的名称完全一致,如经检查各明细表与报表的余额数据完全一致，填表人员需与评估人员沟通无异议后再在打印好的A4纸每页明细表左上角单位名称处加盖单位公章上报。
B7: (三)对于企业财务核算中没有的会计科目不必填写相应的明细表，对应明细表可隐藏但不可删除。
B8: (四) 对于各科目明细表中“评估价值”一栏(不含本栏)左方的所有空白栏以及需要填写的备注栏项目请企业填写齐全。尤其对于实物类资产的评估作价密切相关信息需填报完整，不要出现空白项，该类信息往往包括规格、厂家、单位、数量、产权证号、产权人名称、车辆行驶里程、不良资产实际状态等，需要由资产管理相关部门协助财务人员进行填报。
B9: (五)明细表中填列金额单位为“人民币元”，精确到小数点后两位。
B10: (六)明细表中日期根据要求填至月(如建成年月)或日(如出票日期)，填写日期格式为“2001-05”（不能写为2001.5）或 “2001-05-02”（不能填为2001.5.2）。
B11: (七)未指明月利率之处应指年利率，计量单位为“%”。若原始资料中为月利率或日利率,则换算为年利率。
B12: (八)明细表与各级汇总表之间的数据已建立链接关系，带“汇总”字样的各明细表中除个别项的减值准备外，其他项中不应直接录入数据。
B13: (九)每一张明细表内容超过表中行数时，可在电子表中间直接插入行。注意，不能在第一行和合计行插入行。
... B184: ******

Sheet 资产负债表
A1: 返回索引页
A2: 资产负债明细表
A3: 产权所有单位：山西华润昌裕煤业有限公司 | L3: 金额单位：人民币元
A4: 资产 | B4: 注释 | C4: 2017年 | D4: 2018年 | E4: 2019年 | F4: 基准日审定数 | G4: 负债和所有者权益 | H4: 注释 | I4: 2017年 | J4: 2018年 | K4: 2019年 | L4: 基准日审定数
A5: 流动资产： | G5: 流动负债：
A6: 货币资金 | F6: 200780.4 | G6: 短期借款
A7: 交易性金融资产 | G7: 交易性金融负债
A8: 应收票据 | G8: 应付票据
A9: 应收账款 | G9: 应付账款
A10: 预付款项 | F10: 431576.4 | G10: 预收款项
A11: 应收利息 | G11: 应付职工薪酬
A12: 应收股利 | G12: 应交税费
A13: 其他应收款 | F13: 3244668.5 | G13: 应付利息
A14: 存货 | F14: 887274.32 | G14: 应付股利
A15: 一年内到期的非流动资产 | G15: 其他应付款
A16: 其他流动资产 | G16: 一年内到期的非流动负债
A17: 流动资产合计 | C17: 0 | D17: 0 | E17: 0 | F17: 4764299.6 | G17: 其他流动负债
A18: 非流动资产： | G18: 流动负债合计 | I18: 0 | J18: 0 | K18: 0 | L18: 0
A19: 可供出售金融资产 | G19: 非流动负债：
A20: 持有至到期投资 | G20: 长期借款
A21: 长期应收款 | G21: 应付债券
A22: 长期股权投资 | G22: 长期应付款
A23: 投资性房地产 | G23: 专项应付款
A24: 固定资产 | F24: 1377389.4 | G24: 预计负债
A25: 在建工程 | F25: 67089869 | G25: 递延所得税负债
A26: 工程物资 | G26: 其他非流动负债
A27: 固定资产清理 | G27: 非流动负债合计 | I27: 0 | J27: 0 | K27: 0 | L27: 0
A28: 生产性生物资产 | G28: 负债合计 | I28: 0 | J28: 0 | K28: 0 | L28: 0
A29: 油气资产 | G29: 所有者权益：
A30: 无形资产 | F30: 41716400 | G30: 实收资本（或股本）
A31: 开发支出 | G31: 资本公积
A32: 商誉 | G32: 减：库存股
A33: 长期待摊费用 | G33: 专项储备
A34: 递延所得税资产 | G34: 盈余公积
A35: 其他非流动资产 | G35: 未分配利润
A36: 非流动资产合计 | C36: 0 | D36: 0 | E36: 0 | F36: 1.1018366e+08 | G36: 外币报表折算差额
G37: 所有者权益合计 | I37: 0 | J37: 0 | K37: 0
A38: 资产总计 | C38: 0 | D38: 0 | E38: 0 | F38: 1.1494796e+08 | G38: 负债和所有者权益总计 | I38: 0 | J38: 0 | K38: 0 | L38: 0

Sheet 1-汇总表-新会计准则用表
A1: 返回索引目录
A2: 资产评估结果汇总表
A3: ="评估基准日："&TEXT(基本信息输入表!M7,"yyyy年mm月dd日") -> 评估基准日：2020年03月31日
F4: 表1
A5: =基本信息输入表!K6&"："&基本信息输入表!M6 -> 被评估单位：山西华润昌裕煤业有限公司 | F5: 金额单位：人民币万元
A6: 项 目 | C6: 账面价值 | D6: 评估价值 | E6: 增减值 | F6: 增值率%
C7: A | D7: B | E7: C=B-A | F7: D=C/A×100%
A8: 流动资产 | B8: 1 | C8: =ROUND('2-分类汇总-新会计准则用表'!C7/10000,2) -> 476.43 | D8: =ROUND('2-分类汇总-新会计准则用表'!D7/10000,2) -> 493.28 | E8: =D8-C8 -> 16.85 | F8: =IF(C8=0,"",E8/ABS(C8)*100) -> 3.536721
A9: 非流动资产 | B9: 2 | C9: =SUM(C10:C17)-C16 -> 11018.37 | D9: =SUM(D10:D17)-D16 -> 11883.68 | E9: =D9-C9 -> 865.31 | F9: =IF(C9=0,"",E9/ABS(C9)*100) -> 7.8533395
A10: 其中：长期股权投资 | B10: 3 | C10: =ROUND('2-分类汇总-新会计准则用表'!C29/10000,2) -> 0 | D10: =ROUND('2-分类汇总-新会计准则用表'!D29/10000,2) -> 0 | E10: =D10-C10 -> 0 | F10: =IF(C10=0,"",E10/ABS(C10)*100)
A11: 投资性房地产 | B11: 4 | C11: =ROUND('2-分类汇总-新会计准则用表'!C32/10000,2) -> 0 | D11: =ROUND('2-分类汇总-新会计准则用表'!D32/10000,2) -> 0 | E11: =D11-C11 -> 0 | F11: =IF(C11=0,"",E11/ABS(C11)*100)
A12: 固定资产 | B12: 5 | C12: =ROUND('2-分类汇总-新会计准则用表'!C43/10000,2) -> 137.74 | D12: =ROUND('2-分类汇总-新会计准则用表'!D43/10000,2) -> 2552.06 | E12: =D12-C12 -> 2414.32 | F12: =IF(C12=0,"",E12/ABS(C12)*100) -> 1752.8096
A13: 在建工程 | B13: 6 | C13: =ROUND('2-分类汇总-新会计准则用表'!C44/10000,2) -> 6708.99 | D13: =ROUND('2-分类汇总-新会计准则用表'!D44/10000,2) -> 3120.66 | E13: =D13-C13 -> -3588.33 | F13: =IF(C13=0,"",E13/ABS(C13)*100) -> -53.485398
A14: 油气资产 | B14: 7 | C14: =ROUND('2-分类汇总-新会计准则用表'!C48/10000,2) -> 0 | D14: =ROUND('2-分类汇总-新会计准则用表'!D48/10000,2) -> 0 | E14: =D14-C14 -> 0 | F14: =IF(C14=0,"",E14/ABS(C14)*100)
A15: 无形资产 | B15: 8 | C15: =ROUND('2-分类汇总-新会计准则用表'!C52/10000,2) -> 4171.64 | D15: =ROUND('2-分类汇总-新会计准则用表'!D52/10000,2) -> 6210.96 | E15: =D15-C15 -> 2039.32 | F15: =IF(C15=0,"",E15/ABS(C15)*100) -> 48.88533
A16: 其中：土地使用权 | B16: 9 | C16: =ROUND('2-分类汇总-新会计准则用表'!C50/10000,2) -> 0 | D16: =ROUND('2-分类汇总-新会计准则用表'!D50/10000,2) -> 0 | E16: =D16-C16 -> 0 | F16: =IF(C16=0,"",E16/ABS(C16)*100)
A17: 其他非流动资产 | B17: 10 | C17: =ROUND(SUM('2-分类汇总-新会计准则用表'!C26,'2-分类汇总-新会计准则用表'!C45,'2-分类汇总-新会计准则用表'!C53:C57)/10000,2) -> 0 | D17: =ROUND(SUM('2-分类汇总-新会计准则用表'!D26,'2-分类汇总-新会计准则用表'!D45,'2-分类汇总-新会计准则用表'!D53:D57)/10000,2) -> 0 | E17: =D17-C17 -> 0 | F17: =IF(C17=0,"",E17/ABS(C17)*100)
A18: 资产总计 | B18: 11 | C18: =C8+C9 -> 11494.8 | D18: =D8+D9 -> 12376.96 | E18: =D18-C18 -> 882.16 | F18: =IF(C18=0,"",E18/ABS(C18)*100) -> 7.6744267
A19: 流动负债 | B19: 12 | C19: =ROUND('2-分类汇总-新会计准则用表'!C59/10000,2) -> 0 | D19: =ROUND('2-分类汇总-新会计准则用表'!D59/10000,2) -> 0 | E19: =D19-C19 -> 0 | F19: =IF(C19=0,"",E19/ABS(C19)*100)
A20: 非流动负债 | B20: 13 | C20: =ROUND('2-分类汇总-新会计准则用表'!C70/10000,2) -> 0 | D20: =ROUND('2-分类汇总-新会计准则用表'!D70/10000,2) -> 0 | E20: =D20-C20 -> 0 | F20: =IF(C20=0,"",E20/ABS(C20)*100)
A21: 负债总计 | B21: 14 | C21: =SUM(C19:C20) -> 0 | D21: =SUM(D19:D20) -> 0 | E21: =D21-C21 -> 0 | F21: =IF(C21=0,"",E21/ABS(C21)*100)
A22: 净资产 | B22: 15 | C22: =C18-C21 -> 11494.8 | D22: =D18-D21 -> 12376.96 | E22: =D22-C22 -> 882.16 | F22: =IF(C22=0,"",E22/ABS(C22)*100) -> 7.6744267
F23: 评估机构：北京中企华资产评估有限责任公司 | H23: <END>
H24: 打印边界

Sheet 2-分类汇总-新会计准则用表
A1: 返回索引目录
A2: 资产评估结果分类汇总表
A3: 评估基准日：2016年05月31日
F4: 表2
A5: 被评估单位：××××××有限责任公司 | F5: 金额单位：人民币元
A6: 序号 | B6: 科目名称 | C6: 账面价值 | D6: 评估价值 | E6: 增减值 | F6: 增值率% | G6: 资产负债表校核列
A7: 1 | B7: 一、流动资产合计 | C7: =C8+C9+C12+C13+C16+C19+C22+C23+C24 -> 4764299.6 | D7: =D8+D9+D12+D13+D16+D19+D22+D23+D24 -> 4932751.2 | E7: =D7-C7 -> 168451.68 | F7: =IF(C7=0,"",E7/ABS(C7)*100) -> 3.5357071
A8: 2 | B8: 货币资金 | C8: ='3-流动汇总'!C7 -> 200780.4 | D8: ='3-流动汇总'!D7 -> 200780.4 | E8: =D8-C8 -> 0 | F8: =IF(C8=0,"",E8/ABS(C8)*100) -> 0
A9: 3 | B9: 交易性金融资产 | C9: ='3-流动汇总'!C8 -> 0 | D9: ='3-流动汇总'!D8 -> 0 | E9: =D9-C9 -> 0 | F9: =IF(C9=0,"",E9/ABS(C9)*100)
A10: 5 | B10: 应收票据及应收账款合计 | C10: ='3-流动汇总'!C10+'3-流动汇总'!C9 -> 0 | D10: ='3-流动汇总'!D10+'3-流动汇总'!D9 -> 0 | E10: =D10-C10 -> 0 | F10: =IF(C10=0,"",E10/ABS(C10)*100)
A11: 6 | B11: 减：坏账准备 | C11: ='3-流动汇总'!C11 -> 0 | D11: ='3-流动汇总'!D11 -> 0 | E11: =D11-C11 -> 0 | F11: =IF(C11=0,"",E11/ABS(C11)*100)
A12: 7 | B12: 应收票据及应收账款净额 | C12: =C10-C11 -> 0 | D12: =D10-D11 -> 0 | E12: =D12-C12 -> 0 | F12: =IF(C12=0,"",E12/ABS(C12)*100)
A13: 8 | B13: 预付款项 | C13: ='3-流动汇总'!C13 -> 431576.4 | D13: ='3-流动汇总'!D13 -> 431576.4 | E13: =D13-C13 -> 0 | F13: =IF(C13=0,"",E13/ABS(C13)*100) -> 0
A14: 9 | B14: 其他应收款合计 | C14: ='3-流动汇总'!C16+'2-分类汇总'!C15+'2-分类汇总'!C16 -> 3304698.5 | D14: ='3-流动汇总'!D16+'2-分类汇总'!D15+'2-分类汇总'!D16 -> 3244668.5 | E14: =D14-C14 -> -60030 | F14: =IF(C14=0,"",E14/ABS(C14)*100) -> -1.8165046
A15: 10 | B15: 减：坏账准备 | C15: ='3-流动汇总'!C17 -> 60030 | D15: ='3-流动汇总'!D17 -> 0 | E15: =D15-C15 -> -60030 | F15: =IF(C15=0,"",E15/ABS(C15)*100) -> -100
A16: 11 | B16: 其他应收款净额 | C16: =C14-C15 -> 3244668.5 | D16: =D14-D15 -> 3244668.5 | E16: =D16-C16 -> 0 | F16: =IF(C16=0,"",E16/ABS(C16)*100) -> 0
A17: 12 | B17: 存货合计 | C17: ='3-流动汇总'!C19 -> 2665575.1 | D17: ='3-流动汇总'!D19 -> 1055726 | E17: =D17-C17 -> -1609849.1 | F17: =IF(C17=0,"",E17/ABS(C17)*100) -> -60.394063
A18: 13 | B18: 减：存货跌价准备 | C18: ='3-流动汇总'!C20 -> 1778300.8 | D18: ='3-流动汇总'!D20 -> 0 | E18: =D18-C18 -> -1778300.8 | F18: =IF(C18=0,"",E18/ABS(C18)*100) -> -100
A19: 14 | B19: 存货净额 | C19: ='3-流动汇总'!C21 -> 887274.32 | D19: ='3-流动汇总'!D21 -> 1055726 | E19: =D19-C19 -> 168451.68 | F19: =IF(C19=0,"",E19/ABS(C19)*100) -> 18.985299
A20: 15 | B20: 合同资产 | C20: ='3-12合同资产'!I24 -> 0 | D20: ='3-12合同资产'!K24 -> 0 | E20: =D20-C20 -> 0 | F20: =IF(C20=0,"",E20/ABS(C20)*100)
A21: 16 | B21: 减：合同资产减值准备 | C21: ='3-12合同资产'!I25 -> 0 | F21: =IF(C21=0,"",E21/ABS(C21)*100)
A22: 17 | B22: 合同资产净额 | C22: ='3-12合同资产'!ContractAssestsBookValue -> 0 | D22: ='3-12合同资产'!ContractAssesValuationPrice -> 0 | E22: =D22-C22 -> 0 | F22: =IF(C22=0,"",E22/ABS(C22)*100)
A23: 21 | B23: 一年内到期的非流动资产 | C23: ='3-流动汇总'!C22 -> 0 | D23: ='3-流动汇总'!D22 -> 0 | E23: =D23-C23 -> 0 | F23: =IF(C23=0,"",E23/ABS(C23)*100)
A24: 22 | B24: 其他流动资产 | C24: ='3-流动汇总'!C23 -> 0 | D24: ='3-流动汇总'!D23 -> 0 | E24: =D24-C24 -> 0 | F24: =IF(C24=0,"",E24/ABS(C24)*100)
A25: 23 | B25: 二、非流动资产合计 | C25: =C26+C29+C32+C43+C44+C45+C48+C52+C53+C54+C55+C56+C57 -> 1.1018366e+08 | D25: =D26+D29+D32+D43+D44+D45+D48+D52+D53+D54+D55+D56+D57 -> 118836740 | E25: =D25-C25 -> 8653081.5 | F25: =IF(C25=0,"",E25/ABS(C25)*100) -> 7.8533256
A26: 28 | B26: 长期应收款 | C26: ='4-非流动资产汇总'!C10 -> 0 | D26: ='4-非流动资产汇总'!D10 -> 0 | E26: =D26-C26 -> 0 | F26: =IF(C26=0,"",E26/ABS(C26)*100)
A27: 29 | B27: 长期股权投资合计 | C27: ='4-非流动资产汇总'!C11 -> 0 | D27: ='4-非流动资产汇总'!D11 -> 0 | E27: =D27-C27 -> 0 | F27: =IF(C27=0,"",E27/ABS(C27)*100)
A28: 30 | B28: 减：长期股权投资减值准备 | C28: ='4-非流动资产汇总'!C12 -> 0 | D28: ='4-非流动资产汇总'!D12 -> 0 | E28: =D28-C28 -> 0 | F28: =IF(C28=0,"",E28/ABS(C28)*100)
A29: 31 | B29: 长期股权投资净额 | C29: ='4-非流动资产汇总'!C13 -> 0 | D29: ='4-非流动资产汇总'!D13 -> 0 | E29: =D29-C29 -> 0 | F29: =IF(C29=0,"",E29/ABS(C29)*100)
A30: 34 | B30: 投资性房地产合计 | C30: ='4-非流动资产汇总'!C14 -> 0 | D30: ='4-非流动资产汇总'!D14 -> 0 | E30: =D30-C30 -> 0 | F30: =IF(C30=0,"",E30/ABS(C30)*100)
A31: 35 | B31: 减：投资性房地产减值准备 | C31: ='4-非流动资产汇总'!C15 -> 0 | D31: ='4-非流动资产汇总'!D15 -> 0 | E31: =D31-C31 -> 0 | F31: =IF(C31=0,"",E31/ABS(C31)*100)
A32: 36 | B32: 投资性房地产净额 | C32: ='4-非流动资产汇总'!C16 -> 0 | D32: ='4-非流动资产汇总'!D16 -> 0 | E32: =D32-C32 -> 0 | F32: =IF(C32=0,"",E32/ABS(C32)*100)
A33: 37 | B33: 固定资产原值 | C33: ='4-非流动资产汇总'!C17 -> 13227561 | D33: ='4-非流动资产汇总'!D17 -> 57493980 | E33: =D33-C33 -> 44266419 | F33: =IF(C33=0,"",E33/ABS(C33)*100) -> 334.65291
A34: 38 | B34: 其中：建筑物类 | C34: ='4-非流动资产汇总'!C18 -> 303504 | D34: ='4-非流动资产汇总'!D18 -> 52946400 | E34: =D34-C34 -> 52642896 | F34: =IF(C34=0,"",E34/ABS(C34)*100) -> 17345.042
A35: 39 | B35: 设 备 类 | C35: ='4-非流动资产汇总'!C19 -> 12924057 | D35: ='4-非流动资产汇总'!D19 -> 4547580 | E35: =D35-C35 -> -8376477.2 | F35: =IF(C35=0,"",E35/ABS(C35)*100) -> -64.813062
A36: 40 | B36: 土 地 类 | C36: ='4-非流动资产汇总'!C20 -> 0 | D36: ='4-非流动资产汇总'!D20 -> 0 | E36: =D36-C36 -> 0 | F36: =IF(C36=0,"",E36/ABS(C36)*100)
A37: 41 | B37: 减：累计折旧 | C37: ='4-非流动资产汇总'!C21 -> 9223813.9 | D37: ='4-非流动资产汇总'!D21 -> 31973399 | E37: =D37-C37 -> 22749585 | F37: =IF(C37=0,"",E37/ABS(C37)*100) -> 246.63968
... A44: 48 | B44: 在建工程 | C44: ='4-非流动资产汇总'!C28 -> 67089869 | D44: ='4-非流动资产汇总'!D28 -> 31206559 | E44: =D44-C44 -> -35883310 | F44: =IF(C44=0,"",E44/ABS(C44)*100) -> -53.485438
A45: 49 | B45: 生产性生物资产 | C45: ='4-非流动资产汇总'!C31 -> 0 | D45: ='4-非流动资产汇总'!D31 -> 0 | E45: =D45-C45 -> 0 | F45: =IF(C45=0,"",E45/ABS(C45)*100)
A46: 50 | B46: 油气资产合计 | C46: ='4-非流动资产汇总'!C32 -> 0 | D46: ='4-非流动资产汇总'!D32 -> 0 | E46: =D46-C46 -> 0 | F46: =IF(C46=0,"",E46/ABS(C46)*100)
...

Sheet 1-汇总表
A1: 山西华润昌裕煤业有限公司资产处置明细表
A2: 评估基准日：2020年03月31日
F3: 表1
A4: 产权所有单位：山西华润昌裕煤业有限公司 | F4: 金额单位：人民币万元
A5: 项 目 | C5: 账面价值 | D5: 评估价值 | E5: 增减值 | F5: 增值率%
C6: A | D6: B | E6: C=B-A | F6: D=C/A×100%
A7: 流动资产 | B7: 1 | C7: 476.43 | D7: 493.28 | E7: 16.85 | F7: 3.536721
A8: 非流动资产 | B8: 2 | C8: 11018.37 | D8: 11883.68 | E8: 865.31 | F8: 7.8533395
A9: 其中：长期股权投资 | B9: 3 | C9: 0 | D9: 0 | E9: 0
A10: 投资性房地产 | B10: 4 | C10: 0 | D10: 0 | E10: 0
A11: 固定资产 | B11: 5 | C11: 137.74 | D11: 2552.06 | E11: 2414.32 | F11: 1752.8096
A12: 在建工程 | B12: 6 | C12: 6708.99 | D12: 3120.66 | E12: -3588.33 | F12: -53.485398
A13: 油气资产 | B13: 7 | C13: 0 | D13: 0 | E13: 0
A14: 无形资产 | B14: 8 | C14: 4171.64 | D14: 6210.96 | E14: 2039.32 | F14: 48.88533
A15: 其中：土地使用权 | B15: 9 | C15: 0 | D15: 0 | E15: 0
A16: 其他非流动资产 | B16: 10 | C16: 0 | D16: 0 | E16: 0
A17: 资产总计 | B17: 11 | C17: 11494.8 | D17: 12376.96 | E17: 882.16 | F17: 7.6744267
A18: 流动负债 | B18: 12 | C18: 0 | D18: 0 | E18: 0
A19: 非流动负债 | B19: 13 | C19: 0 | D19: 0 | E19: 0
A20: 负债总计 | B20: 14 | C20: 0 | D20: 0 | E20: 0
A21: 净资产 | B21: 15 | C21: 11494.8 | D21: 12376.96 | E21: 882.16 | F21: 7.6744267

Sheet 2-分类汇总
A1: 返回索引目录
A2: 资产分类汇总表
A3: 评估基准日：2020年03月31日
F4: 表2
A5: 产权持有单位：山西华润昌裕煤业有限公司 | F5: 金额单位：人民币元
A6: 序号 | B6: 科目名称 | C6: 账面价值 | D6: 评估价值 | E6: 增减值 | F6: 增值率%
A7: 1 | B7: 一、流动资产合计 | C7: 4764299.6 | D7: 4932751.2 | E7: 168451.68 | F7: 3.5357071
A8: 2 | B8: 货币资金 | C8: 200780.4 | D8: 200780.4 | E8: 0 | F8: 0
A9: 3 | B9: 交易性金融资产 | C9: 0 | D9: 0 | E9: 0
A10: 4 | B10: 应收票据 | C10: 0 | D10: 0 | E10: 0
A11: 5 | B11: 应收账款合计 | C11: 0 | D11: 0 | E11: 0
A12: 6 | B12: 减：坏账准备 | C12: 0 | D12: 0 | E12: 0
A13: 7 | B13: 应收账款净额 | C13: 0 | D13: 0 | E13: 0
A14: 8 | B14: 预付款项 | C14: 431576.4 | D14: 431576.4 | E14: 0 | F14: 0
A15: 9 | B15: 应收利息 | C15: 0 | D15: 0 | E15: 0
A16: 10 | B16: 应收股利 | C16: 0 | D16: 0 | E16: 0
A17: 11 | B17: 其他应收款合计 | C17: 3304698.5 | D17: 3244668.5 | E17: -60030 | F17: -1.8165046
A18: 12 | B18: 减：坏账准备 | C18: 60030 | D18: 0 | E18: -60030 | F18: -100
A19: 13 | B19: 其他应收款净额 | C19: 3244668.5 | D19: 3244668.5 | E19: 0 | F19: 0
A20: 14 | B20: 存货合计 | C20: 2665575.1 | D20: 1055726 | E20: -1609849.1 | F20: -60.394063
A21: 15 | B21: 减：存货跌价准备 | C21: 1778300.8 | D21: 0 | E21: -1778300.8 | F21: -100
A22: 16 | B22: 存货净额 | C22: 887274.32 | D22: 1055726 | E22: 168451.68 | F22: 18.985299
A23: 17 | B23: 一年内到期的非流动资产 | C23: 0 | D23: 0 | E23: 0
A24: 18 | B24: 其他流动资产 | C24: 0 | D24: 0 | E24: 0
A25: 19 | B25: 二、非流动资产合计 | C25: 1.1018366e+08 | D25: 118836740 | E25: 8653081.5 | F25: 7.8533256
A26: 20 | B26: 可供出售金融资产 | C26: 0 | D26: 0 | E26: 0
A27: 21 | B27: 持有至到期投资合计 | C27: 0 | D27: 0 | E27: 0
A28: 22 | B28: 减：持有至到期投资减值准备 | C28: 0 | D28: 0 | E28: 0
A29: 23 | B29: 持有至到期投资净额 | C29: 0 | D29: 0 | E29: 0
A30: 24 | B30: 长期应收款 | C30: 0 | D30: 0 | E30: 0
A31: 25 | B31: 长期股权投资合计 | C31: 0 | D31: 0 | E31: 0
A32: 26 | B32: 减：长期股权投资减值准备 | C32: 0 | D32: 0 | E32: 0
A33: 27 | B33: 长期股权投资净额 | C33: 0 | D33: 0 | E33: 0
A34: 28 | B34: 投资性房地产合计 | C34: 0 | D34: 0 | E34: 0
A35: 29 | B35: 减：投资性房地产减值准备 | C35: 0 | D35: 0 | E35: 0
A36: 30 | B36: 投资性房地产净额 | C36: 0 | D36: 0 | E36: 0
A37: 31 | B37: 固定资产原值 | C37: 13227561 | D37: 57493980 | E37: 44266419 | F37: 334.65291
A38: 32 | B38: 其中：建筑物类 | C38: 303504 | D38: 52946400 | E38: 52642896 | F38: 17345.042
A39: 33 | B39: 设 备 类 | C39: 12924057 | D39: 4547580 | E39: -8376477.2 | F39: -64.813062
A40: 34 | B40: 土 地 类 | C40: 0 | D40: 0 | E40: 0
...

Sheet 3-流动汇总
A1: 返回索引目录
A2: 流动资产汇总表
A3: 评估基准日：2020年03月31日
F4: 表3
A5: 产权持有单位：山西华润昌裕煤业有限公司 | F5: 金额单位：人民币元
A6: 编号 | B6: 科目名称 | C6: 账面价值 | D6: 评估价值 | E6: 增减值 | F6: 增值率%
A7: 3-1 | B7: 货币资金 | C7: 200780.4 | D7: 200780.4 | E7: 0 | F7: 0
A8: 3-2 | B8: 交易性金融资产 | C8: 0 | D8: 0 | E8: 0
A9: 3-3 | B9: 应收票据 | C9: 0 | D9: 0 | E9: 0
A10: 3-4 | B10: 应收账款合计 | C10: 0 | D10: 0 | E10: 0
B11: 减：坏账准备 | C11: 0 | E11: 0
B12: 应收账款净额 | C12: 0 | D12: 0 | E12: 0
A13: 3-5 | B13: 预付款项 | C13: 431576.4 | D13: 431576.4 | E13: 0 | F13: 0
A14: 3-6 | B14: 应收利息 | C14: 0 | D14: 0 | E14: 0
A15: 3-7 | B15: 应收股利 | C15: 0 | D15: 0 | E15: 0
A16: 3-8 | B16: 其他应收款合计 | C16: 3304698.5 | D16: 3244668.5 | E16: -60030 | F16: -1.8165046
B17: 减：坏账准备 | C17: 60030 | E17: -60030 | F17: -100
B18: 其他应收款净额 | C18: 3244668.5 | D18: 3244668.5 | E18: 0 | F18: 0
A19: 3-9 | B19: 存货合计 | C19: 2665575.1 | D19: 1055726 | E19: -1609849.1 | F19: -60.394063
B20: 减：存货跌价准备 | C20: 1778300.8 | E20: -1778300.8 | F20: -100
B21: 存货净额 | C21: 887274.32 | D21: 1055726 | E21: 168451.68 | F21: 18.985299
A22: 3-10 | B22: 一年内到期的非流动资产 | C22: 0 | D22: 0 | E22: 0
A23: 3-11 | B23: 其他流动资产 | C23: 0 | D23: 0 | E23: 0
A27: 流动资产合计 | C27: 4764299.6 | D27: 4932751.2 | E27: 168451.68 | F27: 3.5357071

Sheet 表3-1货币汇总表
A1: 返回索引目录
A2: 货币资金汇总表
A3: 评估基准日：2020年03月31日
F4: 表3-1
A5: 产权持有单位：山西华润昌裕煤业有限公司 | F5: 金额单位：人民币元
A6: 编号 | B6: 科目名称 | C6: 账面价值 | D6: 评估价值 | E6: 增减值 | F6: 增值率% | G6: 备注
A7: 3-1-1 | B7: 现金 | C7: 0 | D7: 0 | E7: 0
A8: 3-1-2 | B8: 银行存款 | C8: 41.35 | D8: 41.35 | E8: 0 | F8: 0
A9: 3-1-3 | B9: 其他货币资金 | C9: 200739.05 | D9: 200739.05 | E9: 0 | F9: 0
A27: 合 计 | C27: 200780.4 | D27: 200780.4 | E27: 0 | F27: 0

Sheet 3-1-1现金
A1: 返回索引目录
A2: 货币资金—现金评估明细表
A3: ="评估基准日："&TEXT(基本信息输入表!M7,"yyyy年mm月dd日") -> 评估基准日：2020年03月31日
H4: 表3-1-1
A5: =基本信息输入表!K6&"："&基本信息输入表!M6 -> 被评估单位：山西华润昌裕煤业有限公司 | H5: 金额单位：人民币元
A6: 序号 | B6: 存放部门（单位) | C6: 币种 | D6: 外币账面金额 | E6: 评估基准日汇率 | F6: 账面价值 | G6: 评估价值 | H6: 增值率% | I6: 备注 | J6: 唯一标识列
A7: =IF(D7="","",ROW()-6) | H7: =IF(F7=0,"",(G7-F7)/F7*100) | J7: A1
A8: =IF(D8="","",ROW()-6) | H8: =IF(F8=0,"",(G8-F8)/F8*100) | J8: A2
J9: A3
J10: A4
J11: A5
J12: A6
J13: A7
J14: A8
A15: =IF(D15="","",ROW()-6) | H15: =IF(F15=0,"",(G15-F15)/F15*100) | J15: A9
A16: =IF(D16="","",ROW()-6) | H16: =IF(F16=0,"",(G16-F16)/F16*100) | J16: A10
A17: =IF(D17="","",ROW()-6) | H17: =IF(F17=0,"",(G17-F17)/F17*100) | J17: A11
A18: =IF(D18="","",ROW()-6) | H18: =IF(F18=0,"",(G18-F18)/F18*100) | J18: A12
A19: =IF(D19="","",ROW()-6) | H19: =IF(F19=0,"",(G19-F19)/F19*100) | J19: A13
A20: =IF(D20="","",ROW()-6) | H20: =IF(F20=0,"",(G20-F20)/F20*100) | J20: A14
A21: =IF(D21="","",ROW()-6) | H21: =IF(F21=0,"",(G21-F21)/F21*100) | J21: A15
A22: 合 计 | F22: =SUM(F7:F21) -> 0 | G22: =SUM(G7:G21) -> 0 | H22: =IF(F22=0,"",(G22-F22)/F22*100)
A23: =基本信息输入表!$K$6&"填表人："&基本信息输入表!$M$14 -> 被评估单位填表人：阎丽红 | G23: ="评估人员："&基本信息输入表!$Q$14 -> 评估人员：孙艳平 | J23: 打印边界
A24: ="填表日期："&YEAR(基本信息输入表!$O$14)&"年"&MONTH(基本信息输入表!$O$14)&"月"&DAY(基本信息输入表!$O$14)&"日" -> 填表日期：2020年4月25日

Sheet 3-1-2银行存款
A1: 返回索引目录
A2: 货币资金—银行存款明细表
A3: 评估基准日：2020年03月31日
I4: 表3-1-2
A5: 产权持有单位：山西华润昌裕煤业有限公司 | I5: 金额单位：人民币元
A6: 序号 | B6: 开户银行 | C6: 账号 | D6: 币种 | E6: 外币账面金额 | F6: 评估基准日汇率 | G6: 账面价值 | H6: 评估价值 | I6: 增值率% | J6: 备注
A7: 1 | B7: 中国工商银行古交市支行 | C7: 0502150109000148456 | D7: 人民币 | G7: 26.01 | H7: 26.01 | I7: 0
A8: 2 | B8: 中国工商银行五一路支行 | C8: 0502122019020185138 | D8: 人民币 | G8: 15.34 | H8: 15.34 | I8: 0
A27: 合 计 | G27: 41.35 | H27: 41.35 | I27: 0

Sheet 3-1-3其他货币资金
A1: 返回索引目录
A2: 货币资金—其他货币资金明细表
A3: 评估基准日：2020年03月31日
J4: 表3-1-3
A5: 产权持有单位：山西华润昌裕煤业有限公司 | J5: 金额单位：人民币元
A6: 序号 | B6: 名称及内容 | C6: 用途 | D6: 币种 | E6: 外币账面金额 | F6: 评估基准日汇率 | G6: 账面价值 | H6: 评估价值 | I6: 增值率% | J6: 备注
A7: 1 | B7: 中国工商银行古交市支行 | C7: 土地复垦费 | D7: 人民币 | G7: 200739.05 | H7: 200739.05 | I7: 0
A27: 合 计 | G27: 200739.05 | H27: 200739.05 | I27: 0

Sheet 3-2交易性金融资产汇总
A1: 返回索引目录
A2: 交易性金融资产评估汇总表
A3: ="评估基准日："&TEXT(基本信息输入表!M7,"yyyy年mm月dd日") -> 评估基准日：2020年03月31日
F4: 表3-2
A5: =基本信息输入表!K6&"："&基本信息输入表!M6 -> 被评估单位：山西华润昌裕煤业有限公司 | F5: 金额单位：人民币元
A6: 编号 | B6: 科目名称 | C6: 账面价值 | D6: 评估价值 | E6: 增减值 | F6: 增值率%
A7: 3-2-1 | B7: 交易性金融资产-股票投资 | C7: ='3-2-1交易性-股票'!I27 -> 0 | D7: ='3-2-1交易性-股票'!J27 -> 0 | E7: =D7-C7 -> 0 | F7: =IF(C7=0,"",E7/C7*100)
A8: 3-2-2 | B8: 交易性金融资产-债券投资 | C8: ='3-2-2交易性-债券'!I27 -> 0 | D8: ='3-2-2交易性-债券'!J27 -> 0 | E8: =D8-C8 -> 0 | F8: =IF(C8=0,"",E8/C8*100)
A9: 3-2-3 | B9: 交易性金融资产-基金投资 | C9: ='3-2-3交易性-基金'!I27 -> 0 | D9: ='3-2-3交易性-基金'!J27 -> 0 | E9: =D9-C9 -> 0 | F9: =IF(C9=0,"",E9/C9*100)
A10: 3-2-4 | B10: 交易性金融资产--其他投资 | E10: =D10-C10 -> 0 | F10: =IF(C10=0,"",E10/C10*100)
F11: =IF(C11=0,"",E11/C11*100)
A27: 合 计 | C27: =SUM(C7:C26) -> 0 | D27: =SUM(D7:D26) -> 0 | E27: =D27-C27 -> 0 | F27: =IF(C27=0,"",E27/C27*100)
D28: ="评估人员："&基本信息输入表!$Q$17 -> 评估人员：孙艳平 | G28: <END>
G29: 打印边界

Sheet 3-2-1交易性-股票
A1: 返回索引目录
A2: 交易性金融资产—股票投资评估明细表
A3: ="评估基准日："&TEXT(基本信息输入表!M7,"yyyy年mm月dd日") -> 评估基准日：2020年03月31日
K4: 表3-2-1
A5: =基本信息输入表!K6&"："&基本信息输入表!M6 -> 被评估单位：山西华润昌裕煤业有限公司 | K5: 金额单位：人民币元
A6: 序号 | B6: 被投资单位名称 | C6: 股票名称 | D6: 股票代码 | E6: 投资日期 | F6: 持股数量 | G6: 成 本 | H6: 基准日收盘价元/股 | I6: 账面价值 | J6: 评估价值 | K6: 增值率% | L6: 备注 | M6: 唯一标识列
A7: =IF(C7="","",ROW()-6) | K7: =IF(I7=0,"",(J7-I7)/I7*100) | M7: D1
A8: =IF(C8="","",ROW()-6) | K8: =IF(I8=0,"",(J8-I8)/I8*100) | M8: D2
A9: =IF(C9="","",ROW()-6) | K9: =IF(I9=0,"",(J9-I9)/I9*100) | M9: D3
A10: =IF(C10="","",ROW()-6) | K10: =IF(I10=0,"",(J10-I10)/I10*100) | M10: D4
A11: =IF(C11="","",ROW()-6) | K11: =IF(I11=0,"",(J11-I11)/I11*100) | M11: D5
A12: =IF(C12="","",ROW()-6) | K12: =IF(I12=0,"",(J12-I12)/I12*100) | M12: D6
A13: =IF(C13="","",ROW()-6) | K13: =IF(I13=0,"",(J13-I13)/I13*100) | M13: D7
A14: =IF(C14="","",ROW()-6) | K14: =IF(I14=0,"",(J14-I14)/I14*100) | M14: D8
A15: =IF(C15="","",ROW()-6) | K15: =IF(I15=0,"",(J15-I15)/I15*100) | M15: D9
A16: =IF(C16="","",ROW()-6) | K16: =IF(I16=0,"",(J16-I16)/I16*100) | M16: D10
A17: =IF(C17="","",ROW()-6) | K17: =IF(I17=0,"",(J17-I17)/I17*100) | M17: D11
A18: =IF(C18="","",ROW()-6) | K18: =IF(I18=0,"",(J18-I18)/I18*100) | M18: D12
... A26: =IF(C26="","",ROW()-6) | K26: =IF(I26=0,"",(J26-I26)/I26*100) | M26: D20
A27: 合 计 | I27: =SUM(I7:I26) -> 0 | J27: =SUM(J7:J26) -> 0 | K27: =IF(I27=0,"",(J27-I27)/I27*100)
A28: =基本信息输入表!$K$6&"填表人："&基本信息输入表!$M$18 -> 被评估单位填表人：阎丽红 | J28: ="评估人员："&基本信息输入表!$Q$18 -> 评估人员：孙艳平 | M28: 打印边界
A29: ="填表日期："&YEAR(基本信息输入表!$O$18)&"年"&MONTH(基本信息输入表!$O$18)&"月"&DAY(基本信息输入表!$O$18)&"日" -> 填表日期：2020年4月25日

Sheet 3-2-2交易性-债券
A1: 返回索引目录
A2: 交易性金融资产—债券投资评估明细表
A3: ="评估基准日："&TEXT(基本信息输入表!M7,"yyyy年mm月dd日") -> 评估基准日：2020年03月31日
K4: 表3-2-2
A5: =基本信息输入表!K6&"："&基本信息输入表!M6 -> 被评估单位：山西华润昌裕煤业有限公司 | K5: 金额单位：人民币元
A6: 序号 | B6: 被投资单位名称 | C6: 债券名称 | D6: 债券代码 | E6: 发行日期 | F6: 投资日期 | G6: 票面利率% | H6: 成本 | I6: 账面价值 | J6: 评估价值 | K6: 增值率% | L6: 备注 | M6: 唯一标识列
A7: =IF(C7="","",ROW()-6) | K7: =IF(I7=0,"",(J7-I7)/I7*100) | M7: E1
A8: =IF(C8="","",ROW()-6) | K8: =IF(I8=0,"",(J8-I8)/I8*100) | M8: E2
A9: =IF(C9="","",ROW()-6) | K9: =IF(I9=0,"",(J9-I9)/I9*100) | M9: E3
A10: =IF(C10="","",ROW()-6) | K10: =IF(I10=0,"",(J10-I10)/I10*100) | M10: E4
A11: =IF(C11="","",ROW()-6) | K11: =IF(I11=0,"",(J11-I11)/I11*100) | M11: E5
A12: =IF(C12="","",ROW()-6) | K12: =IF(I12=0,"",(J12-I12)/I12*100) | M12: E6
A13: =IF(C13="","",ROW()-6) | K13: =IF(I13=0,"",(J13-I13)/I13*100) | M13: E7
A14: =IF(C14="","",ROW()-6) | K14: =IF(I14=0,"",(J14-I14)/I14*100) | M14: E8
A15: =IF(C15="","",ROW()-6) | K15: =IF(I15=0,"",(J15-I15)/I15*100) | M15: E9
A16: =IF(C16="","",ROW()-6) | K16: =IF(I16=0,"",(J16-I16)/I16*100) | M16: E10
A17: =IF(C17="","",ROW()-6) | K17: =IF(I17=0,"",(J17-I17)/I17*100) | M17: E11
A18: =IF(C18="","",ROW()-6) | K18: =IF(I18=0,"",(J18-I18)/I18*100) | M18: E12
... A26: =IF(C26="","",ROW()-6) | K26: =IF(I26=0,"",(J26-I26)/I26*100) | M26: E20
A27: 合 计 | I27: =SUM(I7:I26) -> 0 | J27: =SUM(J7:J26) -> 0 | K27: =IF(I27=0,"",(J27-I27)/I27*100)
A28: =基本信息输入表!$K$6&"填表人："&基本信息输入表!$M$19 -> 被评估单位填表人：阎丽红 | J28: ="评估人员："&基本信息输入表!$Q$19 -> 评估人员：孙艳平 | M28: 打印边界
A29: ="填表日期："&YEAR(基本信息输入表!$O$19)&"年"&MONTH(基本信息输入表!$O$19)&"月"&DAY(基本信息输入表!$O$19)&"日" -> 填表日期：2020年4月25日

Sheet 3-2-3交易性-基金
A1: 返回索引目录
A2: 交易性金融资产—基金投资评估明细表
A3: ="评估基准日："&TEXT(基本信息输入表!M7,"yyyy年mm月dd日") -> 评估基准日：2020年03月31日
K4: 表3-2-3
A5: =基本信息输入表!K6&"："&基本信息输入表!M6 -> 被评估单位：山西华润昌裕煤业有限公司 | K5: 金额单位：人民币元
A6: 序号 | B6: 基金发行单位 | C6: 基金名称 | D6: 基金类型 | E6: 基金代码 | F6: 投资日期 | G6: 成本 | H6: 基准日净值/份 | I6: 账面价值 | J6: 评估价值 | K6: 增值率% | L6: 备注 | M6: 唯一标识列
A7: =IF(C7="","",ROW()-6) | K7: =IF(I7=0,"",(J7-I7)/I7*100) | M7: F1
A8: =IF(C8="","",ROW()-6) | K8: =IF(I8=0,"",(J8-I8)/I8*100) | M8: F2
A9: =IF(C9="","",ROW()-6) | K9: =IF(I9=0,"",(J9-I9)/I9*100) | M9: F3
A10: =IF(C10="","",ROW()-6) | K10: =IF(I10=0,"",(J10-I10)/I10*100) | M10: F4
A11: =IF(C11="","",ROW()-6) | K11: =IF(I11=0,"",(J11-I11)/I11*100) | M11: F5
A12: =IF(C12="","",ROW()-6) | K12: =IF(I12=0,"",(J12-I12)/I12*100) | M12: F6
A13: =IF(C13="","",ROW()-6) | K13: =IF(I13=0,"",(J13-I13)/I13*100) | M13: F7
A14: =IF(C14="","",ROW()-6) | K14: =IF(I14=0,"",(J14-I14)/I14*100) | M14: F8
A15: =IF(C15="","",ROW()-6) | K15: =IF(I15=0,"",(J15-I15)/I15*100) | M15: F9
A16: =IF(C16="","",ROW()-6) | K16: =IF(I16=0,"",(J16-I16)/I16*100) | M16: F10
A17: =IF(C17="","",ROW()-6) | K17: =IF(I17=0,"",(J17-I17)/I17*100) | M17: F11
A18: =IF(C18="","",ROW()-6) | K18: =IF(I18=0,"",(J18-I18)/I18*100) | M18: F12
... A26: =IF(C26="","",ROW()-6) | K26: =IF(I26=0,"",(J26-I26)/I26*100) | M26: F20
A27: 合 计 | I27: =SUM(I7:I26) -> 0 | J27: =SUM(J7:J26) -> 0 | K27: =IF(I27=0,"",(J27-I27)/I27*100)
A28: =基本信息输入表!$K$6&"填表人："&基本信息输入表!$M$20 -> 被评估单位填表人：阎丽红 | J28: ="评估人员："&基本信息输入表!$Q$20 -> 评估人员：孙艳平 | M28: 打印边界
A29: ="填表日期："&YEAR(基本信息输入表!$O$20)&"年"&MONTH(基本信息输入表!$O$20)&"月"&DAY(基本信息输入表!$O$20)&"日" -> 填表日期：2020年4月25日

Sheet 3-3应收票据
A1: 返回索引目录
A2: 应收票据评估明细表
A3: ="评估基准日："&TEXT(基本信息输入表!M7,"yyyy年mm月dd日") -> 评估基准日：2020年03月31日
J4: 表3-3
A5: =基本信息输入表!K6&"："&基本信息输入表!M6 -> 被评估单位：山西华润昌裕煤业有限公司 | J5: 金额单位：人民币元
A6: 序号 | B6: 户名（结算对象) | C6: 出票日期 | D6: 到期日期 | E6: 票面利率% | F6: 账面余额 | H6: 评估价值 | I6: 增值率% | J6: 备注
F7: 账面价值 | G7: 计提减值准备 | K7: 唯一标识列
A8: =IF(B8="","",ROW()-7) | I8: =IF(F8=0,"",(H8-F8)/F8*100) | K8: G1
A9: =IF(B9="","",ROW()-7) | I9: =IF(F9=0,"",(H9-F9)/F9*100) | K9: G2
A10: =IF(B10="","",ROW()-7) | I10: =IF(F10=0,"",(H10-F10)/F10*100) | K10: G3
A11: =IF(B11="","",ROW()-7) | I11: =IF(F11=0,"",(H11-F11)/F11*100) | K11: G4
A12: =IF(B12="","",ROW()-7) | I12: =IF(F12=0,"",(H12-F12)/F12*100) | K12: G5
A13: =IF(B13="","",ROW()-7) | I13: =IF(F13=0,"",(H13-F13)/F13*100) | K13: G6
A14: =IF(B14="","",ROW()-7) | I14: =IF(F14=0,"",(H14-F14)/F14*100) | K14: G7
A15: =IF(B15="","",ROW()-7) | I15: =IF(F15=0,"",(H15-F15)/F15*100) | K15: G8
A16: =IF(B16="","",ROW()-7) | I16: =IF(F16=0,"",(H16-F16)/F16*100) | K16: G9
A17: =IF(B17="","",ROW()-7) | I17: =IF(F17=0,"",(H17-F17)/F17*100) | K17: G10
A18: =IF(B18="","",ROW()-7) | I18: =IF(F18=0,"",(H18-F18)/F18*100) | K18: G11
A19: =IF(B19="","",ROW()-7) | I19: =IF(F19=0,"",(H19-F19)/F19*100) | K19: G12
... A24: =IF(B24="","",ROW()-7) | I24: =IF(F24=0,"",(H24-F24)/F24*100) | K24: G17
A25: 应收票据合计 | F25: =SUM(F8:F24) -> 0 | G25: =SUM(G8:G24) -> 0 | H25: =SUM(H8:H24) -> 0 | I25: =IF(F25=0,"",(H25-F25)/F25*100) | K25: G18
A26: 减：应收票据坏账准备 | F26: =G25 -> 0 | K26: G19
A27: 应收票据净额 | F27: =F25-F26 -> 0 | H27: =H25 -> 0 | I27: =IF(F27=0,"",(H27-F27)/F27*100)
A28: =基本信息输入表!$K$6&"填表人："&基本信息输入表!$M$21 -> 被评估单位填表人：阎丽红 | H28: ="评估人员："&基本信息输入表!$Q$21 -> 评估人员：孙艳平 | K28: 打印边界
A29: ="填表日期："&YEAR(基本信息输入表!$O$21)&"年"&MONTH(基本信息输入表!$O$21)&"月"&DAY(基本信息输入表!$O$21)&"日" -> 填表日期：2020年4月25日

Sheet 3-4应收账款
A1: 返回索引目录
A2: 应收账款评估明细表
A3: ="评估基准日："&TEXT(基本信息输入表!M7,"yyyy年mm月dd日") -> 评估基准日：2020年03月31日
L4: 表3-4
A5: =基本信息输入表!K6&"："&基本信息输入表!M6 -> 被评估单位：山西华润昌裕煤业有限公司 | L5: 金额单位：人民币元
A6: 序号 | B6: 欠款单位名称（结算对象) | C6: 业务内容 | D6: 最后一次 变动日期 | E6: 账龄（月） | F6: 币种 | G6: 外币账面金额 | H6: 账面余额 | I6: 坏账准备 | J6: 评估价值 | K6: 增值率% | L6: 备注
M7: 唯一标识列
K8: =IF(H8=0,"",(J8-H8)/(H8)*100) | M8: H1
M9: H2
M10: H3
M11: H4
M12: H5
M13: H6
M14: H7
M15: H8
A16: =IF(B16="","",ROW()-7) | K16: =IF(H16=0,"",(J16-H16)/(H16)*100) | M16: H9
A17: =IF(B17="","",ROW()-7) | K17: =IF(H17=0,"",(J17-H17)/(H17)*100) | M17: H10
A18: =IF(B18="","",ROW()-7) | K18: =IF(H18=0,"",(J18-H18)/(H18)*100) | M18: H11
A19: =IF(B19="","",ROW()-7) | K19: =IF(H19=0,"",(J19-H19)/(H19)*100) | M19: H12
A20: 应收账款合计 | H20: =SUM(H8:H19) -> 0 | I20: =SUM(I8:I19) -> 0 | J20: =SUM(J8:J19) -> 0 | K20: =IF(H20=0,"",(J20-H20)/(H20)*100)
A21: 减：坏账准备 | H21: =I20 -> 0
A22: 减：评估风险损失 | J22: =H21 -> 0
A23: 应收账款净额 | H23: =H20-H21 -> 0 | J23: =J20-J22 -> 0 | K23: =IF(H23=0,"",(J23-H23)/(H23)*100)
A24: =基本信息输入表!$K$6&"填表人："&基本信息输入表!$M$22 -> 被评估单位填表人：阎丽红 | J24: ="评估人员："&基本信息输入表!$Q$22 -> 评估人员：孙艳平 | M24: 打印边界
A25: ="填表日期："&YEAR(基本信息输入表!$O$22)&"年"&MONTH(基本信息输入表!$O$22)&"月"&DAY(基本信息输入表!$O$22)&"日" -> 填表日期：2020年4月25日

Sheet 3-5预付款项
A1: 返回索引目录
A2: 预付款项明细表
A3: 评估基准日：2020年03月31日
M4: 表3-5
A5: 产权持有单位：山西华润昌裕煤业有限公司 | M5: 金额单位：人民币元
A6: 序号 | B6: 收款单位名称（结算对象) | C6: 业务内容 | D6: 发生日期 | E6: 账龄（月） | F6: 币种 | G6: 外币账面金额 | H6: 基准日汇率 | I6: 账面余额 | J6: 计提减值准备 | K6: 评估价值 | L6: 增值率% | M6: 备注
A8: 1 | B8: 中国石油天然气股份有限公司山西太原销售分公司 | C8: 燃料款 | D8: 43497 | E8: 8 | F8: 人民币 | I8: 12717.44 | K8: 12717.44 | L8: 0
A9: 2 | B9: 古交市物资公司 | C9: 火工品 | D9: 41843 | E9: 63 | F9: 人民币 | I9: 5707.84 | K9: 5707.84 | L9: 0
A10: 3 | B10: 国网山西省电力公司太原供电公司 | C10: 电费 | D10: 43096 | E10: 22 | F10: 人民币 | I10: 413151.12 | K10: 413151.12 | L10: 0
A23: 预付款项合计 | I23: 431576.4 | J23: 0 | K23: 431576.4 | L23: 0
A24: 减：预付款项坏账准备 | I24: 0
A25: 预付款项净额 | I25: 431576.4 | K25: 431576.4 | L25: 0

Sheet 3-6应收利息
A1: 返回索引目录
A2: 应收利息评估明细表
A3: ="评估基准日："&TEXT(基本信息输入表!M7,"yyyy年mm月dd日") -> 评估基准日：2020年03月31日
J4: 表3-6
A5: =基本信息输入表!K6&"："&基本信息输入表!M6 -> 被评估单位：山西华润昌裕煤业有限公司 | J5: 金额单位：人民币元
A6: 序号 | B6: 欠款单位名称（结算对象) | C6: 发生日期 | D6: 本金 | E6: 利息所属期间 | F6: 利息率% | G6: 账面价值 | H6: 评估价值 | I6: 增值率% | J6: 备注 | K6: 唯一标识列
A7: =IF(B7="","",ROW()-6) | I7: =IF(G7=0,"",(H7-G7)/G7*100) | K7: J1
A8: =IF(B8="","",ROW()-6) | I8: =IF(G8=0,"",(H8-G8)/G8*100) | K8: J2
A9: =IF(B9="","",ROW()-6) | I9: =IF(G9=0,"",(H9-G9)/G9*100) | K9: J3
A10: =IF(B10="","",ROW()-6) | I10: =IF(G10=0,"",(H10-G10)/G10*100) | K10: J4
A11: =IF(B11="","",ROW()-6) | I11: =IF(G11=0,"",(H11-G11)/G11*100) | K11: J5
A12: =IF(B12="","",ROW()-6) | I12: =IF(G12=0,"",(H12-G12)/G12*100) | K12: J6
A13: =IF(B13="","",ROW()-6) | I13: =IF(G13=0,"",(H13-G13)/G13*100) | K13: J7
A14: =IF(B14="","",ROW()-6) | I14: =IF(G14=0,"",(H14-G14)/G14*100) | K14: J8
A15: =IF(B15="","",ROW()-6) | I15: =IF(G15=0,"",(H15-G15)/G15*100) | K15: J9
A16: =IF(B16="","",ROW()-6) | I16: =IF(G16=0,"",(H16-G16)/G16*100) | K16: J10
A17: =IF(B17="","",ROW()-6) | I17: =IF(G17=0,"",(H17-G17)/G17*100) | K17: J11
A18: =IF(B18="","",ROW()-6) | I18: =IF(G18=0,"",(H18-G18)/G18*100) | K18: J12
... A28: =IF(B28="","",ROW()-6) | I28: =IF(G28=0,"",(H28-G28)/G28*100) | K28: J22
A29: 合 计 | G29: =SUM(G7:G28) -> 0 | H29: =SUM(H7:H28) -> 0 | I29: =IF(G29=0,"",(H29-G29)/G29*100)
A30: =基本信息输入表!$K$6&"填表人："&基本信息输入表!$M$24 -> 被评估单位填表人：阎丽红 | H30: ="评估人员："&基本信息输入表!$Q$24 -> 评估人员：孙艳平 | K30: 打印边界
A31: ="填表日期："&YEAR(基本信息输入表!$O$24)&"年"&MONTH(基本信息输入表!$O$24)&"月"&DAY(基本信息输入表!$O$24)&"日" -> 填表日期：2020年4月25日

Sheet 3-7应收股利
A1: 返回索引目录
A2: 应收股利（应收利润）评估明细表
A3: ="评估基准日："&TEXT(基本信息输入表!M7,"yyyy年mm月dd日") -> 评估基准日：2020年03月31日
H4: 表3-7
A5: =基本信息输入表!K6&"："&基本信息输入表!M6 -> 被评估单位：山西华润昌裕煤业有限公司 | H5: 金额单位：人民币元
A6: 序号 | B6: 户名（结算对象) | C6: 发生日期 | D6: 股利（利润）所属期间 | E6: 账面价值 | F6: 评估价值 | G6: 增值率% | H6: 备注 | I6: 唯一标识列
A7: =IF(B7="","",ROW()-6) | G7: =IF(E7=0,"",(F7-E7)/E7*100) | I7: K1
A8: =IF(B8="","",ROW()-6) | G8: =IF(E8=0,"",(F8-E8)/E8*100) | I8: K2
A9: =IF(B9="","",ROW()-6) | G9: =IF(E9=0,"",(F9-E9)/E9*100) | I9: K3
A10: =IF(B10="","",ROW()-6) | G10: =IF(E10=0,"",(F10-E10)/E10*100) | I10: K4
A11: =IF(B11="","",ROW()-6) | G11: =IF(E11=0,"",(F11-E11)/E11*100) | I11: K5
A12: =IF(B12="","",ROW()-6) | G12: =IF(E12=0,"",(F12-E12)/E12*100) | I12: K6
A13: =IF(B13="","",ROW()-6) | G13: =IF(E13=0,"",(F13-E13)/E13*100) | I13: K7
A14: =IF(B14="","",ROW()-6) | G14: =IF(E14=0,"",(F14-E14)/E14*100) | I14: K8
A15: =IF(B15="","",ROW()-6) | G15: =IF(E15=0,"",(F15-E15)/E15*100) | I15: K9
A16: =IF(B16="","",ROW()-6) | G16: =IF(E16=0,"",(F16-E16)/E16*100) | I16: K10
A17: =IF(B17="","",ROW()-6) | G17: =IF(E17=0,"",(F17-E17)/E17*100) | I17: K11
A18: =IF(B18="","",ROW()-6) | G18: =IF(E18=0,"",(F18-E18)/E18*100) | I18: K12
... A26: =IF(B26="","",ROW()-6) | G26: =IF(E26=0,"",(F26-E26)/E26*100) | I26: K20
A27: 合 计 | E27: =SUM(E7:E26) -> 0 | F27: =SUM(F7:F26) -> 0 | G27: =IF(E27=0,"",(F27-E27)/E27*100)
A28: =基本信息输入表!$K$6&"填表人："&基本信息输入表!$M$25 -> 被评估单位填表人：阎丽红 | F28: ="评估人员："&基本信息输入表!$Q$25 -> 评估人员：孙艳平 | I28: 打印边界
A29: ="填表日期："&YEAR(基本信息输入表!$O$25)&"年"&MONTH(基本信息输入表!$O$25)&"月"&DAY(基本信息输入表!$O$25)&"日" -> 填表日期：2020年4月25日

Sheet 3-8其他应收款
A1: 返回索引目录
A2: 其他应收款明细表
A3: 评估基准日：2020年03月31日
L4: 表3-8
A5: 产权持有单位：山西华润昌裕煤业有限公司 | L5: 金额单位：人民币元
A6: 序号 | B6: 欠款单位名称（结算对象) | C6: 业务内容 | D6: 最后一次 变动日期 | E6: 账龄（月） | F6: 币种 | G6: 外币账面金额 | H6: 账面余额 | I6: 坏账准备 | J6: 评估价值 | K6: 增值率% | L6: 备注
A8: 1 | B8: 岳仁伟 CYMY0.综合科 | C8: 个人借款 | D8: 41092 | E8: 87 | F8: 人民币 | H8: 44397 | I8: 44397 | J8: 44397 | K8: 0
A9: 2 | B9: 海向宏 CYMY0.综合科 | C9: 个人借款 | D9: 41091 | E9: 87 | F9: 人民币 | H9: 15633 | I9: 15633 | J9: 15633 | K9: 0
A10: 4 | B10: 山西华润昌裕煤业有限公司职工 | C10: 代扣养老保险 | D10: 43709 | E10: 1 | F10: 人民币 | H10: -392.8 | J10: -392.8 | K10: 0
A11: 6 | B11: 山西华润昌裕煤业有限公司职工 | C11: 代扣养老保险 | D11: 43710 | E11: 1 | F11: 人民币 | H11: 90851.18 | J11: 90851.18 | K11: 0
A12: 6 | B12: 山西华润昌裕煤业有限公司职工 | C12: 代扣失业保险 | D12: 43711 | E12: 1 | F12: 人民币 | H12: 10524.59 | J12: 10524.59 | K12: 0
A13: 8 | B13: 山西华润昌裕煤业有限公司职工 | C13: 代扣住房公积金 | D13: 43709 | E13: 1 | F13: 人民币 | H13: 367645.24 | J13: 367645.24 | K13: 0
A14: 8 | B14: 山西华润昌裕煤业有限公司职工 | C14: 代扣医疗保险 | D14: 43710 | E14: 1 | F14: 人民币 | H14: -46171.66 | J14: -46171.66 | K14: 0
A15: 10 | B15: 山西华润昌裕煤业有限公司职工 | C15: 代扣保险年金 | D15: 43711 | E15: 1 | F15: 人民币 | H15: -4716.8 | J15: -4716.8 | K15: 0
A16: 10 | B16: 山西华润昌裕煤业有限公司职工 | C16: 代扣医疗保险 | D16: 43712 | E16: 1 | F16: 人民币 | H16: -125 | J16: -125 | K16: 0
A17: 12 | B17: 史磊 | C17: 个人借款 | D17: 43272 | E17: 16 | F17: 人民币 | H17: 101999.68 | J17: 101999.68 | K17: 0
A18: 11 | B18: 预缴税费-其他税费. | C18: 留底增值税项税额 | D18: 43921 | E18: 1 | F18: 人民币 | H18: 2725054 | J18: 2725054 | K18: 0
A28: 其他应收款合计 | H28: 3304698.5 | I28: 60030 | J28: 3304698.5 | K28: 0
A29: 减：坏账准备 | H29: 60030
A30: 减：评估风险损失 | J30: 60030
A31: 其他应收款净额 | H31: 3244668.5 | J31: 3244668.5 | K31: 0

Sheet 3-9存货汇总
A1: 返回索引目录
A2: 存货汇总表
G3: 表3-9
A4: 产权所有单位：山西华润昌裕煤业有限公司 | G4: 金额单位：人民币元
A5: 编号 | B5: 科目名称 | C5: 账面价值 | D5: 计提减值准备金额 | E5: 评估价值 | F5: 增减值 | G5: 增值率%
A6: 3-9-1 | B6: 材料采购（在途物资） | C6: 0 | D6: 0 | E6: 0 | F6: 0
A7: 3-9-2 | B7: 原材料 | C7: 2665575.1 | D7: 1778300.8 | E7: 1055726 | F7: 168451.68 | G7: 18.985299
A8: 3-9-3 | B8: 在库周转材料 | C8: 0 | D8: 0 | E8: 0 | F8: 0
A9: 3-9-4 | B9: 委托加工物资 | C9: 0 | D9: 0 | E9: 0 | F9: 0
A10: 3-9-5 | B10: 产成品（库存商品） | C10: 0 | D10: 0 | E10: 0 | F10: 0
A11: 3-9-6 | B11: 在产品（自制半成品） | C11: 0 | D11: 0 | E11: 0 | F11: 0
A12: 3-9-7 | B12: 发出商品 | C12: 0 | D12: 0 | E12: 0 | F12: 0
A13: 3-9-8 | B13: 在用周转材料 | C13: 0 | D13: 0 | E13: 0 | F13: 0
A14: 3-9-9 | B14: 开发产品 | C14: 0 | D14: 0 | E14: 0 | F14: 0
A15: 3-9-10 | B15: 开发成本 | C15: 0 | D15: 0 | E15: 0 | F15: 0
A16: 3-9-11 | B16: 消耗性生物资产 | C16: 0 | D16: 0 | E16: 0 | F16: 0
A17: 3-9-12 | B17: 工程施工 | C17: 0 | E17: 0 | F17: 0
A24: 存货合计 | C24: 2665575.1 | D24: 1778300.8 | E24: 1055726 | F24: -1609849.1 | G24: 18.985299
A25: 减：存货跌价准备 | C25: 1778300.8
A26: 存货净额 | C26: 887274.32 | E26: 1055726 | F26: 168451.68 | G26: 18.985299

Sheet 3-9-1材料采购（在途物资）
A1: 返回索引目录
A2: 存货—材料采购（在途物资）评估明细表
A3: ="评估基准日："&TEXT(基本信息输入表!M7,"yyyy年mm月dd日") -> 评估基准日：2020年03月31日
L4: 表3-9-1
A5: =基本信息输入表!K6&"："&基本信息输入表!M6 -> 被评估单位：山西华润昌裕煤业有限公司 | L5: 金额单位：人民币元
A6: 序号 | B6: 名称及规格型号 | C6: 计量单位 | D6: 账面价值 | G6: 计提减值准备金额 | H6: 评估价值 | K6: 增值率% | L6: 备注
D7: 数量 | E7: 单价 | F7: 金额 | H7: 实际数量 | I7: 评估单价 | J7: 金额 | M7: 唯一标识列
A8: =IF(B8="","",ROW()-7) | K8: =IF(F8=0,"",(J8-F8)/F8*100) | M8: M1
A9: =IF(B9="","",ROW()-7) | K9: =IF(F9=0,"",(J9-F9)/F9*100) | M9: M2
A10: =IF(B10="","",ROW()-7) | K10: =IF(F10=0,"",(J10-F10)/F10*100) | M10: M3
A11: =IF(B11="","",ROW()-7) | K11: =IF(F11=0,"",(J11-F11)/F11*100) | M11: M4
A12: =IF(B12="","",ROW()-7) | K12: =IF(F12=0,"",(J12-F12)/F12*100) | M12: M5
A13: =IF(B13="","",ROW()-7) | K13: =IF(F13=0,"",(J13-F13)/F13*100) | M13: M6
A14: =IF(B14="","",ROW()-7) | K14: =IF(F14=0,"",(J14-F14)/F14*100) | M14: M7
A15: =IF(B15="","",ROW()-7) | K15: =IF(F15=0,"",(J15-F15)/F15*100) | M15: M8
A16: =IF(B16="","",ROW()-7) | K16: =IF(F16=0,"",(J16-F16)/F16*100) | M16: M9
A17: =IF(B17="","",ROW()-7) | K17: =IF(F17=0,"",(J17-F17)/F17*100) | M17: M10
A18: =IF(B18="","",ROW()-7) | K18: =IF(F18=0,"",(J18-F18)/F18*100) | M18: M11
A19: =IF(B19="","",ROW()-7) | K19: =IF(F19=0,"",(J19-F19)/F19*100) | M19: M12
... A24: =IF(B24="","",ROW()-7) | K24: =IF(F24=0,"",(J24-F24)/F24*100) | M24: M17
A25: 材料采购（在途物资）合计 | F25: =SUM(F8:F24) -> 0 | G25: =SUM(G8:G24) -> 0 | J25: =SUM(J8:J24) -> 0 | K25: =IF(F25=0,"",(J25-F25)/F25*100)
A26: 减：材料采购（在途物资）跌价准备 | F26: =G25 -> 0
A27: 材料采购（在途物资）净额 | F27: =F25-F26 -> 0 | J27: =J25-J26 -> 0 | K27: =IF(F27=0,"",(J27-F27)/F27*100)
A28: =基本信息输入表!$K$6&"填表人："&基本信息输入表!$M$28 -> 被评估单位填表人：阎丽红 | J28: ="评估人员："&基本信息输入表!$Q$28 -> 评估人员：孙艳平 | M28: 打印边界
A29: ="填表日期："&YEAR(基本信息输入表!$O$28)&"年"&MONTH(基本信息输入表!$O$28)&"月"&DAY(基本信息输入表!$O$28)&"日" -> 填表日期：2020年4月25日

Sheet 3-9-3在库周转材料
A1: 返回索引目录
A2: 存货—在库周转材料评估明细表
A3: ="评估基准日："&TEXT(基本信息输入表!M7,"yyyy年mm月dd日") -> 评估基准日：2020年03月31日
O4: 表3-9-3
A5: =基本信息输入表!K6&"："&基本信息输入表!M6 -> 被评估单位：山西华润昌裕煤业有限公司 | O5: 金额单位：人民币元
A6: 序号 | B6: 名称及规格型号 | C6: 计量单位 | D6: 存放地点 | E6: 账面价值 | H6: 计提减值准备金额 | I6: 购进年月 | J6: 基准日近期单价 | K6: 评估价值 | N6: 增值率% | O6: 备注
E7: 数量 | F7: 单价 | G7: 金额 | K7: 实际数量 | L7: 评估单价 | M7: 金额 | P7: 唯一标识列
A8: =IF(B8="","",ROW()-7) | N8: =IF(G8-H8=0,"",(M8-G8+H8)/(G8-H8)*100) | P8: O1
A9: =IF(B9="","",ROW()-7) | N9: =IF(G9-H9=0,"",(M9-G9+H9)/(G9-H9)*100) | P9: O2
A10: =IF(B10="","",ROW()-7) | N10: =IF(G10-H10=0,"",(M10-G10+H10)/(G10-H10)*100) | P10: O3
A11: =IF(B11="","",ROW()-7) | N11: =IF(G11-H11=0,"",(M11-G11+H11)/(G11-H11)*100) | P11: O4
A12: =IF(B12="","",ROW()-7) | N12: =IF(G12-H12=0,"",(M12-G12+H12)/(G12-H12)*100) | P12: O5
A13: =IF(B13="","",ROW()-7) | N13: =IF(G13-H13=0,"",(M13-G13+H13)/(G13-H13)*100) | P13: O6
A14: =IF(B14="","",ROW()-7) | N14: =IF(G14-H14=0,"",(M14-G14+H14)/(G14-H14)*100) | P14: O7
A15: =IF(B15="","",ROW()-7) | N15: =IF(G15-H15=0,"",(M15-G15+H15)/(G15-H15)*100) | P15: O8
A16: =IF(B16="","",ROW()-7) | N16: =IF(G16-H16=0,"",(M16-G16+H16)/(G16-H16)*100) | P16: O9
A17: =IF(B17="","",ROW()-7) | N17: =IF(G17-H17=0,"",(M17-G17+H17)/(G17-H17)*100) | P17: O10
A18: =IF(B18="","",ROW()-7) | N18: =IF(G18-H18=0,"",(M18-G18+H18)/(G18-H18)*100) | P18: O11
A19: =IF(B19="","",ROW()-7) | N19: =IF(G19-H19=0,"",(M19-G19+H19)/(G19-H19)*100) | P19: O12
... A28: =IF(B28="","",ROW()-7) | N28: =IF(G28-H28=0,"",(M28-G28+H28)/(G28-H28)*100) | P28: O21
A29: 在用周转材料合计 | G29: =SUM(G8:G28) -> 0 | H29: =SUM(H8:H28) -> 0 | M29: =SUM(M8:M28) -> 0 | N29: =IF(G29-H29=0,"",(M29-G29+H29)/(G29-H29)*100)
A30: 减：在用周转材料跌价准备 | G30: =H29 -> 0
A31: 在用周转材料净额 | G31: =G29-G30 -> 0 | M31: =M29-M30 -> 0 | N31: =IF(G31-H31=0,"",(M31-G31+H31)/(G31-H31)*100)
A32: =基本信息输入表!$K$6&"填表人："&基本信息输入表!$M$30 -> 被评估单位填表人：阎丽红 | M32: ="评估人员："&基本信息输入表!$Q$30 -> 评估人员：孙艳平
A33: ="填表日期："&YEAR(基本信息输入表!$O$30)&"年"&MONTH(基本信息输入表!$O$30)&"月"&DAY(基本信息输入表!$O$30)&"日" -> 填表日期：2020年4月25日

Sheet 3-9-4委托加工物资
A1: 返回索引目录
A2: 存货—委托加工物资评估明细表
A3: ="评估基准日："&TEXT(基本信息输入表!M7,"yyyy年mm月dd日") -> 评估基准日：2020年03月31日
L4: 表3-9-4
A5: =基本信息输入表!K6&"："&基本信息输入表!M6 -> 被评估单位：山西华润昌裕煤业有限公司 | M5: 金额单位：人民币元
A6: 序号 | B6: 名称及规格型号 | C6: 加工单位名称 | D6: 计量单位 | E6: 账面价值 | H6: 计提减值准备金额 | I6: 评估价值 | L6: 增值率% | M6: 备注
E7: 数量 | F7: 单价 | G7: 金额 | I7: 实际数量 | J7: 评估单价 | K7: 金额 | N7: 唯一标识列
A8: =IF(B8="","",ROW()-7) | L8: =IF(G8-H8=0,"",(K8-G8+H8)/(G8-H8)*100) | N8: P1
A9: =IF(B9="","",ROW()-7) | L9: =IF(G9-H9=0,"",(K9-G9+H9)/(G9-H9)*100) | N9: P2
A10: =IF(B10="","",ROW()-7) | L10: =IF(G10-H10=0,"",(K10-G10+H10)/(G10-H10)*100) | N10: P3
A11: =IF(B11="","",ROW()-7) | L11: =IF(G11-H11=0,"",(K11-G11+H11)/(G11-H11)*100) | N11: P4
A12: =IF(B12="","",ROW()-7) | L12: =IF(G12-H12=0,"",(K12-G12+H12)/(G12-H12)*100) | N12: P5
A13: =IF(B13="","",ROW()-7) | L13: =IF(G13-H13=0,"",(K13-G13+H13)/(G13-H13)*100) | N13: P6
A14: =IF(B14="","",ROW()-7) | L14: =IF(G14-H14=0,"",(K14-G14+H14)/(G14-H14)*100) | N14: P7
A15: =IF(B15="","",ROW()-7) | L15: =IF(G15-H15=0,"",(K15-G15+H15)/(G15-H15)*100) | N15: P8
A16: =IF(B16="","",ROW()-7) | L16: =IF(G16-H16=0,"",(K16-G16+H16)/(G16-H16)*100) | N16: P9
A17: =IF(B17="","",ROW()-7) | L17: =IF(G17-H17=0,"",(K17-G17+H17)/(G17-H17)*100) | N17: P10
A18: =IF(B18="","",ROW()-7) | L18: =IF(G18-H18=0,"",(K18-G18+H18)/(G18-H18)*100) | N18: P11
A19: =IF(B19="","",ROW()-7) | L19: =IF(G19-H19=0,"",(K19-G19+H19)/(G19-H19)*100) | N19: P12
... A24: =IF(B24="","",ROW()-7) | L24: =IF(G24-H24=0,"",(K24-G24+H24)/(G24-H24)*100) | N24: P17
A25: 委托加工物资合计 | G25: =SUM(G8:G24) -> 0 | H25: =SUM(H8:H24) -> 0 | K25: =SUM(K8:K24) -> 0 | L25: =IF(G25-H25=0,"",(K25-G25+H25)/(G25-H25)*100)
A26: 减：委托加工物资跌价准备 | G26: =H25 -> 0
A27: 委托加工物资净额 | G27: =G25-G26 -> 0 | K27: =K25-K26 -> 0 | L27: =IF(G27-H27=0,"",(K27-G27+H27)/(G27-H27)*100)
A28: =基本信息输入表!$K$6&"填表人："&基本信息输入表!$M$31 -> 被评估单位填表人：阎丽红 | K28: ="评估人员："&基本信息输入表!$Q$31 -> 评估人员：孙艳平 | N28: 打印边界
A29: ="填表日期："&YEAR(基本信息输入表!$O$31)&"年"&MONTH(基本信息输入表!$O$31)&"月"&DAY(基本信息输入表!$O$31)&"日" -> 填表日期：2020年4月25日

Sheet 3-9-5产成品（库存商品）
A1: 返回索引目录
A2: 存货—产成品（库存商品、开发产品、农产品）评估明细表
A3: ="评估基准日："&TEXT(基本信息输入表!M7,"yyyy年mm月dd日") -> 评估基准日：2020年03月31日
O4: 表3-9-5
A5: =基本信息输入表!K6&"："&基本信息输入表!M6 -> 被评估单位：山西华润昌裕煤业有限公司 | O5: 金额单位：人民币元
A6: 序号 | B6: 名 称 | C6: 规格型号 | D6: 计量单位 | E6: 基准日不含增值税销售单价 | F6: 销售状态 畅销/正常/滞销 | G6: 账面价值 | J6: 计提减值准备金额 | K6: 评估价值 | N6: 增值率% | O6: 备注
G7: 数量 | H7: 单价 | I7: 金额 | K7: 实际数量 | L7: 评估单价 | M7: 金额 | P7: 唯一标识列
A8: =IF(B8="","",ROW()-7) | N8: =IF(I8-J8=0,"",(M8-I8+J8)/(I8-J8)*100) | P8: Q1
P9: Q2
A10: =IF(B10="","",ROW()-7) | N10: =IF(I10-J10=0,"",(M10-I10+J10)/(I10-J10)*100) | P10: Q3
A11: =IF(B11="","",ROW()-7) | N11: =IF(I11-J11=0,"",(M11-I11+J11)/(I11-J11)*100) | P11: Q4
A12: =IF(B12="","",ROW()-7) | N12: =IF(I12-J12=0,"",(M12-I12+J12)/(I12-J12)*100) | P12: Q5
A13: =IF(B13="","",ROW()-7) | N13: =IF(I13-J13=0,"",(M13-I13+J13)/(I13-J13)*100) | P13: Q6
A14: =IF(B14="","",ROW()-7) | N14: =IF(I14-J14=0,"",(M14-I14+J14)/(I14-J14)*100) | P14: Q7
A15: =IF(B15="","",ROW()-7) | N15: =IF(I15-J15=0,"",(M15-I15+J15)/(I15-J15)*100) | P15: Q8
A16: =IF(B16="","",ROW()-7) | N16: =IF(I16-J16=0,"",(M16-I16+J16)/(I16-J16)*100) | P16: Q9
A17: =IF(B17="","",ROW()-7) | N17: =IF(I17-J17=0,"",(M17-I17+J17)/(I17-J17)*100) | P17: Q10
A18: =IF(B18="","",ROW()-7) | N18: =IF(I18-J18=0,"",(M18-I18+J18)/(I18-J18)*100) | P18: Q11
A19: =IF(B19="","",ROW()-7) | N19: =IF(I19-J19=0,"",(M19-I19+J19)/(I19-J19)*100) | P19: Q12
A20: =IF(B20="","",ROW()-7) | N20: =IF(I20-J20=0,"",(M20-I20+J20)/(I20-J20)*100) | P20: Q13
A21: =IF(B21="","",ROW()-7) | N21: =IF(I21-J21=0,"",(M21-I21+J21)/(I21-J21)*100) | P21: Q14
... A24: =IF(B24="","",ROW()-7) | N24: =IF(I24-J24=0,"",(M24-I24+J24)/(I24-J24)*100) | P24: Q17
A25: 产成品（库存商品）合计 | I25: =SUM(I8:I24) -> 0 | J25: =SUM(J8:J24) -> 0 | M25: =SUM(M8:M24) -> 0 | N25: =IF(I25-J25=0,"",(M25-I25+J25)/(I25-J25)*100)
A26: 减：产成品（库存商品）跌价准备 | I26: =J25 -> 0
A27: 产成品（库存商品）净额 | I27: =I25-I26 -> 0 | M27: =M25-M26 -> 0 | N27: =IF(I27-J27=0,"",(M27-I27+J27)/(I27-J27)*100)
A28: =基本信息输入表!$K$6&"填表人："&基本信息输入表!$M$32 -> 被评估单位填表人：阎丽红 | M28: ="评估人员："&基本信息输入表!$Q$32 -> 评估人员：孙艳平 | P28: 打印边界
A29: ="填表日期："&YEAR(基本信息输入表!$O$32)&"年"&MONTH(基本信息输入表!$O$32)&"月"&DAY(基本信息输入表!$O$32)&"日" -> 填表日期：2020年4月25日

Sheet 3-9-6在产品（自制半成品）
A1: 返回索引目录
A2: 存货—在产品（自制半成品）评估明细表
A3: ="评估基准日："&TEXT(基本信息输入表!M7,"yyyy年mm月dd日") -> 评估基准日：2020年03月31日
M4: 表3-9-6
A5: =基本信息输入表!K6&"："&基本信息输入表!M6 -> 被评估单位：山西华润昌裕煤业有限公司 | M5: 金额单位：人民币元
A6: 序号 | B6: 名称及规格型号 | C6: 计量单位 | D6: 账面价值 | G6: 计提减值准备金额 | H6: 完工程度% | I6: 评估价值 | L6: 增值率% | M6: 备注
D7: 数量 | E7: 单价 | F7: 金额 | I7: 实际数量 | J7: 评估单价 | K7: 金额 | N7: 唯一标识列
A8: =IF(B8="","",ROW()-7) | L8: =IF(F8-G8=0,"",(K8-F8+G8)/(F8-G8)*100) | N8: R1
A9: =IF(B9="","",ROW()-7) | L9: =IF(F9-G9=0,"",(K9-F9+G9)/(F9-G9)*100) | N9: R2
A10: =IF(B10="","",ROW()-7) | L10: =IF(F10-G10=0,"",(K10-F10+G10)/(F10-G10)*100) | N10: R3
A11: =IF(B11="","",ROW()-7) | L11: =IF(F11-G11=0,"",(K11-F11+G11)/(F11-G11)*100) | N11: R4
A12: =IF(B12="","",ROW()-7) | L12: =IF(F12-G12=0,"",(K12-F12+G12)/(F12-G12)*100) | N12: R5
A13: =IF(B13="","",ROW()-7) | L13: =IF(F13-G13=0,"",(K13-F13+G13)/(F13-G13)*100) | N13: R6
A14: =IF(B14="","",ROW()-7) | L14: =IF(F14-G14=0,"",(K14-F14+G14)/(F14-G14)*100) | N14: R7
A15: =IF(B15="","",ROW()-7) | L15: =IF(F15-G15=0,"",(K15-F15+G15)/(F15-G15)*100) | N15: R8
A16: =IF(B16="","",ROW()-7) | L16: =IF(F16-G16=0,"",(K16-F16+G16)/(F16-G16)*100) | N16: R9
A17: =IF(B17="","",ROW()-7) | L17: =IF(F17-G17=0,"",(K17-F17+G17)/(F17-G17)*100) | N17: R10
A18: =IF(B18="","",ROW()-7) | L18: =IF(F18-G18=0,"",(K18-F18+G18)/(F18-G18)*100) | N18: R11
A19: =IF(B19="","",ROW()-7) | L19: =IF(F19-G19=0,"",(K19-F19+G19)/(F19-G19)*100) | N19: R12
... A24: =IF(B24="","",ROW()-7) | L24: =IF(F24-G24=0,"",(K24-F24+G24)/(F24-G24)*100) | N24: R17
A25: 在产品（自制半成品）合计 | F25: =SUM(F8:F24) -> 0 | G25: =SUM(G8:G24) -> 0 | K25: =SUM(K8:K24) -> 0 | L25: =IF(F25-G25=0,"",(K25-F25+G25)/(F25-G25)*100)
A26: 减：在产品（自制半成品）跌价准备 | F26: =G25 -> 0
A27: 在产品（自制半成品）净额 | F27: =F25-F26 -> 0 | K27: =K25-K26 -> 0 | L27: =IF(F27-G27=0,"",(K27-F27+G27)/(F27-G27)*100)
A28: =基本信息输入表!$K$6&"填表人："&基本信息输入表!$M$33 -> 被评估单位填表人：阎丽红 | K28: ="评估人员："&基本信息输入表!$Q$33 -> 评估人员：孙艳平 | N28: 打印边界
A29: ="填表日期："&YEAR(基本信息输入表!$O$33)&"年"&MONTH(基本信息输入表!$O$33)&"月"&DAY(基本信息输入表!$O$33)&"日" -> 填表日期：2020年4月25日

Sheet 3-9-7发出商品
A1: 返回索引目录
A2: 存货—发出商品评估明细表
A3: ="评估基准日："&TEXT(基本信息输入表!M7,"yyyy年mm月dd日") -> 评估基准日：2020年03月31日
L4: 表3-9-7
A5: =基本信息输入表!K6&"："&基本信息输入表!M6 -> 被评估单位：山西华润昌裕煤业有限公司 | M5: 金额单位：人民币元
A6: 序号 | B6: 商品名称 | C6: 对方单位名称 | D6: 计量单位 | E6: 账面价值 | H6: 计提减值准备金额 | I6: 评估价值 | L6: 增值率% | M6: 备注
E7: 数量 | F7: 单价 | G7: 金额 | I7: 实际数量 | J7: 评估单价 | K7: 金额 | N7: 唯一标识列
A8: =IF(B8="","",ROW()-7) | L8: =IF(G8-H8=0,"",(K8-G8+H8)/(G8-H8)*100) | N8: S1
A9: =IF(B9="","",ROW()-7) | L9: =IF(G9-H9=0,"",(K9-G9+H9)/(G9-H9)*100) | N9: S2
A10: =IF(B10="","",ROW()-7) | L10: =IF(G10-H10=0,"",(K10-G10+H10)/(G10-H10)*100) | N10: S3
A11: =IF(B11="","",ROW()-7) | L11: =IF(G11-H11=0,"",(K11-G11+H11)/(G11-H11)*100) | N11: S4
A12: =IF(B12="","",ROW()-7) | L12: =IF(G12-H12=0,"",(K12-G12+H12)/(G12-H12)*100) | N12: S5
A13: =IF(B13="","",ROW()-7) | L13: =IF(G13-H13=0,"",(K13-G13+H13)/(G13-H13)*100) | N13: S6
A14: =IF(B14="","",ROW()-7) | L14: =IF(G14-H14=0,"",(K14-G14+H14)/(G14-H14)*100) | N14: S7
A15: =IF(B15="","",ROW()-7) | L15: =IF(G15-H15=0,"",(K15-G15+H15)/(G15-H15)*100) | N15: S8
A16: =IF(B16="","",ROW()-7) | L16: =IF(G16-H16=0,"",(K16-G16+H16)/(G16-H16)*100) | N16: S9
A17: =IF(B17="","",ROW()-7) | L17: =IF(G17-H17=0,"",(K17-G17+H17)/(G17-H17)*100) | N17: S10
A18: =IF(B18="","",ROW()-7) | L18: =IF(G18-H18=0,"",(K18-G18+H18)/(G18-H18)*100) | N18: S11
A19: =IF(B19="","",ROW()-7) | L19: =IF(G19-H19=0,"",(K19-G19+H19)/(G19-H19)*100) | N19: S12
... A24: =IF(B24="","",ROW()-7) | L24: =IF(G24-H24=0,"",(K24-G24+H24)/(G24-H24)*100) | N24: S17
A25: 发出商品合计 | G25: =SUM(G8:G24) -> 0 | H25: =SUM(H8:H24) -> 0 | K25: =SUM(K8:K24) -> 0 | L25: =IF(G25-H25=0,"",(K25-G25+H25)/(G25-H25)*100)
A26: 减：发出商品跌价准备 | G26: =H25 -> 0
A27: 发出商品净额 | G27: =G25-G26 -> 0 | K27: =K25-K26 -> 0 | L27: =IF(G27-H27=0,"",(K27-G27+H27)/(G27-H27)*100)
A28: =基本信息输入表!$K$6&"填表人："&基本信息输入表!$M$34 -> 被评估单位填表人：阎丽红 | K28: ="评估人员："&基本信息输入表!$Q$34 -> 评估人员：孙艳平
A29: ="填表日期："&YEAR(基本信息输入表!$O$34)&"年"&MONTH(基本信息输入表!$O$34)&"月"&DAY(基本信息输入表!$O$34)&"日" -> 填表日期：2020年4月25日

Sheet 3-9-8在用周转材料
A1: 返回索引目录
A2: 存货—在用周转材料评估明细表
A3: ="评估基准日："&TEXT(基本信息输入表!M7,"yyyy年mm月dd日") -> 评估基准日：2020年03月31日
N4: 表3-9-8
A5: =基本信息输入表!K6&"："&基本信息输入表!M6 -> 被评估单位：山西华润昌裕煤业有限公司 | N5: 金额单位：人民币元
A6: 序号 | B6: 名称及规格型号 | C6: 计量单位 | D6: 启用日期 | E6: 原始入账价值 | F6: 账面价值（摊余价值） | H6: 计提减值准备金额 | I6: 实际数量 | J6: 评估价值 | M6: 增值率% | N6: 备注
F7: 数量 | G7: 金额 | J7: 评估原价 | K7: 成新率% | L7: 金额 | O7: 唯一标识列
A8: =IF(B8="","",ROW()-7) | M8: =IF(G8-H8=0,"",(L8-G8+H8)/(G8-H8)*100) | O8: T1
A9: =IF(B9="","",ROW()-7) | M9: =IF(G9-H9=0,"",(L9-G9+H9)/(G9-H9)*100) | O9: T2
A10: =IF(B10="","",ROW()-7) | M10: =IF(G10-H10=0,"",(L10-G10+H10)/(G10-H10)*100) | O10: T3
A11: =IF(B11="","",ROW()-7) | M11: =IF(G11-H11=0,"",(L11-G11+H11)/(G11-H11)*100) | O11: T4
A12: =IF(B12="","",ROW()-7) | M12: =IF(G12-H12=0,"",(L12-G12+H12)/(G12-H12)*100) | O12: T5
A13: =IF(B13="","",ROW()-7) | M13: =IF(G13-H13=0,"",(L13-G13+H13)/(G13-H13)*100) | O13: T6
A14: =IF(B14="","",ROW()-7) | M14: =IF(G14-H14=0,"",(L14-G14+H14)/(G14-H14)*100) | O14: T7
A15: =IF(B15="","",ROW()-7) | M15: =IF(G15-H15=0,"",(L15-G15+H15)/(G15-H15)*100) | O15: T8
A16: =IF(B16="","",ROW()-7) | M16: =IF(G16-H16=0,"",(L16-G16+H16)/(G16-H16)*100) | O16: T9
A17: =IF(B17="","",ROW()-7) | M17: =IF(G17-H17=0,"",(L17-G17+H17)/(G17-H17)*100) | O17: T10
A18: =IF(B18="","",ROW()-7) | M18: =IF(G18-H18=0,"",(L18-G18+H18)/(G18-H18)*100) | O18: T11
A19: =IF(B19="","",ROW()-7) | M19: =IF(G19-H19=0,"",(L19-G19+H19)/(G19-H19)*100) | O19: T12
... A24: =IF(B24="","",ROW()-7) | M24: =IF(G24-H24=0,"",(L24-G24+H24)/(G24-H24)*100) | O24: T17
A25: 在用周转材料合计 | G25: =SUM(G8:G24) -> 0 | H25: =SUM(H8:H24) -> 0 | L25: =SUM(L8:L24) -> 0 | M25: =IF(G25-H25=0,"",(L25-G25+H25)/(G25-H25)*100)
A26: 减：在用周转材料跌价准备 | G26: =H25 -> 0
A27: 在用周转材料净额 | G27: =G25-G26 -> 0 | L27: =L25-L26 -> 0 | M27: =IF(G27-H27=0,"",(L27-G27+H27)/(G27-H27)*100)
A28: =基本信息输入表!$K$6&"填表人："&基本信息输入表!$M$35 -> 被评估单位填表人：阎丽红 | L28: ="评估人员："&基本信息输入表!$Q$35 -> 评估人员：孙艳平 | O28: 打印边界
A29: ="填表日期："&YEAR(基本信息输入表!$O$35)&"年"&MONTH(基本信息输入表!$O$35)&"月"&DAY(基本信息输入表!$O$35)&"日" -> 填表日期：2020年4月25日

Sheet 3-9-9开发产品
A1: 返回索引目录
A2: 存货—开发产品评估明细表
A3: ="评估基准日："&TEXT(基本信息输入表!M7,"yyyy年mm月dd日") -> 评估基准日：2020年03月31日
X4: 表3-9-9
A5: =基本信息输入表!K6&"："&基本信息输入表!M6 -> 被评估单位：山西华润昌裕煤业有限公司 | Y5: 金额单位：人民币元
A6: 序号 | B6: 项目名称 | C6: 土地证号或不动产权证书号 | D6: 土地使用权人 | E6: 详细地址 | F6: 土地用途 | G6: 结构 | H6: 开工日期 | I6: 完工日期 | J6: 建设用地规划 | K6: 建设工程规划 | L6: 建筑工程施工 | M6: 商品房预售 | N6: 基准日留存面积（平方米，车位填写个数） | T6: 账面价值 | U6: 跌价准备金额 | V6: 账面净额 | W6: 评估价值 | X6: 增值率% | Y6: 备注
J7: 许可证号 | K7: 许可证号 | L7: 许可证号 | M7: 许可证号 | N7: 住宅 | O7: 商业 | P7: 公共配套 | Q7: 车位（个） | R7: 幼儿园/菜市场 | S7: 其他 | W7: 金额 | Z7: 唯一标识列
A8: =IF(C8="","",ROW()-7) | X8: =IF(T8-U8=0,"",(W8-T8+U8)/(T8-U8)*100) | Z8: U1
A9: =IF(C9="","",ROW()-7) | X9: =IF(T9-U9=0,"",(W9-T9+U9)/(T9-U9)*100) | Z9: U2
A10: =IF(C10="","",ROW()-7) | X10: =IF(T10-U10=0,"",(W10-T10+U10)/(T10-U10)*100) | Z10: U3
A11: =IF(C11="","",ROW()-7) | X11: =IF(T11-U11=0,"",(W11-T11+U11)/(T11-U11)*100) | Z11: U4
A12: =IF(C12="","",ROW()-7) | X12: =IF(T12-U12=0,"",(W12-T12+U12)/(T12-U12)*100) | Z12: U5
A13: =IF(C13="","",ROW()-7) | X13: =IF(T13-U13=0,"",(W13-T13+U13)/(T13-U13)*100) | Z13: U6
A14: =IF(C14="","",ROW()-7) | X14: =IF(T14-U14=0,"",(W14-T14+U14)/(T14-U14)*100) | Z14: U7
A15: =IF(C15="","",ROW()-7) | X15: =IF(T15-U15=0,"",(W15-T15+U15)/(T15-U15)*100) | Z15: U8
A16: =IF(C16="","",ROW()-7) | Z16: U9
A17: =IF(C17="","",ROW()-7) | X17: =IF(T17-U17=0,"",(W17-T17+U17)/(T17-U17)*100) | Z17: U10
A18: =IF(C18="","",ROW()-7) | X18: =IF(T18-U18=0,"",(W18-T18+U18)/(T18-U18)*100) | Z18: U11
A19: =IF(C19="","",ROW()-7) | X19: =IF(T19-U19=0,"",(W19-T19+U19)/(T19-U19)*100) | Z19: U12
A20: =IF(C20="","",ROW()-7) | X20: =IF(T20-U20=0,"",(W20-T20+U20)/(T20-U20)*100) | Z20: U13
A21: =IF(C21="","",ROW()-7) | X21: =IF(T21-U21=0,"",(W21-T21+U21)/(T21-U21)*100) | Z21: U14
A22: =IF(C22="","",ROW()-7) | X22: =IF(T22-U22=0,"",(W22-T22+U22)/(T22-U22)*100) | Z22: U15
A23: =IF(C23="","",ROW()-7) | X23: =IF(T23-U23=0,"",(W23-T23+U23)/(T23-U23)*100) | Z23: U16
A24: =IF(C24="","",ROW()-7) | X24: =IF(T24-U24=0,"",(W24-T24+U24)/(T24-U24)*100) | Z24: U17
A25: 开发产品合计 | T25: =SUM(T8:T24) -> 0 | U25: =SUM(U8:U24) -> 0 | V25: =SUM(V8:V24) -> 0 | W25: =SUM(W8:W24) -> 0 | X25: =IF(T25-U25=0,"",(W25-T25+U25)/(T25-U25)*100)
A26: 减：开发产品跌价准备 | T26: =U25 -> 0 | X26: =IF(T26-U26=0,"",(W26-T26+U26)/(T26-U26)*100)
A27: 开发产品净额 | T27: =T25-T26 -> 0 | V27: =V25 -> 0 | W27: =W25-W26 -> 0 | X27: =IF(T27-U27=0,"",(W27-T27+U27)/(T27-U27)*100)
A28: =基本信息输入表!$K$6&"填表人："&基本信息输入表!$M$36 -> 被评估单位填表人：阎丽红 | W28: ="评估人员："&基本信息输入表!$Q$36 -> 评估人员：孙艳平 | Z28: 打印边界
A29: ="填表日期："&YEAR(基本信息输入表!$O$36)&"年"&MONTH(基本信息输入表!$O$36)&"月"&DAY(基本信息输入表!$O$36)&"日" -> 填表日期：2020年4月25日

Sheet 3-9-10开发成本
A1: 返回索引目录
A2: 存货—开发成本评估明细表
A3: ="评估基准日："&TEXT(基本信息输入表!M7,"yyyy年mm月dd日") -> 评估基准日：2020年03月31日
Y4: 表3-9-10
A5: =基本信息输入表!K6&"："&基本信息输入表!M6 -> 被评估单位：山西华润昌裕煤业有限公司 | Z5: 金额单位：人民币元
A6: 序号 | B6: 项目名称 | C6: 土地证号或不动产权证书号 | D6: 土地使用权人 | E6: 详细地址 | F6: 土地用途 | G6: 土地使用权面积（平方米） | H6: 结构 | I6: 开工日期 | J6: 预计完工日期 | K6: 建设用地规划 | L6: 建设工程规划 | M6: 建筑工程施工 | N6: 预售 | O6: 基准日留存面积（平方米，车位填写个数） | U6: 账面价值 | V6: 跌价准备 | W6: 账面净额 | X6: 评估价值 | Y6: 增值率% | Z6: 备注
K7: 许可证号 | L7: 许可证号 | M7: 许可证号 | N7: 许可证号 | O7: 住宅 | P7: 商业 | Q7: 公共配套 | R7: 车位（个） | S7: 幼儿园/菜市场 | T7: 其他 | AA7: 唯一标识列
A8: =IF(C8="","",ROW()-7) | Y8: =IF(W8=0,"",(X8-W8)/W8*100) | AA8: V1
A9: =IF(C9="","",ROW()-7) | Y9: =IF(W9=0,"",(X9-W9)/W9*100) | AA9: V2
A10: =IF(C10="","",ROW()-7) | Y10: =IF(W10=0,"",(X10-W10)/W10*100) | AA10: V3
A11: =IF(C11="","",ROW()-7) | Y11: =IF(W11=0,"",(X11-W11)/W11*100) | AA11: V4
A12: =IF(C12="","",ROW()-7) | Y12: =IF(W12=0,"",(X12-W12)/W12*100) | AA12: V5
A13: =IF(C13="","",ROW()-7) | Y13: =IF(W13=0,"",(X13-W13)/W13*100) | AA13: V6
A14: =IF(C14="","",ROW()-7) | Y14: =IF(W14=0,"",(X14-W14)/W14*100) | AA14: V7
A15: =IF(C15="","",ROW()-7) | Y15: =IF(W15=0,"",(X15-W15)/W15*100) | AA15: V8
A16: =IF(C16="","",ROW()-7) | Y16: =IF(W16=0,"",(X16-W16)/W16*100) | AA16: V9
A17: =IF(C17="","",ROW()-7) | Y17: =IF(W17=0,"",(X17-W17)/W17*100) | AA17: V10
A18: =IF(C18="","",ROW()-7) | Y18: =IF(W18=0,"",(X18-W18)/W18*100) | AA18: V11
A19: =IF(C19="","",ROW()-7) | Y19: =IF(W19=0,"",(X19-W19)/W19*100) | AA19: V12
... A24: =IF(C24="","",ROW()-7) | Y24: =IF(W24=0,"",(X24-W24)/W24*100) | AA24: V17
A25: 开发成本合计 | U25: =SUM(U8:U24) -> 0 | V25: =SUM(V8:V24) -> 0 | W25: =SUM(W8:W24) -> 0 | X25: =SUM(X8:X24) -> 0 | Y25: =IF(W25=0,"",(X25-W25)/W25*100)
A26: 减：跌价准备 | U26: =V25 -> 0 | Y26: =IF(W26=0,"",(X26-W26)/W26*100)
A27: 开发成本净额 | U27: =U25-U26 -> 0 | W27: =W25-W26 -> 0 | X27: =X25-X26 -> 0 | Y27: =IF(W27=0,"",(X27-W27)/W27*100)
A28: =基本信息输入表!$K$6&"填表人："&基本信息输入表!$M$37 -> 被评估单位填表人：阎丽红 | X28: ="评估人员："&基本信息输入表!$Q$37 -> 评估人员：孙艳平 | AA28: 打印边界
A29: ="填表日期："&YEAR(基本信息输入表!$O$37)&"年"&MONTH(基本信息输入表!$O$37)&"月"&DAY(基本信息输入表!$O$37)&"日" -> 填表日期：2020年4月25日

Sheet 3-9-11消耗性生物资产
A1: 返回索引目录
A2: 存货—消耗性生物资产评估明细表
A3: ="评估基准日："&TEXT(基本信息输入表!M7,"yyyy年mm月dd日") -> 评估基准日：2020年03月31日
O4: 表3-9-11
A5: =基本信息输入表!K6&"："&基本信息输入表!M6 -> 被评估单位：山西华润昌裕煤业有限公司 | O5: 金额单位：人民币元
A6: 序号 | B6: 名 称 | C6: 规格型号 | D6: 计量单位 | E6: 基准日不含增值税销售单价 | F6: 销售状态 畅销/正常/滞销 | G6: 账面价值 | J6: 计提减值准备金额 | K6: 评估价值 | N6: 增值率% | O6: 备注
G7: 数量 | H7: 单价 | I7: 金额 | K7: 实际数量 | L7: 评估单价 | M7: 金额 | P7: 唯一标识列
A8: =IF(B8="","",ROW()-7) | N8: =IF(I8-J8=0,"",(M8-I8+J8)/(I8-J8)*100) | P8: W1
A9: =IF(B9="","",ROW()-7) | N9: =IF(I9-J9=0,"",(M9-I9+J9)/(I9-J9)*100) | P9: W2
A10: =IF(B10="","",ROW()-7) | N10: =IF(I10-J10=0,"",(M10-I10+J10)/(I10-J10)*100) | P10: W3
