Workbook
Name a: #REF!
Name a: #REF!
Name a: #REF!
Name a: #REF!
Name a: #REF!
Name a: #REF!
Name a: #REF!
Name a: #REF!
Name a: #REF!
Name a: #REF!
Name a: #REF!
Name a: #REF!
Name a: #REF!
Name a: #REF!
Name a: #REF!
Name a: #REF!
Name a: #REF!
Name a: #REF!
Name a: #REF!
Name a: #REF!
Name a: #REF!
Name a: #REF!
Name a: #REF!
Name a: #REF!
Name a: #REF!
Name a: #REF!
Name a: #REF!
Name a: #REF!
Name a: #REF!
Name a: #REF!
Name a: #REF!
Name a: #REF!
Name a: #REF!
Name aa: #REF!
Name aa: #REF!
Name aa: #REF!
Name aa: #REF!
Name aa: #REF!
Name aa: #REF!
Name aa: #REF!
Name aa: #REF!
Name aa: #REF!
Name aa: #REF!
Name aa: #REF!
Name aa: #REF!
Name aa: #REF!
Name aa: #REF!
Name aa: #REF!
Name aa: #REF!
Name aa: #REF!
Name aa: #REF!
Name aa: #REF!
Name aa: #REF!
Name aa: #REF!
Name aa: #REF!
Name aa: #REF!
Name aa: #REF!
Name aa: #REF!
Name aa: #REF!
Name aa: #REF!

Sheet 封面
A2: 返回索引页
A3: =(F9&"-"&H9&"-"&J9)*1 -> 42200
D4: 资产评估明细表申报系统
D5: 填表前请先阅读填表说明
F6: 请填写以下内容：
D7: 被评估方：
D9: 评估基准日： | F9: 2015 | G9: 年 | H9: 07 | I9: 月 | J9: 15 | K9: 日
D11: 被评估方填表人：王昀
D13: 填表日期： | G13: 年 | I13: 月 | K13: 日
D14: 以下由评估机构填写
D15: 评估机构： | F15: 山西元通天成资产评估有限公司
D16: 流资类评估人员：
D17: 房屋类评估人员：
D18: 设备类评估人员：

Sheet 索引
A1: 资产评估明细表索引目录
B2: 评估申报表说明（填表前请先阅读）
B3: 评估申报表封面 | D3: 结果汇总(万元表)
B5: 分类汇总(资) | C5: 流动资产 | D5: 货币资金 | F5: 现金 | G5: 分类汇总(负) | H5: 流动负债 | I5: 短期借款
D6: 交易性金融资产 | E6: 股票投资 | F6: 银行存款 | I6: 交易性金融负债
D7: 应收票据 | E7: 债券投资 | F7: 其他货币资金 | I7: 应付票据
D8: 应收账款 | E8: 基金投资 | I8: 应付账款
D9: 预付账款 | E9: 原材料 | I9: 预收账款
D10: 应收股息 | E10: 材料采购（在途物资） | I10: 应付职工薪酬
D11: 应收股利 | E11: 在库周转材料 | I11: 应交税费
D12: 其他应收款 | E12: 委托加工材料 | I12: 应付利息
D13: 存货 | E13: 产成品（库存商品） | I13: 应付利润
D14: 一年内到期的非流动资产 | E14: 在产品（自制半成品） | I14: 其他应付款
D15: 其他流动资产 | E15: 发出商品 | I15: 一年内到期的非流动负债
E16: 在用周转材料 | I16: 其它流动负债
C18: 非流动资产 | D18: 可供出售金融资产 | F18: 股票投资
D19: 持有至到期投资 | E19: 房屋(成本) | F19: 债券投资 | H19: 非流动负债 | I19: 长期借款
D20: 长期应收款 | E20: 房屋(公允价值) | F20: 其他投资 | I20: 应付债券
D21: 长期股权投资 | E21: 土地(成本) | I21: 长期应付款
D22: 投资性房地产 | E22: 土地(公允价值) | F22: 房屋建筑物 | I22: 专项应付款
D23: 固定资产 | F23: 构筑物及其他辅助设施 | I23: 预计负债
D24: 工程物资 | F24: 管道及沟槽 | I24: 递延所得税负债
D25: 在建工程 | E25: 土建工程 | F25: 机器设备 | I25: 其他非流动负债
D26: 固定资产清理 | E26: 设备安装工程 | F26: 车辆
D27: 生产性生物资产 | F27: 电子设备
D28: 油气资产
D29: 无形资产 | E29: 土地使用权
D30: 开发支出 | E30: 矿业权
D31: 商誉 | E31: 其他无形资产
D32: 长期待摊费用
D33: 递延所得税资产
D34: 其他非流动资产

Sheet 填表说明
A1: 评估明细表申报系统使用说明
A2: 返回索引页
A3: 1、 | B3: 本工作簿用于资产评估委托方或资产占有方对评估基准日下的委估资产及负债的账面价值的申报；
B4: 请贵单位填表人员按要求对工作表中涂黄的档次或项目据实填写；
A6: 2、 | B6: 此表各科目明细的合计数，应与本次资产评估范围内的资产评估基准日的资产负债表的数据相符；
A8: 3、 | B8: 如有债权、债务性资产的未达、坏帐及实物性资产的毁损、报废等的项目应在其备注中说明；
A10: 4、 | B10: 明细表中如有日期档，除各明细表中有具体要求外，其格式应为“XXXX-XX”；
B11: 例：“2000年09月10日”应填为“2000-09”
B12: 如无法确定具体月份，请将月份填为01月；
B13: 例：“2000年”应填为“2000-01”
B14: 如为累计发生的业务，请将发生日期填为最后一笔业务的发生日期；
A16: 5、 | B16: 如明细表的行数不够时，请填表人员在“合计”的上两行进行插入行，以免汇总表的公式链接被破坏。
A18: 6、 | B18: 填表人可通过“索引目录”来选择要查看或修改的科目,通过“返回索引页”按纽可返回“选择目录”
A20: 7、 | B20: 填表人可通过点击各汇总表中的“科目名称”进入各明细表，再通过点击各工作表左上角的“返回”来返回上一级科目表。
A22: 注： | B22: 除以上要求企业填写的或按具体情况评估人员另作要求填写的档或项，企业不应对此套表的其它部分
B23: 作任何修改变动，谢谢合作！

Sheet 3-1-1现金
A1: 货币资金-现金评估明细表
A2: 返回 | B2: 返回索引页 | J2: 表3-1-1
A3: =#REF! -> #REF!
A4: =封面!D7&封面!F7 -> 被评估方： | J4: 金额单位：人民币元
A5: 序号 | B5: 存放部门（单位） | C5: 币种 | D5: 外币帐面金额 | E5: 评估基准日汇率 | F5: 帐面价值 | G5: 评估价值 | H5: 增减值 | I5: 增值率% | J5: 备注
B6: 财务室 | C6: 人民币 | F6: 8400.43 | G6: 8400.43 | H6: =G6-F6 -> 0 | I6: =IF(OR(F6<=0,F6=""),"",(G6-F6)/F6*100) -> 0
H7: =G7-F7 -> 0 | I7: =IF(OR(F7<=0,F7=""),"",(G7-F7)/F7*100)
H8: =G8-F8 -> 0 | I8: =IF(OR(F8<=0,F8=""),"",(G8-F8)/F8*100)
H9: =G9-F9 -> 0 | I9: =IF(OR(F9<=0,F9=""),"",(G9-F9)/F9*100)
H10: =G10-F10 -> 0 | I10: =IF(OR(F10<=0,F10=""),"",(G10-F10)/F10*100)
H11: =G11-F11 -> 0 | I11: =IF(OR(F11<=0,F11=""),"",(G11-F11)/F11*100)
H12: =G12-F12 -> 0 | I12: =IF(OR(F12<=0,F12=""),"",(G12-F12)/F12*100)
H13: =G13-F13 -> 0 | I13: =IF(OR(F13<=0,F13=""),"",(G13-F13)/F13*100)
H14: =G14-F14 -> 0 | I14: =IF(OR(F14<=0,F14=""),"",(G14-F14)/F14*100)
H15: =G15-F15 -> 0 | I15: =IF(OR(F15<=0,F15=""),"",(G15-F15)/F15*100)
H16: =G16-F16 -> 0 | I16: =IF(OR(F16<=0,F16=""),"",(G16-F16)/F16*100)
H17: =G17-F17 -> 0 | I17: =IF(OR(F17<=0,F17=""),"",(G17-F17)/F17*100)
H18: =G18-F18 -> 0 | I18: =IF(OR(F18<=0,F18=""),"",(G18-F18)/F18*100)
... H30: =G30-F30 -> 0 | I30: =IF(OR(F30<=0,F30=""),"",(G30-F30)/F30*100)
A31: 合 计 | F31: =SUM(F6:F30) -> 8400.43 | G31: =SUM(G6:G30) -> 8400.43 | H31: =SUM(H6:H30) -> 0 | I31: =IF(OR(F31<=0,F31=""),"",(G31-F31)/F31*100) -> 0

Sheet 3-1-2银行存款
A1: 货币资金-银行存款评估明细表
A2: 返回 | B2: 返回索引页 | K2: 表3-1-2
A3: =#REF! -> #REF!
A4: =封面!D7&封面!F7 -> 被评估方： | K4: 金额单位：人民币元
A5: 序号 | B5: 开户银行 | C5: 帐号 | D5: 币种 | E5: 外币帐面金额 | F5: 评估基准日汇率 | G5: 帐面价值 | H5: 评估价值 | I5: 增减值 | J5: 增值率% | K5: 备注
A6: 1 | B6: 中国银行 | C6: 01-144219348738 | D6: 人民币 | E6: 6144.94 | F6: 6144.94 | G6: 6144.94 | H6: 6144.94 | I6: =H6-G6 -> 0 | J6: =IF(OR(G6<=0,G6=""),"",(H6-G6)/G6*100) -> 0
A7: 2 | B7: 中国工商银行应县支行营业部 | C7: 05070485192000218902 | D7: 人民币 | E7: 3969.1 | F7: 3969.1 | G7: 3969.1 | H7: 3969.1 | I7: =H7-G7 -> 0 | J7: =IF(OR(G7<=0,G7=""),"",(H7-G7)/G7*100) -> 0
A8: 3 | B8: 中国工商银行神头支行营业部 | C8: 0507047619200047094 | D8: 人民币 | E8: 40103.4 | F8: 40103.4 | G8: 40103.4 | H8: 40103.4 | I8: =H8-G8 -> 0 | J8: =IF(OR(G8<=0,G8=""),"",(H8-G8)/G8*100) -> 0
A9: 4 | B9: 太原民生银行 | C9: 0905014170018259 | D9: 人民币 | E9: 1812.26 | F9: 1812.26 | G9: 1812.26 | H9: 1812.26 | I9: =H9-G9 -> 0 | J9: =IF(OR(G9<=0,G9=""),"",(H9-G9)/G9*100) -> 0
A10: 5 | B10: 浦发银行 | C10: 68060154800001131 | D10: 人民币 | E10: 16.9 | F10: 16.9 | G10: 16.9 | H10: 16.9 | I10: =H10-G10 -> 0 | J10: =IF(OR(G10<=0,G10=""),"",(H10-G10)/G10*100) -> 0
A11: 6 | B11: 怀仁县信用社 | C11: 24002501900000003312 | D11: 人民币 | E11: 4780 | F11: 4780 | G11: 4780 | H11: 4780 | I11: =H11-G11 -> 0 | J11: =IF(OR(G11<=0,G11=""),"",(H11-G11)/G11*100) -> 0
A12: 7 | B12: 怀仁县信用社 | C12: 204103010300000040189 | D12: 人民币 | E12: 1266289.8 | F12: 1266289.8 | G12: 1266289.8 | H12: 1266289.8 | I12: =H12-G12 -> 0 | J12: =IF(OR(G12<=0,G12=""),"",(H12-G12)/G12*100) -> 0
I13: =H13-G13 -> 0 | J13: =IF(OR(G13<=0,G13=""),"",(H13-G13)/G13*100)
I14: =H14-G14 -> 0 | J14: =IF(OR(G14<=0,G14=""),"",(H14-G14)/G14*100)
I15: =H15-G15 -> 0 | J15: =IF(OR(G15<=0,G15=""),"",(H15-G15)/G15*100)
I16: =H16-G16 -> 0 | J16: =IF(OR(G16<=0,G16=""),"",(H16-G16)/G16*100)
I17: =H17-G17 -> 0 | J17: =IF(OR(G17<=0,G17=""),"",(H17-G17)/G17*100)
I18: =H18-G18 -> 0 | J18: =IF(OR(G18<=0,G18=""),"",(H18-G18)/G18*100)
I19: =H19-G19 -> 0 | J19: =IF(OR(G19<=0,G19=""),"",(H19-G19)/G19*100)
I20: =H20-G20 -> 0 | J20: =IF(OR(G20<=0,G20=""),"",(H20-G20)/G20*100)
I21: =H21-G21 -> 0 | J21: =IF(OR(G21<=0,G21=""),"",(H21-G21)/G21*100)
I22: =H22-G22 -> 0 | J22: =IF(OR(G22<=0,G22=""),"",(H22-G22)/G22*100)
I23: =H23-G23 -> 0 | J23: =IF(OR(G23<=0,G23=""),"",(H23-G23)/G23*100)
I24: =H24-G24 -> 0 | J24: =IF(OR(G24<=0,G24=""),"",(H24-G24)/G24*100)
... I29: =H29-G29 -> 0 | J29: =IF(OR(G29<=0,G29=""),"",(H29-G29)/G29*100)
A30: 合 计 | G30: =SUM(G6:G29) -> 1323116.4 | H30: =SUM(H6:H29) -> 1323116.4 | I30: =SUM(I6:I29) -> 0 | J30: =IF(OR(G30<=0,G30=""),"",(H30-G30)/G30*100) -> 0

Sheet 3-1-3其他货币
A1: 货币资金-其他货币资金评估明细表
A2: 返回 | B2: 返回索引页 | K2: 表3-1-3
A3: =#REF! -> #REF!
A4: =封面!D7&封面!F7 -> 被评估方： | K4: 金额单位：人民币元
A5: 序号 | B5: 名称及内容 | C5: 用途 | D5: 币种 | E5: 外币帐面金额 | F5: 评估基准日汇率 | G5: 帐面价值 | H5: 评估价值 | I5: 增减值 | J5: 增值率% | K5: 备注
B6: 内部银行 | D6: 人民币 | G6: 10000 | H6: 10000 | I6: =H6-G6 -> 0 | J6: =IF(OR(G6<=0,G6=""),"",(H6-G6)/G6*100) -> 0
I7: =H7-G7 -> 0 | J7: =IF(OR(G7<=0,G7=""),"",(H7-G7)/G7*100)
I8: =H8-G8 -> 0 | J8: =IF(OR(G8<=0,G8=""),"",(H8-G8)/G8*100)
I9: =H9-G9 -> 0 | J9: =IF(OR(G9<=0,G9=""),"",(H9-G9)/G9*100)
I10: =H10-G10 -> 0 | J10: =IF(OR(G10<=0,G10=""),"",(H10-G10)/G10*100)
I11: =H11-G11 -> 0 | J11: =IF(OR(G11<=0,G11=""),"",(H11-G11)/G11*100)
I12: =H12-G12 -> 0 | J12: =IF(OR(G12<=0,G12=""),"",(H12-G12)/G12*100)
I13: =H13-G13 -> 0 | J13: =IF(OR(G13<=0,G13=""),"",(H13-G13)/G13*100)
I14: =H14-G14 -> 0 | J14: =IF(OR(G14<=0,G14=""),"",(H14-G14)/G14*100)
I15: =H15-G15 -> 0 | J15: =IF(OR(G15<=0,G15=""),"",(H15-G15)/G15*100)
I16: =H16-G16 -> 0 | J16: =IF(OR(G16<=0,G16=""),"",(H16-G16)/G16*100)
I17: =H17-G17 -> 0 | J17: =IF(OR(G17<=0,G17=""),"",(H17-G17)/G17*100)
I18: =H18-G18 -> 0 | J18: =IF(OR(G18<=0,G18=""),"",(H18-G18)/G18*100)
... I30: =H30-G30 -> 0 | J30: =IF(OR(G30<=0,G30=""),"",(H30-G30)/G30*100)
A31: 合 计 | G31: =SUM(G6:G30) -> 10000 | H31: =SUM(H6:H30) -> 10000 | I31: =SUM(I6:I30) -> 0 | J31: =IF(OR(G31<=0,G31=""),"",(H31-G31)/G31*100) -> 0

Sheet 表3-2交易性汇总
A1: 交易性金融资产评估汇总表
A2: 返回 | B2: 返回索引页 | F2: 表3-2
A3: 评估基准日：2007年03月31日
A4: =封面!D7&封面!F7 -> 被评估方： | F4: 金额单位：人民币元
A5: 编号 | B5: 科目名称 | C5: 账面价值 | D5: 评估价值 | E5: 增值额 | F5: 增值率%
A6: 3-2-1 | B6: 交易性金融资产-股票投资 | C6: ='3-2-1交易性-股票'!G30 -> 0 | D6: ='3-2-1交易性-股票'!I30 -> 0 | E6: =D6-C6 -> 0 | F6: =IF(OR(C6<=0,C6=""),"",E6/C6*100)
A7: 3-2-2 | B7: 交易性金融资产-债券投资 | C7: ='3-2-2交易性-债券'!H30 -> 0 | D7: ='3-2-2交易性-债券'!I30 -> 0 | E7: =D7-C7 -> 0 | F7: =IF(OR(C7<=0,C7=""),"",E7/C7*100)
A8: 3-2-3 | B8: 交易性金融资产-基金投资 | C8: ='3-2-3交易性-基金'!G30 -> 0 | D8: ='3-2-3交易性-基金'!I30 -> 0 | E8: =D8-C8 -> 0 | F8: =IF(OR(C8<=0,C8=""),"",E8/C8*100)
A25: 3-2 | B25: 交易性金融资产合计 | C25: =SUM(C6:C8) -> 0 | D25: =SUM(D6:D8) -> 0 | E25: =D25-C25 -> 0 | F25: =IF(OR(C25<=0,C25=""),"",E25/C25*100)
A26: =封面!D11&封面!F11 -> 被评估方填表人：王昀 | C26: 共1页第1页 | F26: ="评估人员："&封面!F16 -> 评估人员：
A27: =封面!D13&封面!F13&封面!G13&封面!H13&封面!I13&封面!J13&封面!K13 -> 填表日期：年月日

Sheet 3-2-1交易性-股票
A1: 交易性金融资产-股票投资评估明细表
A2: 返回 | B2: 返回索引页 | L2: 表3-2-1
A3: =#REF! -> #REF!
A4: =封面!D7&封面!F7 -> 被评估方： | K4: 金额单位：人民币元
A5: 序号 | B5: 被投资单位名称 | C5: 股票名称 | D5: 投资日期 | E5: 持股数量 | F5: 成 本 | G5: 账面价值 | H5: 基准日收盘价元/股 | I5: 评估价值 | J5: 增减值 | K5: 增值率% | L5: 备注
K6: =IF(OR(G6<=0,G6=""),"",(I6-G6)/G6*100)
K7: =IF(OR(G7<=0,G7=""),"",(I7-G7)/G7*100)
K8: =IF(OR(G8<=0,G8=""),"",(I8-G8)/G8*100)
K9: =IF(OR(G9<=0,G9=""),"",(I9-G9)/G9*100)
K10: =IF(OR(G10<=0,G10=""),"",(I10-G10)/G10*100)
K11: =IF(OR(G11<=0,G11=""),"",(I11-G11)/G11*100)
K12: =IF(OR(G12<=0,G12=""),"",(I12-G12)/G12*100)
K13: =IF(OR(G13<=0,G13=""),"",(I13-G13)/G13*100)
K14: =IF(OR(G14<=0,G14=""),"",(I14-G14)/G14*100)
K15: =IF(OR(G15<=0,G15=""),"",(I15-G15)/G15*100)
K16: =IF(OR(G16<=0,G16=""),"",(I16-G16)/G16*100)
K17: =IF(OR(G17<=0,G17=""),"",(I17-G17)/G17*100)
... K29: =IF(OR(G29<=0,G29=""),"",(I29-G29)/G29*100)
A30: 合 计 | G30: =SUM(G6:G29) -> 0 | I30: =SUM(I6:I29) -> 0 | J30: =SUM(J6:J29) -> 0 | K30: =IF(OR(G30<=0,G30=""),"",(I30-G30)/G30*100)

Sheet 3-2-2交易性-债券
A1: 交易性金融资产-债券投资评估明细表
A2: 返回 | B2: 返回索引页 | L2: 表3-2-2
A3: =#REF! -> #REF!
A4: =封面!D7&封面!F7 -> 被评估方： | K4: 金额单位：人民币元
A5: 序号 | B5: 被投资单位名称 | C5: 债券名称 | D5: 发行日期 | E5: 投资日期 | F5: 票面利率% | G5: 成 本 | H5: 账面价值 | I5: 评估价值 | J5: 增减值 | K5: 增值率% | L5: 备注
K6: =IF(OR(H6<=0,H6=""),"",(I6-H6)/H6*100)
K7: =IF(OR(H7<=0,H7=""),"",(I7-H7)/H7*100)
K8: =IF(OR(H8<=0,H8=""),"",(I8-H8)/H8*100)
K9: =IF(OR(H9<=0,H9=""),"",(I9-H9)/H9*100)
K10: =IF(OR(H10<=0,H10=""),"",(I10-H10)/H10*100)
K11: =IF(OR(H11<=0,H11=""),"",(I11-H11)/H11*100)
K12: =IF(OR(H12<=0,H12=""),"",(I12-H12)/H12*100)
K13: =IF(OR(H13<=0,H13=""),"",(I13-H13)/H13*100)
K14: =IF(OR(H14<=0,H14=""),"",(I14-H14)/H14*100)
K15: =IF(OR(H15<=0,H15=""),"",(I15-H15)/H15*100)
K16: =IF(OR(H16<=0,H16=""),"",(I16-H16)/H16*100)
K17: =IF(OR(H17<=0,H17=""),"",(I17-H17)/H17*100)
... K29: =IF(OR(H29<=0,H29=""),"",(I29-H29)/H29*100)
A30: 合 计 | H30: =SUM(H6:H29) -> 0 | I30: =SUM(I6:I29) -> 0 | J30: =SUM(J6:J29) -> 0 | K30: =IF(OR(H30<=0,H30=""),"",(I30-H30)/H30*100)

Sheet 3-2-3交易性-基金
A1: 交易性金融资产-基金投资评估明细表
A2: 返回 | B2: 返回索引页 | L2: 表3-2-3
A3: =#REF! -> #REF!
A4: =封面!D7&封面!F7 -> 被评估方： | K4: 金额单位：人民币元
A5: 序号 | B5: 基金发行单位 | C5: 基金名称 | D5: 基金类型 | E5: 投资日期 | F5: 成 本 | G5: 账面价值 | H5: 基准日净值/份 | I5: 评估价值 | J5: 增减值 | K5: 增值率% | L5: 备注
K6: =IF(OR(G6<=0,G6=""),"",(I6-G6)/G6*100)
K7: =IF(OR(G7<=0,G7=""),"",(I7-G7)/G7*100)
K8: =IF(OR(G8<=0,G8=""),"",(I8-G8)/G8*100)
K9: =IF(OR(G9<=0,G9=""),"",(I9-G9)/G9*100)
K10: =IF(OR(G10<=0,G10=""),"",(I10-G10)/G10*100)
K11: =IF(OR(G11<=0,G11=""),"",(I11-G11)/G11*100)
K12: =IF(OR(G12<=0,G12=""),"",(I12-G12)/G12*100)
K13: =IF(OR(G13<=0,G13=""),"",(I13-G13)/G13*100)
K14: =IF(OR(G14<=0,G14=""),"",(I14-G14)/G14*100)
K15: =IF(OR(G15<=0,G15=""),"",(I15-G15)/G15*100)
K16: =IF(OR(G16<=0,G16=""),"",(I16-G16)/G16*100)
K17: =IF(OR(G17<=0,G17=""),"",(I17-G17)/G17*100)
... K29: =IF(OR(G29<=0,G29=""),"",(I29-G29)/G29*100)
A30: 合 计 | G30: =SUM(G6:G29) -> 0 | I30: =SUM(I6:I29) -> 0 | J30: =SUM(J6:J29) -> 0 | K30: =IF(OR(G30<=0,G30=""),"",(I30-G30)/G30*100)

Sheet 3-3应收票据
A1: 应收票据明细评估明细表
A2: 返回 | B2: 返回索引页 | J2: 表3-3
A3: =#REF! -> #REF!
A4: =封面!D7&封面!F7 -> 被评估方： | J4: 金额单位：人民币元
A5: 序号 | B5: 户名（结算对象） | C5: 出票日期 | D5: 到期日期 | E5: 票面利率% | F5: 帐面价值 | G5: 评估价值 | H5: 增减值 | I5: 增值率% | J5: 备注
H6: =G6-F6 -> 0 | I6: =IF(OR(F6<=0,F6=""),"",(G6-F6)/F6*100)
H7: =G7-F7 -> 0 | I7: =IF(OR(F7<=0,F7=""),"",(G7-F7)/F7*100)
H8: =G8-F8 -> 0 | I8: =IF(OR(F8<=0,F8=""),"",(G8-F8)/F8*100)
H9: =G9-F9 -> 0 | I9: =IF(OR(F9<=0,F9=""),"",(G9-F9)/F9*100)
H10: =G10-F10 -> 0 | I10: =IF(OR(F10<=0,F10=""),"",(G10-F10)/F10*100)
H11: =G11-F11 -> 0 | I11: =IF(OR(F11<=0,F11=""),"",(G11-F11)/F11*100)
H12: =G12-F12 -> 0 | I12: =IF(OR(F12<=0,F12=""),"",(G12-F12)/F12*100)
H13: =G13-F13 -> 0 | I13: =IF(OR(F13<=0,F13=""),"",(G13-F13)/F13*100)
H14: =G14-F14 -> 0 | I14: =IF(OR(F14<=0,F14=""),"",(G14-F14)/F14*100)
H15: =G15-F15 -> 0 | I15: =IF(OR(F15<=0,F15=""),"",(G15-F15)/F15*100)
H16: =G16-F16 -> 0 | I16: =IF(OR(F16<=0,F16=""),"",(G16-F16)/F16*100)
H17: =G17-F17 -> 0 | I17: =IF(OR(F17<=0,F17=""),"",(G17-F17)/F17*100)
... H30: =G30-F30 -> 0 | I30: =IF(OR(F30<=0,F30=""),"",(G30-F30)/F30*100)
A31: 合 计 | F31: =SUM(F6:F30) -> 0 | G31: =SUM(G6:G30) -> 0 | H31: =SUM(H6:H30) -> 0 | I31: =IF(OR(F31<=0,F31=""),"",(G31-F31)/F31*100)

Sheet 3-4应收账款
A1: 应收账款评估明细表
A2: 返回 | B2: 返回索引页 | J2: 表3-4
A3: =#REF! -> #REF!
A4: =封面!D7&封面!F7 -> 被评估方： | J4: 金额单位：人民币元
A5: 序号 | B5: 欠款单位名称（结算对象） | C5: 业务内容 | D5: 发生日期 | E5: 帐龄(月) | F5: 帐面价值 | G5: 评估价值 | H5: 增减值 | I5: 增值率% | J5: 备注 | K5: 备注
A6: 1 | H6: =G6-F6 -> 0 | I6: =IF(OR(F6<=0,F6=""),"",(G6-F6)/F6*100)
A7: 2 | H7: =G7-F7 -> 0 | I7: =IF(OR(F7<=0,F7=""),"",(G7-F7)/F7*100)
A8: 3 | H8: =G8-F8 -> 0 | I8: =IF(OR(F8<=0,F8=""),"",(G8-F8)/F8*100)
A9: 4 | H9: =G9-F9 -> 0 | I9: =IF(OR(F9<=0,F9=""),"",(G9-F9)/F9*100)
A10: 5 | H10: =G10-F10 -> 0 | I10: =IF(OR(F10<=0,F10=""),"",(G10-F10)/F10*100)
A11: 6 | H11: =G11-F11 -> 0 | I11: =IF(OR(F11<=0,F11=""),"",(G11-F11)/F11*100)
A12: 7 | H12: =G12-F12 -> 0 | I12: =IF(OR(F12<=0,F12=""),"",(G12-F12)/F12*100)
A13: 8 | H13: =G13-F13 -> 0 | I13: =IF(OR(F13<=0,F13=""),"",(G13-F13)/F13*100)
A14: 9 | H14: =G14-F14 -> 0 | I14: =IF(OR(F14<=0,F14=""),"",(G14-F14)/F14*100)
A15: 10 | H15: =G15-F15 -> 0 | I15: =IF(OR(F15<=0,F15=""),"",(G15-F15)/F15*100)
A16: 11 | H16: =G16-F16 -> 0 | I16: =IF(OR(F16<=0,F16=""),"",(G16-F16)/F16*100)
A17: 12 | H17: =G17-F17 -> 0 | I17: =IF(OR(F17<=0,F17=""),"",(G17-F17)/F17*100)
... A32: 27 | H32: =G32-F32 -> 0 | I32: =IF(OR(F32<=0,F32=""),"",(G32-F32)/F32*100)
A33: 合 计 | F33: =SUM(F6:F32) -> 0 | G33: =SUM(G6:G26) -> 0 | H33: =SUM(H26:H26) -> 0 | I33: =IF(OR(F33<=0,F33=""),"",(G33-F33)/F33*100)
A34: 减：应收账款坏账准备 | H34: =G34-F34 -> 0 | I34: =IF(OR(F34<=0,F34=""),"",(G34-F34)/F34*100)
A35: 应收账款净额 | F35: =F33-F34 -> 0 | G35: =G33-G34 -> 0 | H35: =H33-H34 -> 0 | I35: =IF(OR(F35<=0,F35=""),"",(G35-F35)/F35*100)

Sheet 3-5预付账款
A1: 预付账款评估明细表
A2: 返回 | B2: 返回索引页 | J2: 表3-5
A3: =#REF! -> #REF!
A4: =封面!D7&封面!F7 -> 被评估方： | J4: 金额单位：人民币元
A5: 序号 | B5: 收款单位名称（结算对象） | C5: 业务内容 | D5: 发生日期 | E5: 帐龄(月) | F5: 帐面价值 | G5: 评估价值 | H5: 增减值 | I5: 增值率% | J5: 备注
B6: 太原高新区汇源煤炭信 | E6: 3年以上 | F6: 35000 | G6: 35000 | H6: =G6-F6 -> 0 | I6: =IF(OR(F6<=0,F6=""),"",(G6-F6)/F6*100) -> 0
B7: 大同工程公司 | E7: 3年以上 | F7: 200000 | G7: 200000 | H7: =G7-F7 -> 0 | I7: =IF(OR(F7<=0,F7=""),"",(G7-F7)/F7*100) -> 0
B8: 山西同地源地质矿产技 | E8: 1年以内 | F8: 56000 | G8: 56000 | H8: =G8-F8 -> 0 | I8: =IF(OR(F8<=0,F8=""),"",(G8-F8)/F8*100) -> 0
B9: 怀仁县民用爆破器材专 | E9: 1年以内 | F9: 229729.99 | G9: 229729.99 | H9: =G9-F9 -> 0 | I9: =IF(OR(F9<=0,F9=""),"",(G9-F9)/F9*100) -> 0
B10: 山西省财政厅 | E10: 1年以内 | F10: 1245200 | G10: 1245200 | H10: =G10-F10 -> 0 | I10: =IF(OR(F10<=0,F10=""),"",(G10-F10)/F10*100) -> 0
B11: 山西省源通煤矿工程设 | E11: 1年以内 | F11: 800000 | G11: 800000 | H11: =G11-F11 -> 0 | I11: =IF(OR(F11<=0,F11=""),"",(G11-F11)/F11*100) -> 0
B12: 太原迈世达 | E12: 3年以上 | F12: 80000 | G12: 80000 | H12: =G12-F12 -> 0 | I12: =IF(OR(F12<=0,F12=""),"",(G12-F12)/F12*100) -> 0
B13: 中国有色金属工业第十 | E13: 1年以内 | F13: 100000 | G13: 100000 | H13: =G13-F13 -> 0 | I13: =IF(OR(F13<=0,F13=""),"",(G13-F13)/F13*100) -> 0
B14: 中国有色金属工业第十四冶金建设公司 | E14: 1-2年 | F14: 100000 | G14: 100000 | H14: =G14-F14 -> 0 | I14: =IF(OR(F14<=0,F14=""),"",(G14-F14)/F14*100) -> 0
B15: 大同市龙煤煤矿机械销售有限公司 | E15: 1-2年 | F15: 3000000 | G15: 3000000 | H15: =G15-F15 -> 0 | I15: =IF(OR(F15<=0,F15=""),"",(G15-F15)/F15*100) -> 0
B16: 山西鹏跃送变电工程有限公司 | E16: 3年以上 | F16: 315500 | G16: 315500 | H16: =G16-F16 -> 0 | I16: =IF(OR(F16<=0,F16=""),"",(G16-F16)/F16*100) -> 0
B17: 怀仁县供电支公司 | E17: 1-2年 | F17: 776130.45 | G17: 776130.45 | H17: =G17-F17 -> 0 | I17: =IF(OR(F17<=0,F17=""),"",(G17-F17)/F17*100) -> 0
B18: 营口燕南石化设备有限公司 | E18: 1年以内 | F18: 6580000 | G18: 6580000 | H18: =G18-F18 -> 0 | I18: =IF(OR(F18<=0,F18=""),"",(G18-F18)/F18*100) -> 0
B19: 山西煤矿设备安全技术检测中心 | F19: 26600 | G19: 26600 | H19: =G19-F19 -> 0 | I19: =IF(OR(F19<=0,F19=""),"",(G19-F19)/F19*100) -> 0
B20: 山西地宝能源有限公司 | E20: 1年以内 | F20: 610000 | G20: 610000 | H20: =G20-F20 -> 0 | I20: =IF(OR(F20<=0,F20=""),"",(G20-F20)/F20*100) -> 0
B21: 山西中安科贸有限公司 | E21: 2-3年 | F21: 1000000 | G21: 1000000 | H21: =G21-F21 -> 0 | I21: =IF(OR(F21<=0,F21=""),"",(G21-F21)/F21*100) -> 0
B22: 山西智德安全工程技术有限公司 | E22: 2-3年 | F22: 120000 | G22: 120000 | H22: =G22-F22 -> 0 | I22: =IF(OR(F22<=0,F22=""),"",(G22-F22)/F22*100) -> 0
B23: 山西科环环境工程监理咨询有限公司 | E23: 1年以内 | F23: 300000 | G23: 300000 | H23: =G23-F23 -> 0 | I23: =IF(OR(F23<=0,F23=""),"",(G23-F23)/F23*100) -> 0
B24: 朔州市远阳科技文化有限公司 | E24: 1年以内 | F24: 164019.4 | G24: 164019.4 | H24: =G24-F24 -> 0 | I24: =IF(OR(F24<=0,F24=""),"",(G24-F24)/F24*100) -> 0
B25: 山西贤峰机械设备有限公司 | E25: 1年以内 | F25: 100000 | G25: 100000 | H25: =G25-F25 -> 0 | I25: =IF(OR(F25<=0,F25=""),"",(G25-F25)/F25*100) -> 0
E26: =IF(OR(D26="",封面!$A$3=""),"",(YEAR(封面!$A$3)-YEAR(D26))*12+(MONTH(封面!$A$3)-MONTH(D26))) | I26: =IF(OR(F26<=0,F26=""),"",(G26-F26)/F26*100)
E27: =IF(OR(D27="",封面!$A$3=""),"",(YEAR(封面!$A$3)-YEAR(D27))*12+(MONTH(封面!$A$3)-MONTH(D27))) | I27: =IF(OR(F27<=0,F27=""),"",(G27-F27)/F27*100)
E28: =IF(OR(D28="",封面!$A$3=""),"",(YEAR(封面!$A$3)-YEAR(D28))*12+(MONTH(封面!$A$3)-MONTH(D28))) | I28: =IF(OR(F28<=0,F28=""),"",(G28-F28)/F28*100)
A29: 合 计 | E29: =IF(OR(D29="",封面!$A$3=""),"",(YEAR(封面!$A$3)-YEAR(D29))*12+(MONTH(封面!$A$3)-MONTH(D29))) | F29: =SUM(F6:F28) -> 15838180 | G29: =SUM(G6:G28) -> 15838180 | H29: =SUM(H6:H28) -> 0 | I29: =IF(OR(F29<=0,F29=""),"",(G29-F29)/F29*100) -> 0
A30: 减：预付账款坏账准备 | E30: =IF(OR(D30="",封面!$A$3=""),"",(YEAR(封面!$A$3)-YEAR(D30))*12+(MONTH(封面!$A$3)-MONTH(D30))) | H30: =G30-F30 -> 0 | I30: =IF(OR(F30<=0,F30=""),"",(G30-F30)/F30*100)
A31: 预付账款净额 | F31: =F29-F30 -> 15838180 | G31: =G29-G30 -> 15838180 | H31: =H29-H30 -> 0 | I31: =IF(OR(F31<=0,F31=""),"",(G31-F31)/F31*100) -> 0

Sheet 3-6应收利息
A1: 应收利息评估明细表
A2: 返回 | B2: 返回索引页 | K2: 表3-6
A3: =#REF! -> #REF!
A4: =封面!D7&封面!F7 -> 被评估方： | K4: 金额单位：人民币元
A5: 序号 | B5: 欠款单位名称（结算对象） | C5: 发生日期 | D5: 本金 | E5: 利息所属期间 | F5: 利息率 | G5: 帐面价值 | H5: 评估价值 | I5: 增减值 | J5: 增值率% | K5: 备注
I6: =H6-G6 -> 0 | J6: =IF(OR(G6<=0,G6=""),"",(H6-G6)/G6*100)
I7: =H7-G7 -> 0 | J7: =IF(OR(G7<=0,G7=""),"",(H7-G7)/G7*100)
I8: =H8-G8 -> 0 | J8: =IF(OR(G8<=0,G8=""),"",(H8-G8)/G8*100)
I9: =H9-G9 -> 0 | J9: =IF(OR(G9<=0,G9=""),"",(H9-G9)/G9*100)
I10: =H10-G10 -> 0 | J10: =IF(OR(G10<=0,G10=""),"",(H10-G10)/G10*100)
I11: =H11-G11 -> 0 | J11: =IF(OR(G11<=0,G11=""),"",(H11-G11)/G11*100)
I12: =H12-G12 -> 0 | J12: =IF(OR(G12<=0,G12=""),"",(H12-G12)/G12*100)
I13: =H13-G13 -> 0 | J13: =IF(OR(G13<=0,G13=""),"",(H13-G13)/G13*100)
I14: =H14-G14 -> 0 | J14: =IF(OR(G14<=0,G14=""),"",(H14-G14)/G14*100)
I15: =H15-G15 -> 0 | J15: =IF(OR(G15<=0,G15=""),"",(H15-G15)/G15*100)
I16: =H16-G16 -> 0 | J16: =IF(OR(G16<=0,G16=""),"",(H16-G16)/G16*100)
I17: =H17-G17 -> 0 | J17: =IF(OR(G17<=0,G17=""),"",(H17-G17)/G17*100)
... I30: =H30-G30 -> 0 | J30: =IF(OR(G30<=0,G30=""),"",(H30-G30)/G30*100)
A31: 合 计 | G31: =SUM(G6:G30) -> 0 | H31: =SUM(H6:H30) -> 0 | I31: =SUM(I6:I30) -> 0 | J31: =IF(OR(G31<=0,G31=""),"",(H31-G31)/G31*100)

Sheet 3-7应收股利
A1: 应收股利（应收利润）评估明细表
A2: 返回 | B2: 返回索引页 | I2: 表3-7
A3: =#REF! -> #REF!
A4: =封面!D7&封面!F7 -> 被评估方： | I4: 金额单位：人民币元
A5: 序号 | B5: 户名（结算对象） | C5: 发生日期 | D5: 股利（利润）所属期间 | E5: 帐面价值 | F5: 评估价值 | G5: 增减值 | H5: 增值率% | I5: 备注
G6: =F6-E6 -> 0 | H6: =IF(OR(E6<=0,E6=""),"",(F6-E6)/E6*100)
G7: =F7-E7 -> 0 | H7: =IF(OR(E7<=0,E7=""),"",(F7-E7)/E7*100)
G8: =F8-E8 -> 0 | H8: =IF(OR(E8<=0,E8=""),"",(F8-E8)/E8*100)
G9: =F9-E9 -> 0 | H9: =IF(OR(E9<=0,E9=""),"",(F9-E9)/E9*100)
G10: =F10-E10 -> 0 | H10: =IF(OR(E10<=0,E10=""),"",(F10-E10)/E10*100)
G11: =F11-E11 -> 0 | H11: =IF(OR(E11<=0,E11=""),"",(F11-E11)/E11*100)
G12: =F12-E12 -> 0 | H12: =IF(OR(E12<=0,E12=""),"",(F12-E12)/E12*100)
G13: =F13-E13 -> 0 | H13: =IF(OR(E13<=0,E13=""),"",(F13-E13)/E13*100)
G14: =F14-E14 -> 0 | H14: =IF(OR(E14<=0,E14=""),"",(F14-E14)/E14*100)
G15: =F15-E15 -> 0 | H15: =IF(OR(E15<=0,E15=""),"",(F15-E15)/E15*100)
G16: =F16-E16 -> 0 | H16: =IF(OR(E16<=0,E16=""),"",(F16-E16)/E16*100)
G17: =F17-E17 -> 0 | H17: =IF(OR(E17<=0,E17=""),"",(F17-E17)/E17*100)
... G30: =F30-E30 -> 0 | H30: =IF(OR(E30<=0,E30=""),"",(F30-E30)/E30*100)
A31: 合 计 | E31: =SUM(E6:E30) -> 0 | F31: =SUM(F6:F30) -> 0 | G31: =SUM(G6:G30) -> 0 | H31: =IF(OR(E31<=0,E31=""),"",(F31-E31)/E31*100)

Sheet 3-8其他应收
A1: 其他应收款评估明细表
A2: 返回 | B2: 返回索引页 | J2: 表3-8
A3: =#REF! -> #REF!
A4: =封面!D7&封面!F7 -> 被评估方： | J4: 金额单位：人民币元
A5: 序号 | B5: 欠款单位（人）名称 | C5: 业务内容 | D5: 发生日期 | E5: 帐龄(月) | F5: 帐面价值 | G5: 评估价值 | H5: 增减值 | I5: 增值率% | J5: 备注
A6: 2 | B6: 周文武装卸搬运队 | C6: 款已付，发票未收回 | E6: 3年以上 | F6: 192615.53 | G6: =F6 -> 192615.53 | H6: =G6-F6 -> 0 | I6: =IF(OR(F6<=0,F6=""),"",(G6-F6)/F6*100) -> 0
A7: 3 | B7: 县煤管局 | C7: 风险抵押金 | E7: 3年以上 | F7: 797400 | G7: =F7 -> 797400 | H7: =G7-F7 -> 0 | I7: =IF(OR(F7<=0,F7=""),"",(G7-F7)/F7*100) -> 0
A8: 4 | B8: 怀仁县新建路信用社 | C8: 款已付，利息单未收回 | E8: 3年以上 | F8: 100000 | G8: =F8 -> 100000 | H8: =G8-F8 -> 0 | I8: =IF(OR(F8<=0,F8=""),"",(G8-F8)/F8*100) -> 0
A9: 5 | B9: 县公安局 | C9: 借款 | E9: 1年以上 | F9: 130000 | G9: =F9 -> 130000 | H9: =G9-F9 -> 0 | I9: =IF(OR(F9<=0,F9=""),"",(G9-F9)/F9*100) -> 0
A10: 6 | B10: 机关后勤中心 | C10: 借款 | E10: 1年以上 | F10: 30000 | G10: =F10 -> 30000 | H10: =G10-F10 -> 0 | I10: =IF(OR(F10<=0,F10=""),"",(G10-F10)/F10*100) -> 0
A11: 7 | B11: 吴家窑人民政府 | C11: 借款 | E11: 1年以上 | F11: 1800000 | G11: =F11 -> 1800000 | H11: =G11-F11 -> 0 | I11: =IF(OR(F11<=0,F11=""),"",(G11-F11)/F11*100) -> 0
A12: 8 | B12: 怀仁县吴家窑镇人民政 | C12: 借款 | E12: 1年以上 | F12: 200000 | G12: =F12 -> 200000 | H12: =G12-F12 -> 0 | I12: =IF(OR(F12<=0,F12=""),"",(G12-F12)/F12*100) -> 0
A13: 9 | B13: 铺龙湾村 | C13: 借款 | E13: 1年以上 | F13: 50000 | G13: =F13 -> 50000 | H13: =G13-F13 -> 0 | I13: =IF(OR(F13<=0,F13=""),"",(G13-F13)/F13*100) -> 0
A14: 11 | B14: 安全风险抵押 | C14: 单位安全风险抵押金，已回函 | E14: 3年以上 | F14: 600000 | G14: =F14 -> 600000 | H14: =G14-F14 -> 0 | I14: =IF(OR(F14<=0,F14=""),"",(G14-F14)/F14*100) -> 0
A15: 12 | B15: 李高鹏 | C15: 借款 | E15: 1年以上 | F15: 10000 | G15: =F15 -> 10000 | H15: =G15-F15 -> 0 | I15: =IF(OR(F15<=0,F15=""),"",(G15-F15)/F15*100) -> 0
A16: 13 | B16: 张玉堂 | C16: 借款 | E16: 1年以上 | F16: 2592 | G16: =F16 -> 2592 | H16: =G16-F16 -> 0 | I16: =IF(OR(F16<=0,F16=""),"",(G16-F16)/F16*100) -> 0
A17: 14 | B17: 刘凤山 | C17: 借款 | E17: 1年以上 | F17: 112513.44 | G17: =F17 -> 112513.44 | H17: =G17-F17 -> 0 | I17: =IF(OR(F17<=0,F17=""),"",(G17-F17)/F17*100) -> 0
... A23: 20 | B23: 连红梅 | C23: 借款 | E23: 1年以上 | F23: 1640 | G23: =F23 -> 1640 | H23: =G23-F23 -> 0 | I23: =IF(OR(F23<=0,F23=""),"",(G23-F23)/F23*100) -> 0
A24: 21 | B24: 王富强 | C24: 借款 | E24: 1年以上 | F24: 50000 | G24: =F24 -> 50000 | H24: =G24-F24 -> 0
A25: 22 | B25: 杨晓峰 | C25: 借款 | E25: 1年以上 | F25: 5000 | G25: =F25 -> 5000 | H25: =G25-F25 -> 0
A26: 23 | B26: 周义 | C26: 借款 | E26: 1年以上 | F26: 28292 | G26: =F26 -> 28292 | H26: =G26-F26 -> 0
A27: 35 | B27: 怀仁县鸿达综合经销部 | C27: 款已付发票未收回 | E27: 3年以上 | F27: 50000 | G27: =F27 -> 50000 | H27: =G27-F27 -> 0
A28: 36 | B28: 怀仁县全福液氧化气经销门市 | C28: 款已付发票未收回 | E28: 3年以上 | F28: 5185 | G28: =F28 -> 5185 | H28: =G28-F28 -> 0
A29: 37 | B29: 大同翔宇商贸有限责任公司 | C29: 款已付发票未收回 | E29: 1年以上 | F29: 50000 | G29: =F29 -> 50000 | H29: =G29-F29 -> 0
A30: 38 | B30: 怀仁县地方国营沙石煤矿 | C30: 本公司旧名称银行帐户 | E30: 1年以上 | F30: 724.33 | G30: =F30 -> 724.33 | H30: =G30-F30 -> 0
A31: 39 | B31: 怀仁县恒亿通洗煤有限责任公司 | C31: 多开发票 | E31: 1-2年 | F31: 200000 | G31: =F31 -> 200000 | H31: =G31-F31 -> 0
A32: 40 | B32: 棚户区 | C32: 建棚户区已付的设计费等 | E32: 1年以上 | F32: 270000 | G32: =F32 -> 270000 | H32: =G32-F32 -> 0
A33: 41 | H33: =G33-F33 -> 0
A34: 42 | H34: =G34-F34 -> 0
A35: 43 | H35: =G35-F35 -> 0
A36: 44 | H36: =G36-F36 -> 0
A37: 45 | H37: =G37-F37 -> 0
A38: 46 | H38: =G38-F38 -> 0
A39: 47 | H39: =G39-F39 -> 0
A40: 48 | H40: =G40-F40 -> 0
A41: 49 | H41: =G41-F41 -> 0
A42: 50 | H42: =G42-F42 -> 0
A43: 51 | H43: =G43-F43 -> 0
A44: 52 | H44: =G44-F44 -> 0 | I44: =IF(OR(F44<=0,F44=""),"",(G44-F44)/F44*100)
B45: 预计风险损失
...

Sheet 表3-9存货汇总
A1: 存货评估汇总表
A2: 返回 | B2: 返回索引页 | F2: 表3-9
A3: =#REF! -> #REF!
A4: =封面!D7&封面!F7 -> 被评估方： | F4: 金额单位：人民币元
A5: 编号 | B5: 科目名称 | C5: 帐面价值 | D5: 评估价值 | E5: 增值额 | F5: 增值率%
A6: 3-9-1 | B6: 原材料 | C6: ='3-9-1原材料'!G3336 -> 0 | D6: ='3-9-1原材料'!J3336 -> 0 | E6: =D6-C6 -> 0 | F6: =IF(OR(C6<=0,C6=""),"",E6/C6*100) | G6: =C6/$C$23 -> 0
A7: 3-9-2 | B7: 材料采购（在途物资） | C7: ='3-9-2材料采购'!F31 -> 0 | D7: ='3-9-2材料采购'!I31 -> 0 | E7: =D7-C7 -> 0 | F7: =IF(OR(C7<=0,C7=""),"",E7/C7*100) | G7: =C7/$C$23 -> 0
A8: 3-9-3 | B8: 在库周转材料 | C8: ='3-9-3在库周转'!G31 -> 0 | D8: ='3-9-3在库周转'!K31 -> 0 | E8: =D8-C8 -> 0 | F8: =IF(OR(C8<=0,C8=""),"",E8/C8*100) | G8: =C8/$C$23 -> 0
A9: 3-9-4 | B9: 委托加工材料 | C9: ='3-9-4委托加工'!G31 -> 0 | D9: ='3-9-4委托加工'!J31 -> 0 | E9: =D9-C9 -> 0 | F9: =IF(OR(C9<=0,C9=""),"",E9/C9*100) | G9: =C9/$C$23 -> 0
A10: 3-9-5 | B10: 产成品（库存商品） | C10: ='3-9-5产成品'!H31 -> 21032458 | D10: ='3-9-5产成品'!M31 -> 0 | E10: =D10-C10 -> -21032458 | F10: =IF(OR(C10<=0,C10=""),"",E10/C10*100) -> -100 | G10: =C10/$C$23 -> 1
A11: 3-9-6 | B11: 在产品（自制半成品） | C11: ='3-9-6在产品'!F31 -> 0 | D11: ='3-9-6在产品'!I31 -> 0 | E11: =D11-C11 -> 0 | F11: =IF(OR(C11<=0,C11=""),"",E11/C11*100) | G11: =C11/$C$23 -> 0
A12: 3-9-7 | B12: 发出商品 | C12: ='3-9-7发出商品'!G31 -> 0 | D12: ='3-9-7发出商品'!J31 -> 0 | E12: =D12-C12 -> 0 | F12: =IF(OR(C12<=0,C12=""),"",E12/C12*100) | G12: =C12/$C$23 -> 0
A13: 3-9-8 | B13: 在用周转材料 | C13: ='3-9-8在用周转'!G31 -> 0 | D13: ='3-9-8在用周转'!K31 -> 0 | E13: =D13-C13 -> 0 | F13: =IF(OR(C13<=0,C13=""),"",E13/C13*100) | G13: =C13/$C$23 -> 0
B23: 存货合计 | C23: =SUM(C6:C15) -> 21032458 | D23: =SUM(D6:D15) -> 0 | E23: =D23-C23 -> -21032458 | F23: =IF(OR(C23<=0,C23=""),"",E23/C23*100) -> -100
B24: 减：存货跌价准备 | E24: =D24-C24 -> 0 | F24: =IF(OR(C24<=0,C24=""),"",E24/C24*100)
A25: 3-9 | B25: 存货净额 | C25: =C23-C24 -> 21032458 | D25: =D23-D24 -> 0 | E25: =D25-C25 -> -21032458 | F25: =IF(OR(C25<=0,C25=""),"",E25/C25*100) -> -100
A26: =封面!D11&封面!F11 -> 被评估方填表人：王昀 | C26: 共1页第1页 | F26: ="评估人员："&封面!F16 -> 评估人员：
A27: =封面!D13&封面!F13&封面!G13&封面!H13&封面!I13&封面!J13&封面!K13 -> 填表日期：年月日

Sheet 3-9-1原材料
A1: 存货-原材料评估明细表
A2: 返回 | B2: 返回索引页 | M2: 表3-9-1
A3: =#REF! -> #REF!
A4: =封面!D7&封面!F7 -> 被评估方： | M4: 金额单位：人民币元
A5: 序号 | B5: 名称 | C5: 规格型号 | D5: 计量单位 | E5: 帐面价值 | H5: 评估价值 | K5: 增减值 | L5: 增值率% | M5: 备注（残次冷背） | N5: 不含税售价
E6: 数量 | F6: 单价 | G6: 金额 | H6: 实际数量 | I6: 评估单价 | J6: 金额
A7: 1 | B7: 潜水泵 | C7: 4寸/660V | D7: 台 | E7: 2 | F7: =G7/E7 -> 2650 | G7: 5300 | K7: =J7-G7 -> -5300 | L7: =IF(OR(G7<=0,G7=""),"",(J7-G7)/G7*100) -> -100
A8: 2 | B8: 潜水泵 | C8: 1.5/220 | D8: 台 | E8: 1 | F8: =G8/E8 -> 2600 | G8: 2600 | K8: =J8-G8 -> -2600 | L8: =IF(OR(G8<=0,G8=""),"",(J8-G8)/G8*100) -> -100
A9: 3 | B9: 潜水泵 | C9: 3寸/2.2KW | D9: 台 | E9: 1 | F9: =G9/E9 -> 1900 | G9: 1900 | K9: =J9-G9 -> -1900 | L9: =IF(OR(G9<=0,G9=""),"",(J9-G9)/G9*100) -> -100
A10: 4 | B10: 潜污水泵 | C10: 4寸13千瓦 | D10: 台 | E10: 0 | F10: =G10/E10 -> #DIV/0! | G10: 0 | K10: =J10-G10 -> 0 | L10: =IF(OR(G10<=0,G10=""),"",(J10-G10)/G10*100)
A11: 5 | B11: 潜污水泵 | C11: 3寸/4KW | D11: 台 | E11: 3 | F11: =G11/E11 -> 1840 | G11: 5520 | K11: =J11-G11 -> -5520 | L11: =IF(OR(G11<=0,G11=""),"",(J11-G11)/G11*100) -> -100
A12: 6 | B12: 污水泵 | C12: 4寸-18.5KW | D12: 台 | E12: 1 | F12: =G12/E12 -> 7200 | G12: 7200 | K12: =J12-G12 -> -7200 | L12: =IF(OR(G12<=0,G12=""),"",(J12-G12)/G12*100) -> -100
A13: 7 | B13: 污水泵 | C13: 4寸/13KW | D13: 台 | E13: 1 | F13: =G13/E13 -> 6750 | G13: 6750 | K13: =J13-G13 -> -6750 | L13: =IF(OR(G13<=0,G13=""),"",(J13-G13)/G13*100) -> -100
A14: 8 | B14: 离心式液下泥浆泵 | C14: 80NYL-50-20 | D14: 台 | E14: 2 | F14: =G14/E14 -> 36500 | G14: 73000 | K14: =J14-G14 -> -73000 | L14: =IF(OR(G14<=0,G14=""),"",(J14-G14)/G14*100) -> -100
A15: 9 | B15: 防爆污水泵 | C15: WQ70/40-13/660V | D15: 台 | E15: 5 | F15: =G15/E15 -> 9160 | G15: 45800 | K15: =J15-G15 -> -45800 | L15: =IF(OR(G15<=0,G15=""),"",(J15-G15)/G15*100) -> -100
A16: 10 | B16: 防爆污水泵 | C16: WQ70/25-2.2/660V | D16: 台 | E16: 19 | F16: =G16/E16 -> 3960 | G16: 75240 | K16: =J16-G16 -> -75240 | L16: =IF(OR(G16<=0,G16=""),"",(J16-G16)/G16*100) -> -100
A17: 11 | B17: 污水泵 | C17: 2.2KW | D17: 台 | E17: 1 | F17: =G17/E17 -> 2180 | G17: 2180 | K17: =J17-G17 -> -2180 | L17: =IF(OR(G17<=0,G17=""),"",(J17-G17)/G17*100) -> -100
A18: 12 | B18: 污水泵 | C18: 3寸/15KW | D18: 台 | E18: 2 | F18: =G18/E18 -> 8780 | G18: 17560 | K18: =J18-G18 -> -17560 | L18: =IF(OR(G18<=0,G18=""),"",(J18-G18)/G18*100) -> -100
... A38: 32 | B38: 循环泵叶轮 | C38: [个] | D38: 个 | E38: 3 | F38: =G38/E38 -> 75 | G38: 225 | K38: =J38-G38 -> -225 | L38: =IF(OR(G38<=0,G38=""),"",(J38-G38)/G38*100) -> -100
A39: 33 | B39: 电机泵板 | D39: 块 | E39: 1 | F39: =G39/E39 -> 4800 | G39: 4800 | K39: =J39-G39 -> -4800 | L39: =IF(OR(G39<=0,G39=""),"",(J39-G39)/G39*100) -> -100
A40: 34 | B40: 三相异步电动机 | C40: TYPE Y132M2-6 | D40: 台 | E40: 1 | F40: =G40/E40 -> 16000 | G40: 16000 | K40: =J40-G40 -> -16000 | L40: =IF(OR(G40<=0,G40=""),"",(J40-G40)/G40*100) -> -100
A41: 35 | B41: 轴流式通风机 | C41: YBT-22KW | D41: 台 | E41: 1 | F41: =G41/E41 -> 10000 | G41: 10000 | K41: =J41-G41 -> -10000 | L41: =IF(OR(G41<=0,G41=""),"",(J41-G41)/G41*100) -> -100
A42: 36 | B42: 防爆轴流风机 | C42: 5.5KW | D42: 台 | E42: 5 | F42: =G42/E42 -> 3850 | G42: 19250 | K42: =J42-G42 -> -19250 | L42: =IF(OR(G42<=0,G42=""),"",(J42-G42)/G42*100) -> -100
A43: 37 | B43: 电动滚筒端盖 | C43: 30KW | D43: 套 | E43: 1 | F43: =G43/E43 -> 4850 | G43: 4850 | K43: =J43-G43 -> -4850 | L43: =IF(OR(G43<=0,G43=""),"",(J43-G43)/G43*100) -> -100
A44: 38 | B44: 刮板机电机 | C44: YBSDS-250/125-4/8 | D44: 台 | E44: 1 | F44: =G44/E44 -> 348600 | G44: 348600 | K44: =J44-G44 -> -348600 | L44: =IF(OR(G44<=0,G44=""),"",(J44-G44)/G44*100) -> -100
A45: 39 | B45: 牵引电动机] | C45: MG300/700MG | D45: 台 | E45: 1 | F45: =G45/E45 -> 346800 | G45: 346800 | K45: =J45-G45 -> -346800 | L45: =IF(OR(G45<=0,G45=""),"",(J45-G45)/G45*100) -> -100
A46: 40 | B46: 液压锚杆机马达总成 | C46: MYT-125/400N | D46: 个 | E46: 3 | F46: =G46/E46 -> 8300 | G46: 24900 | K46: =J46-G46 -> -24900 | L46: =IF(OR(G46<=0,G46=""),"",(J46-G46)/G46*100) -> -100
A47: 41 | B47: 采煤机滚筒 | C47: 1800*800 | D47: 个 | E47: 1 | F47: =G47/E47 -> 188034.19 | G47: 188034.19 | K47: =J47-G47 -> -188034.19 | L47: =IF(OR(G47<=0,G47=""),"",(J47-G47)/G47*100) -> -100
A48: 42 | B48: 4KW煤综保 | C48: 4KW | D48: 台 | E48: 1 | F48: =G48/E48 -> 3840 | G48: 3840 | K48: =J48-G48 -> -3840 | L48: =IF(OR(G48<=0,G48=""),"",(J48-G48)/G48*100) -> -100
A49: 43 | B49: 120综合保护装置 | C49: 120 | D49: 个 | E49: 9 | F49: =G49/E49 -> 160 | G49: 1440 | K49: =J49-G49 -> -1440 | L49: =IF(OR(G49<=0,G49=""),"",(J49-G49)/G49*100) -> -100
A50: 44 | B50: 80综合保护装置 | C50: 80 | D50: 个 | E50: 6 | F50: =G50/E50 -> 150 | G50: 900 | K50: =J50-G50 -> -900 | L50: =IF(OR(G50<=0,G50=""),"",(J50-G50)/G50*100) -> -100
A51: 45 | B51: 馈电智能保护装置 | C51: WXK-T01 | D51: 件 | E51: 1 | F51: =G51/E51 -> 4300 | G51: 4300 | K51: =J51-G51 -> -4300 | L51: =IF(OR(G51<=0,G51=""),"",(J51-G51)/G51*100) -> -100
A52: 46 | B52: 馈电保护装置 | C52: PR-800 | D52: 台 | E52: 1 | F52: =G52/E52 -> 4000 | G52: 4000 | K52: =J52-G52 -> -4000 | L52: =IF(OR(G52<=0,G52=""),"",(J52-G52)/G52*100) -> -100
A53: 47 | B53: 4KW煤综保本体 | C53: 4KW | D53: 套 | E53: 15 | F53: =G53/E53 -> 800 | G53: 12000 | K53: =J53-G53 -> -12000 | L53: =IF(OR(G53<=0,G53=""),"",(J53-G53)/G53*100) -> -100
A54: 48 | B54: 照明综保插件 | C54: 4KW | D54: 个 | E54: 2 | F54: =G54/E54 -> 137.5 | G54: 275 | K54: =J54-G54 -> -275 | L54: =IF(OR(G54<=0,G54=""),"",(J54-G54)/G54*100) -> -100
A55: 49 | B55: 微电脑保护装置 | C55: ZLZB-X | D55: 台 | E55: 2 | F55: =G55/E55 -> 9870 | G55: 19740 | K55: =J55-G55 -> -19740 | L55: =IF(OR(G55<=0,G55=""),"",(J55-G55)/G55*100) -> -100
A56: 50 | B56: 煤综保插件 | D56: 个 | E56: 20 | F56: =G56/E56 -> 97 | G56: 1940 | K56: =J56-G56 -> -1940 | L56: =IF(OR(G56<=0,G56=""),"",(J56-G56)/G56*100) -> -100
A57: 51 | B57: 梯形绝缘梯子 | D57: 套 | E57: 2 | F57: =G57/E57 -> 2700 | G57: 5400 | K57: =J57-G57 -> -5400 | L57: =IF(OR(G57<=0,G57=""),"",(J57-G57)/G57*100) -> -100
A58: 52 | B58: 双行星减速装置 | D58: 套 | E58: 1 | F58: =G58/E58 -> 330600 | G58: 330600 | K58: =J58-G58 -> -330600 | L58: =IF(OR(G58<=0,G58=""),"",(J58-G58)/G58*100) -> -100
A59: 53 | B59: 掘进机截割减速机 | C59: S135 | D59: 台 | E59: 1 | F59: =G59/E59 -> 265000 | G59: 265000 | K59: =J59-G59 -> -265000 | L59: =IF(OR(G59<=0,G59=""),"",(J59-G59)/G59*100) -> -100
...

Sheet 3-9-2材料采购
A1: 存货-材料采购（在途物资）评估明细表
A2: 返回 | B2: 返回索引页 | L2: 表3-9-2
A3: =#REF! -> #REF!
A4: =封面!D7&封面!F7 -> 被评估方： | L4: 金额单位：人民币元
A5: 序号 | B5: 名称及规格型号 | C5: 计量单位 | D5: 帐面价值 | G5: 评估价值 | J5: 增减值 | K5: 增值率% | L5: 备注
D6: 数量 | E6: 单价 | F6: 金额 | G6: 实际数量 | H6: 单价 | I6: 金额
J7: =I7-F7 -> 0 | K7: =IF(OR(F7<=0,F7=""),"",(I7-F7)/F7*100)
J8: =I8-F8 -> 0 | K8: =IF(OR(F8<=0,F8=""),"",(I8-F8)/F8*100)
J9: =I9-F9 -> 0 | K9: =IF(OR(F9<=0,F9=""),"",(I9-F9)/F9*100)
J10: =I10-F10 -> 0 | K10: =IF(OR(F10<=0,F10=""),"",(I10-F10)/F10*100)
J11: =I11-F11 -> 0 | K11: =IF(OR(F11<=0,F11=""),"",(I11-F11)/F11*100)
J12: =I12-F12 -> 0 | K12: =IF(OR(F12<=0,F12=""),"",(I12-F12)/F12*100)
J13: =I13-F13 -> 0 | K13: =IF(OR(F13<=0,F13=""),"",(I13-F13)/F13*100)
J14: =I14-F14 -> 0 | K14: =IF(OR(F14<=0,F14=""),"",(I14-F14)/F14*100)
J15: =I15-F15 -> 0 | K15: =IF(OR(F15<=0,F15=""),"",(I15-F15)/F15*100)
J16: =I16-F16 -> 0 | K16: =IF(OR(F16<=0,F16=""),"",(I16-F16)/F16*100)
J17: =I17-F17 -> 0 | K17: =IF(OR(F17<=0,F17=""),"",(I17-F17)/F17*100)
J18: =I18-F18 -> 0 | K18: =IF(OR(F18<=0,F18=""),"",(I18-F18)/F18*100)
... J30: =I30-F30 -> 0 | K30: =IF(OR(F30<=0,F30=""),"",(I30-F30)/F30*100)
A31: 合 计 | F31: =SUM(F7:F30) -> 0 | I31: =SUM(I7:I30) -> 0 | J31: =SUM(J7:J30) -> 0 | K31: =IF(OR(F31<=0,F31=""),"",(I31-F31)/F31*100)

Sheet 3-9-3在库周转
A1: 存货-在库周转材料评估明细表
A2: 返回 | B2: 返回索引页 | N2: 表3-9-3
A3: =#REF! -> #REF!
A4: =封面!D7&封面!F7 -> 被评估方： | N4: 金额单位：人民币元
A5: 序号 | B5: 名称及规格型号 | C5: 计量单位 | D5: 存放地点 | E5: 帐面价值 | H5: 实际数量 | I5: 评估价值 | L5: 增减值 | M5: 增值率% | N5: 备注
E6: 数量 | F6: 单价 | G6: 金额 | I6: 单价 | J6: 成新率% | K6: 金额
L7: =K7-G7 -> 0 | M7: =IF(OR(G7<=0,G7=""),"",(K7-G7)/G7*100)
L8: =K8-G8 -> 0 | M8: =IF(OR(G8<=0,G8=""),"",(K8-G8)/G8*100)
L9: =K9-G9 -> 0 | M9: =IF(OR(G9<=0,G9=""),"",(K9-G9)/G9*100)
L10: =K10-G10 -> 0 | M10: =IF(OR(G10<=0,G10=""),"",(K10-G10)/G10*100)
L11: =K11-G11 -> 0 | M11: =IF(OR(G11<=0,G11=""),"",(K11-G11)/G11*100)
L12: =K12-G12 -> 0 | M12: =IF(OR(G12<=0,G12=""),"",(K12-G12)/G12*100)
L13: =K13-G13 -> 0 | M13: =IF(OR(G13<=0,G13=""),"",(K13-G13)/G13*100)
L14: =K14-G14 -> 0 | M14: =IF(OR(G14<=0,G14=""),"",(K14-G14)/G14*100)
L15: =K15-G15 -> 0 | M15: =IF(OR(G15<=0,G15=""),"",(K15-G15)/G15*100)
L16: =K16-G16 -> 0 | M16: =IF(OR(G16<=0,G16=""),"",(K16-G16)/G16*100)
L17: =K17-G17 -> 0 | M17: =IF(OR(G17<=0,G17=""),"",(K17-G17)/G17*100)
L18: =K18-G18 -> 0 | M18: =IF(OR(G18<=0,G18=""),"",(K18-G18)/G18*100)
... L30: =K30-G30 -> 0 | M30: =IF(OR(G30<=0,G30=""),"",(K30-G30)/G30*100)
A31: 合 计 | G31: =SUM(G7:G30) -> 0 | K31: =SUM(K7:K30) -> 0 | L31: =SUM(L7:L30) -> 0 | M31: =IF(OR(G31<=0,G31=""),"",(K31-G31)/G31*100)

Sheet 3-9-4委托加工
A1: 存货-委托加工材料评估明细表
A2: 返回 | B2: 返回索引页 | M2: 表3-9-4
A3: =#REF! -> #REF!
A4: =封面!D7&封面!F7 -> 被评估方： | M4: 金额单位：人民币元
A5: 序号 | B5: 名称及规格型号 | C5: 加工单位名称 | D5: 计量单位 | E5: 帐面价值 | H5: 评估价值 | K5: 增减值 | L5: 增值率% | M5: 备注
E6: 数量 | F6: 单价 | G6: 金额 | H6: 实际数量 | I6: 单价 | J6: 金额
K7: =J7-G7 -> 0 | L7: =IF(OR(G7<=0,G7=""),"",(J7-G7)/G7*100)
K8: =J8-G8 -> 0 | L8: =IF(OR(G8<=0,G8=""),"",(J8-G8)/G8*100)
K9: =J9-G9 -> 0 | L9: =IF(OR(G9<=0,G9=""),"",(J9-G9)/G9*100)
K10: =J10-G10 -> 0 | L10: =IF(OR(G10<=0,G10=""),"",(J10-G10)/G10*100)
K11: =J11-G11 -> 0 | L11: =IF(OR(G11<=0,G11=""),"",(J11-G11)/G11*100)
K12: =J12-G12 -> 0 | L12: =IF(OR(G12<=0,G12=""),"",(J12-G12)/G12*100)
K13: =J13-G13 -> 0 | L13: =IF(OR(G13<=0,G13=""),"",(J13-G13)/G13*100)
K14: =J14-G14 -> 0 | L14: =IF(OR(G14<=0,G14=""),"",(J14-G14)/G14*100)
K15: =J15-G15 -> 0 | L15: =IF(OR(G15<=0,G15=""),"",(J15-G15)/G15*100)
K16: =J16-G16 -> 0 | L16: =IF(OR(G16<=0,G16=""),"",(J16-G16)/G16*100)
K17: =J17-G17 -> 0 | L17: =IF(OR(G17<=0,G17=""),"",(J17-G17)/G17*100)
K18: =J18-G18 -> 0 | L18: =IF(OR(G18<=0,G18=""),"",(J18-G18)/G18*100)
... K30: =J30-G30 -> 0 | L30: =IF(OR(G30<=0,G30=""),"",(J30-G30)/G30*100)
A31: 合 计 | G31: =SUM(G7:G30) -> 0 | J31: =SUM(J7:J30) -> 0 | K31: =SUM(K7:K30) -> 0 | L31: =IF(OR(G31<=0,G31=""),"",(J31-G31)/G31*100)

Sheet 3-9-5产成品
A1: 存货-产成品评估明细表
A2: 返回 | B2: 返回索引页 | P2: 表3-9-5
A3: =#REF! -> #REF!
A4: =封面!D7&封面!F7 -> 被评估方： | O4: 金额单位：人民币元
A5: 序号 | B5: 名称 | C5: 规格型号 | D5: 计量单位 | E5: 帐面价值 | I5: 评估价值 | N5: 增减值 | O5: 增值率% | P5: 备注（残次冷背） | Q5: 不含税售价
E6: 数量 | F6: 外币单价 | G6: 单价 | H6: 金额 | I6: 实际数量 | J6: 外币单价 | K6: 单价 | L6: 汇率 | M6: 金额
A7: 1 | B7: 煤 | C7: 原煤 | D7: 吨 | E7: 168962.55 | G7: =H7/E7 -> 124.48 | H7: 21032458 | I7: =E7 -> 168962.55 | N7: =M7-H7 -> -21032458 | O7: =IF(OR(H7<=0,H7=""),"",(M7-H7)/H7*100) -> -100
N8: =M8-H8 -> 0 | O8: =IF(OR(H8<=0,H8=""),"",(M8-H8)/H8*100)
N9: =M9-H9 -> 0 | O9: =IF(OR(H9<=0,H9=""),"",(M9-H9)/H9*100)
N10: =M10-H10 -> 0 | O10: =IF(OR(H10<=0,H10=""),"",(M10-H10)/H10*100)
N11: =M11-H11 -> 0 | O11: =IF(OR(H11<=0,H11=""),"",(M11-H11)/H11*100)
N12: =M12-H12 -> 0 | O12: =IF(OR(H12<=0,H12=""),"",(M12-H12)/H12*100)
N13: =M13-H13 -> 0 | O13: =IF(OR(H13<=0,H13=""),"",(M13-H13)/H13*100)
N14: =M14-H14 -> 0 | O14: =IF(OR(H14<=0,H14=""),"",(M14-H14)/H14*100)
N15: =M15-H15 -> 0 | O15: =IF(OR(H15<=0,H15=""),"",(M15-H15)/H15*100)
N16: =M16-H16 -> 0 | O16: =IF(OR(H16<=0,H16=""),"",(M16-H16)/H16*100)
N17: =M17-H17 -> 0 | O17: =IF(OR(H17<=0,H17=""),"",(M17-H17)/H17*100)
N18: =M18-H18 -> 0 | O18: =IF(OR(H18<=0,H18=""),"",(M18-H18)/H18*100)
N19: =M19-H19 -> 0 | O19: =IF(OR(H19<=0,H19=""),"",(M19-H19)/H19*100)
... N29: =M29-H29 -> 0 | O29: =IF(OR(H29<=0,H29=""),"",(M29-H29)/H29*100)
O30: =IF(OR(H30<=0,H30=""),"",(M30-H30)/H30*100)
A31: 合 计 | G31: =SUM(G7:G30) -> 124.48 | H31: =SUM(H7:H30) -> 21032458 | M31: =SUM(M7:M30) -> 0 | N31: =SUM(N7:N30) -> -21032458 | O31: =IF(OR(H31<=0,H31=""),"",(M31-H31)/H31*100) -> -100

Sheet 3-9-6在产品
A1: 存货-在产品（自制半成品）评估明细表
A2: 返回 | B2: 返回索引页 | L2: 表3-9-6
A3: =#REF! -> #REF!
A4: =封面!D7&封面!F7 -> 被评估方： | L4: 金额单位：人民币元
A5: 序号 | B5: 名称及规格型号 | C5: 计量单位 | D5: 帐面价值 | G5: 评估价值 | J5: 增减值 | K5: 增值率% | L5: 备注
D6: 数量 | E6: 单价 | F6: 金额 | G6: 实际数量 | H6: 评估单价 | I6: 金额
J7: =I7-F7 -> 0 | K7: =IF(OR(F7<=0,F7=""),"",(I7-F7)/F7*100)
J8: =I8-F8 -> 0 | K8: =IF(OR(F8<=0,F8=""),"",(I8-F8)/F8*100)
J9: =I9-F9 -> 0 | K9: =IF(OR(F9<=0,F9=""),"",(I9-F9)/F9*100)
J10: =I10-F10 -> 0 | K10: =IF(OR(F10<=0,F10=""),"",(I10-F10)/F10*100)
J11: =I11-F11 -> 0 | K11: =IF(OR(F11<=0,F11=""),"",(I11-F11)/F11*100)
J12: =I12-F12 -> 0 | K12: =IF(OR(F12<=0,F12=""),"",(I12-F12)/F12*100)
J13: =I13-F13 -> 0 | K13: =IF(OR(F13<=0,F13=""),"",(I13-F13)/F13*100)
J14: =I14-F14 -> 0 | K14: =IF(OR(F14<=0,F14=""),"",(I14-F14)/F14*100)
J15: =I15-F15 -> 0 | K15: =IF(OR(F15<=0,F15=""),"",(I15-F15)/F15*100)
J16: =I16-F16 -> 0 | K16: =IF(OR(F16<=0,F16=""),"",(I16-F16)/F16*100)
J17: =I17-F17 -> 0 | K17: =IF(OR(F17<=0,F17=""),"",(I17-F17)/F17*100)
J18: =I18-F18 -> 0 | K18: =IF(OR(F18<=0,F18=""),"",(I18-F18)/F18*100)
... J30: =I30-F30 -> 0 | K30: =IF(OR(F30<=0,F30=""),"",(I30-F30)/F30*100)
A31: 合 计 | F31: =SUM(F7:F30) -> 0 | I31: =SUM(I7:I30) -> 0 | J31: =SUM(J7:J30) -> 0 | K31: =IF(OR(F31<=0,F31=""),"",(I31-F31)/F31*100)

Sheet 3-9-7发出商品
A1: 存货-发出商品评估明细表
A2: 返回 | B2: 返回索引页 | M2: 表3-9-7
A3: =#REF! -> #REF!
A4: =封面!D7&封面!F7 -> 被评估方： | M4: 金额单位：人民币元
A5: 序号 | B5: 商品名称 | C5: 对方单位名称 | D5: 计量单位 | E5: 帐面价值 | H5: 评估价值 | K5: 增减值 | L5: 增值率% | M5: 备注
E6: 数量 | F6: 单价 | G6: 金额 | H6: 实际数量 | I6: 评估单价 | J6: 金额
K7: =J7-G7 -> 0 | L7: =IF(OR(G7<=0,G7=""),"",(J7-G7)/G7*100)
K8: =J8-G8 -> 0 | L8: =IF(OR(G8<=0,G8=""),"",(J8-G8)/G8*100)
K9: =J9-G9 -> 0 | L9: =IF(OR(G9<=0,G9=""),"",(J9-G9)/G9*100)
K10: =J10-G10 -> 0 | L10: =IF(OR(G10<=0,G10=""),"",(J10-G10)/G10*100)
K11: =J11-G11 -> 0 | L11: =IF(OR(G11<=0,G11=""),"",(J11-G11)/G11*100)
K12: =J12-G12 -> 0 | L12: =IF(OR(G12<=0,G12=""),"",(J12-G12)/G12*100)
K13: =J13-G13 -> 0 | L13: =IF(OR(G13<=0,G13=""),"",(J13-G13)/G13*100)
K14: =J14-G14 -> 0 | L14: =IF(OR(G14<=0,G14=""),"",(J14-G14)/G14*100)
K15: =J15-G15 -> 0 | L15: =IF(OR(G15<=0,G15=""),"",(J15-G15)/G15*100)
K16: =J16-G16 -> 0 | L16: =IF(OR(G16<=0,G16=""),"",(J16-G16)/G16*100)
K17: =J17-G17 -> 0 | L17: =IF(OR(G17<=0,G17=""),"",(J17-G17)/G17*100)
K18: =J18-G18 -> 0 | L18: =IF(OR(G18<=0,G18=""),"",(J18-G18)/G18*100)
... K30: =J30-G30 -> 0 | L30: =IF(OR(G30<=0,G30=""),"",(J30-G30)/G30*100)
A31: 合 计 | G31: =SUM(G7:G30) -> 0 | J31: =SUM(J7:J30) -> 0 | K31: =SUM(K7:K30) -> 0 | L31: =IF(OR(G31<=0,G31=""),"",(J31-G31)/G31*100)

Sheet 3-9-8在用周转
A1: 存货-在用周转材料评估明细表
A2: 返回 | B2: 返回索引页 | N2: 表3-9-8
A3: =#REF! -> #REF!
A4: =封面!D7&封面!F7 -> 被评估方： | N4: 金额单位：人民币元
A5: 序号 | B5: 名称及规格型号 | C5: 启用日期 | D5: 计量单位 | E5: 原始入账价值 | F5: 账面价值（摊余价值） | H5: 实际数量 | I5: 评估价值 | L5: 增减值 | M5: 增值率% | N5: 备注
F6: 数量 | G6: 金额 | I6: 评估原价 | J6: 成新率% | K6: 金额
L7: =K7-G7 -> 0 | M7: =IF(OR(G7<=0,G7=""),"",(K7-G7)/G7*100)
L8: =K8-G8 -> 0 | M8: =IF(OR(G8<=0,G8=""),"",(K8-G8)/G8*100)
L9: =K9-G9 -> 0 | M9: =IF(OR(G9<=0,G9=""),"",(K9-G9)/G9*100)
L10: =K10-G10 -> 0 | M10: =IF(OR(G10<=0,G10=""),"",(K10-G10)/G10*100)
L11: =K11-G11 -> 0 | M11: =IF(OR(G11<=0,G11=""),"",(K11-G11)/G11*100)
L12: =K12-G12 -> 0 | M12: =IF(OR(G12<=0,G12=""),"",(K12-G12)/G12*100)
L13: =K13-G13 -> 0 | M13: =IF(OR(G13<=0,G13=""),"",(K13-G13)/G13*100)
L14: =K14-G14 -> 0 | M14: =IF(OR(G14<=0,G14=""),"",(K14-G14)/G14*100)
L15: =K15-G15 -> 0 | M15: =IF(OR(G15<=0,G15=""),"",(K15-G15)/G15*100)
L16: =K16-G16 -> 0 | M16: =IF(OR(G16<=0,G16=""),"",(K16-G16)/G16*100)
L17: =K17-G17 -> 0 | M17: =IF(OR(G17<=0,G17=""),"",(K17-G17)/G17*100)
L18: =K18-G18 -> 0 | M18: =IF(OR(G18<=0,G18=""),"",(K18-G18)/G18*100)
... L30: =K30-G30 -> 0 | M30: =IF(OR(G30<=0,G30=""),"",(K30-G30)/G30*100)
A31: 合 计 | G31: =SUM(G7:G30) -> 0 | I31: =SUM(I7:I30) -> 0 | K31: =SUM(K7:K30) -> 0 | L31: =SUM(L7:L30) -> 0 | M31: =IF(OR(G31<=0,G31=""),"",(K31-G31)/G31*100)

Sheet 3-10一年内非流资
A1: 一年内到期的非流动资产评估明细表
A2: 返回 | B2: 返回索引页 | I2: 表3-10
A3: =#REF! -> #REF!
A4: =封面!D7&封面!F7 -> 被评估方： | I4: 金额单位：人民币元
A5: 序号 | B5: 项目及内容 | C5: 发生日期 | D5: 结算内容 | E5: 帐面价值 | F5: 评估价值 | G5: 增减值 | H5: 增值率% | I5: 备注
G6: =F6-E6 -> 0 | H6: =IF(OR(E6<=0,E6=""),"",(F6-E6)/E6*100)
G7: =F7-E7 -> 0 | H7: =IF(OR(E7<=0,E7=""),"",(F7-E7)/E7*100)
G8: =F8-E8 -> 0 | H8: =IF(OR(E8<=0,E8=""),"",(F8-E8)/E8*100)
G9: =F9-E9 -> 0 | H9: =IF(OR(E9<=0,E9=""),"",(F9-E9)/E9*100)
G10: =F10-E10 -> 0 | H10: =IF(OR(E10<=0,E10=""),"",(F10-E10)/E10*100)
G11: =F11-E11 -> 0 | H11: =IF(OR(E11<=0,E11=""),"",(F11-E11)/E11*100)
G12: =F12-E12 -> 0 | H12: =IF(OR(E12<=0,E12=""),"",(F12-E12)/E12*100)
G13: =F13-E13 -> 0 | H13: =IF(OR(E13<=0,E13=""),"",(F13-E13)/E13*100)
G14: =F14-E14 -> 0 | H14: =IF(OR(E14<=0,E14=""),"",(F14-E14)/E14*100)
G15: =F15-E15 -> 0 | H15: =IF(OR(E15<=0,E15=""),"",(F15-E15)/E15*100)
G16: =F16-E16 -> 0 | H16: =IF(OR(E16<=0,E16=""),"",(F16-E16)/E16*100)
G17: =F17-E17 -> 0 | H17: =IF(OR(E17<=0,E17=""),"",(F17-E17)/E17*100)
... G30: =F30-E30 -> 0 | H30: =IF(OR(E30<=0,E30=""),"",(F30-E30)/E30*100)
A31: 合 计 | E31: =SUM(E6:E30) -> 0 | F31: =SUM(F6:F30) -> 0 | G31: =SUM(G6:G30) -> 0 | H31: =IF(OR(E31<=0,E31=""),"",(F31-E31)/E31*100)

Sheet 3-11其他流资
A1: 其他流动资产清查评估明细表
A2: 返回 | B2: 返回索引页 | J2: 表3-11
A3: =#REF! -> #REF!
A4: =封面!D7&封面!F7 -> 被评估方： | J4: 金额单位：人民币元
A5: 序号 | B5: 项目名称 | C5: 发生日期 | D5: 结算内容 | E5: 成本 | F5: 帐面价值 | G5: 评估价值 | H5: 增减值 | I5: 增值率% | J5: 备注
H6: =G6-F6 -> 0 | I6: =IF(OR(F6<=0,F6=""),"",(G6-F6)/F6*100)
H7: =G7-F7 -> 0 | I7: =IF(OR(F7<=0,F7=""),"",(G7-F7)/F7*100)
H8: =G8-F8 -> 0 | I8: =IF(OR(F8<=0,F8=""),"",(G8-F8)/F8*100)
H9: =G9-F9 -> 0 | I9: =IF(OR(F9<=0,F9=""),"",(G9-F9)/F9*100)
H10: =G10-F10 -> 0 | I10: =IF(OR(F10<=0,F10=""),"",(G10-F10)/F10*100)
H11: =G11-F11 -> 0 | I11: =IF(OR(F11<=0,F11=""),"",(G11-F11)/F11*100)
H12: =G12-F12 -> 0 | I12: =IF(OR(F12<=0,F12=""),"",(G12-F12)/F12*100)
H13: =G13-F13 -> 0 | I13: =IF(OR(F13<=0,F13=""),"",(G13-F13)/F13*100)
H14: =G14-F14 -> 0 | I14: =IF(OR(F14<=0,F14=""),"",(G14-F14)/F14*100)
H15: =G15-F15 -> 0 | I15: =IF(OR(F15<=0,F15=""),"",(G15-F15)/F15*100)
H16: =G16-F16 -> 0 | I16: =IF(OR(F16<=0,F16=""),"",(G16-F16)/F16*100)
H17: =G17-F17 -> 0 | I17: =IF(OR(F17<=0,F17=""),"",(G17-F17)/F17*100)
... H30: =G30-F30 -> 0 | I30: =IF(OR(F30<=0,F30=""),"",(G30-F30)/F30*100)
A31: 合 计 | F31: =SUM(F6:F30) -> 0 | G31: =SUM(G6:G30) -> 0 | H31: =SUM(H6:H30) -> 0 | I31: =IF(OR(F31<=0,F31=""),"",(G31-F31)/F31*100)

Sheet 表4-1可出售汇总
A1: 可供出售金融资产评估汇总表
A2: 返回 | B2: 返回索引页 | F2: 表4-1
A3: 评估基准日：2007年03月31日
A4: =封面!D7&封面!F7 -> 被评估方： | F4: 金额单位：人民币元
A5: 编号 | B5: 科目名称 | C5: 账面价值 | D5: 评估价值 | E5: 增减值 | F5: 增值率%
A6: 4-1-1 | B6: 可供出售金融资产-股票投资 | C6: ='4-1-1可出售-股票'!H30 -> 0 | D6: ='4-1-1可出售-股票'!I30 -> 0 | E6: =D6-C6 -> 0 | F6: =IF(OR(C6<=0,C6=""),"",E6/C6*100)
A7: 4-1-2 | B7: 可供出售金融资产-债券投资 | C7: ='4-1-2可出售-债券'!H30 -> 0 | D7: ='4-1-2可出售-债券'!I30 -> 0 | E7: =D7-C7 -> 0 | F7: =IF(OR(C7<=0,C7=""),"",E7/C7*100)
A8: 4-1-3 | B8: 可供出售金融资产-其他投资 | C8: ='4-1-3可出售-其他'!H30 -> 0 | D8: ='4-1-3可出售-其他'!I30 -> 0 | E8: =D8-C8 -> 0 | F8: =IF(OR(C8<=0,C8=""),"",E8/C8*100)
A25: 4-1 | B25: 可供出售金融资产合计 | C25: =SUM(C6:C8) -> 0 | D25: =SUM(D6:D8) -> 0 | E25: =D25-C25 -> 0 | F25: =IF(OR(C25<=0,C25=""),"",E25/C25*100)
A26: =封面!D11&封面!F11 -> 被评估方填表人：王昀 | C26: 共1页第1页 | F26: ="评估人员："&封面!F16 -> 评估人员：
A27: =封面!D13&封面!F13&封面!G13&封面!H13&封面!I13&封面!J13&封面!K13 -> 填表日期：年月日

Sheet 4-1-1可出售-股票
A1: 可供出售金融资产-股票投资评估明细表
A2: 返回 | B2: 返回索引页 | L2: 表4-1-1
A3: =#REF! -> #REF!
A4: =封面!D7&封面!F7 -> 被评估方： | L4: 金额单位：人民币元
A5: 序号 | B5: 被投资单位名称 | C5: 股票性质 | D5: 投资日期 | E5: 持有数量 | F5: 基准日市价 | G5: 取得成本 | H5: 帐面价值 | I5: 评估价值 | J5: 增减值 | K5: 增值率% | L5: 备注
J6: =I6-H6 -> 0 | K6: =IF(OR(H6<=0,H6=""),"",(I6-H6)/H6*100)
J7: =I7-H7 -> 0 | K7: =IF(OR(H7<=0,H7=""),"",(I7-H7)/H7*100)
J8: =I8-H8 -> 0 | K8: =IF(OR(H8<=0,H8=""),"",(I8-H8)/H8*100)
J9: =I9-H9 -> 0 | K9: =IF(OR(H9<=0,H9=""),"",(I9-H9)/H9*100)
J10: =I10-H10 -> 0 | K10: =IF(OR(H10<=0,H10=""),"",(I10-H10)/H10*100)
J11: =I11-H11 -> 0 | K11: =IF(OR(H11<=0,H11=""),"",(I11-H11)/H11*100)
J12: =I12-H12 -> 0 | K12: =IF(OR(H12<=0,H12=""),"",(I12-H12)/H12*100)
J13: =I13-H13 -> 0 | K13: =IF(OR(H13<=0,H13=""),"",(I13-H13)/H13*100)
J14: =I14-H14 -> 0 | K14: =IF(OR(H14<=0,H14=""),"",(I14-H14)/H14*100)
J15: =I15-H15 -> 0 | K15: =IF(OR(H15<=0,H15=""),"",(I15-H15)/H15*100)
J16: =I16-H16 -> 0 | K16: =IF(OR(H16<=0,H16=""),"",(I16-H16)/H16*100)
J17: =I17-H17 -> 0 | K17: =IF(OR(H17<=0,H17=""),"",(I17-H17)/H17*100)
... J27: =I27-H27 -> 0 | K27: =IF(OR(H27<=0,H27=""),"",(I27-H27)/H27*100)
A28: 合 计 | H28: =SUM(H6:H27) -> 0 | I28: =SUM(I6:I27) -> 0 | J28: =SUM(J6:J27) -> 0 | K28: =IF(OR(H28<=0,H28=""),"",(I28-H28)/H28*100)
A29: 减：减值准备 | J29: =I29-H29 -> 0 | K29: =IF(OR(H29<=0,H29=""),"",(I29-H29)/H29*100)
A30: 净 额 | H30: =H28-H29 -> 0 | I30: =I28-I29 -> 0 | J30: =J28-J29 -> 0 | K30: =IF(OR(H30<=0,H30=""),"",(I30-H30)/H30*100)

Sheet 4-1-2可出售-债券
A1: 可供出售金融资产-债券投资评估明细表
A2: 返回 | B2: 返回索引页 | L2: 表4-1-2
A3: =#REF! -> #REF!
A4: =封面!D7&封面!F7 -> 被评估方： | L4: 金额单位：人民币元
A5: 序号 | B5: 被投资单位名称 | C5: 债券种类 | D5: 发行日期 | E5: 到期日 | F5: 票面利率% | G5: 成本（面值） | H5: 帐面价值 | I5: 评估价值 | J5: 增减值 | K5: 增值率% | L5: 备注
J6: =I6-H6 -> 0 | K6: =IF(OR(H6<=0,H6=""),"",(I6-H6)/H6*100)
J7: =I7-H7 -> 0 | K7: =IF(OR(H7<=0,H7=""),"",(I7-H7)/H7*100)
J8: =I8-H8 -> 0 | K8: =IF(OR(H8<=0,H8=""),"",(I8-H8)/H8*100)
J9: =I9-H9 -> 0 | K9: =IF(OR(H9<=0,H9=""),"",(I9-H9)/H9*100)
J10: =I10-H10 -> 0 | K10: =IF(OR(H10<=0,H10=""),"",(I10-H10)/H10*100)
J11: =I11-H11 -> 0 | K11: =IF(OR(H11<=0,H11=""),"",(I11-H11)/H11*100)
J12: =I12-H12 -> 0 | K12: =IF(OR(H12<=0,H12=""),"",(I12-H12)/H12*100)
J13: =I13-H13 -> 0 | K13: =IF(OR(H13<=0,H13=""),"",(I13-H13)/H13*100)
J14: =I14-H14 -> 0 | K14: =IF(OR(H14<=0,H14=""),"",(I14-H14)/H14*100)
J15: =I15-H15 -> 0 | K15: =IF(OR(H15<=0,H15=""),"",(I15-H15)/H15*100)
J16: =I16-H16 -> 0 | K16: =IF(OR(H16<=0,H16=""),"",(I16-H16)/H16*100)
J17: =I17-H17 -> 0 | K17: =IF(OR(H17<=0,H17=""),"",(I17-H17)/H17*100)
... J27: =I27-H27 -> 0 | K27: =IF(OR(H27<=0,H27=""),"",(I27-H27)/H27*100)
A28: 合 计 | H28: =SUM(H6:H27) -> 0 | I28: =SUM(I6:I27) -> 0 | J28: =SUM(J6:J27) -> 0 | K28: =IF(OR(H28<=0,H28=""),"",(I28-H28)/H28*100)
A29: 减：减值准备 | J29: =I29-H29 -> 0 | K29: =IF(OR(H29<=0,H29=""),"",(I29-H29)/H29*100)
A30: 净 额 | H30: =H28-H29 -> 0 | I30: =I28-I29 -> 0 | J30: =J28-J29 -> 0 | K30: =IF(OR(H30<=0,H30=""),"",(I30-H30)/H30*100)

Sheet 4-1-3可出售-其他
A1: 可供出售金融资产-其他投资评估明细表
A2: 返回 | B2: 返回索引页 | L2: 表4-1-3
A3: =#REF! -> #REF!
A4: =封面!D7&封面!F7 -> 被评估方： | L4: 金额单位：人民币元
A5: 序号 | B5: 被投资单位名称 | C5: 金融资产名称 | D5: 投资日期 | E5: 持有数量 | F5: 基准日市价 | G5: 成本 | H5: 帐面价值 | I5: 评估价值 | J5: 增减值 | K5: 增值率% | L5: 备注
J6: =I6-H6 -> 0 | K6: =IF(OR(H6<=0,H6=""),"",(I6-H6)/H6*100)
J7: =I7-H7 -> 0 | K7: =IF(OR(H7<=0,H7=""),"",(I7-H7)/H7*100)
J8: =I8-H8 -> 0 | K8: =IF(OR(H8<=0,H8=""),"",(I8-H8)/H8*100)
J9: =I9-H9 -> 0 | K9: =IF(OR(H9<=0,H9=""),"",(I9-H9)/H9*100)
J10: =I10-H10 -> 0 | K10: =IF(OR(H10<=0,H10=""),"",(I10-H10)/H10*100)
J11: =I11-H11 -> 0 | K11: =IF(OR(H11<=0,H11=""),"",(I11-H11)/H11*100)
J12: =I12-H12 -> 0 | K12: =IF(OR(H12<=0,H12=""),"",(I12-H12)/H12*100)
J13: =I13-H13 -> 0 | K13: =IF(OR(H13<=0,H13=""),"",(I13-H13)/H13*100)
J14: =I14-H14 -> 0 | K14: =IF(OR(H14<=0,H14=""),"",(I14-H14)/H14*100)
J15: =I15-H15 -> 0 | K15: =IF(OR(H15<=0,H15=""),"",(I15-H15)/H15*100)
J16: =I16-H16 -> 0 | K16: =IF(OR(H16<=0,H16=""),"",(I16-H16)/H16*100)
J17: =I17-H17 -> 0 | K17: =IF(OR(H17<=0,H17=""),"",(I17-H17)/H17*100)
... J27: =I27-H27 -> 0 | K27: =IF(OR(H27<=0,H27=""),"",(I27-H27)/H27*100)
A28: 合 计 | H28: =SUM(H6:H27) -> 0 | I28: =SUM(I6:I27) -> 0 | J28: =SUM(J6:J27) -> 0 | K28: =IF(OR(H28<=0,H28=""),"",(I28-H28)/H28*100)
A29: 减：减值准备 | J29: =I29-H29 -> 0 | K29: =IF(OR(H29<=0,H29=""),"",(I29-H29)/H29*100)
A30: 净 额 | H30: =H28-H29 -> 0 | I30: =I28-I29 -> 0 | J30: =J28-J29 -> 0 | K30: =IF(OR(H30<=0,H30=""),"",(I30-H30)/H30*100)

Sheet 4-2至到期投资
A1: 持有至到期投资清查明细表
A2: 返回 | B2: 返回索引页 | L2: 表4-2
A3: =#REF! -> #REF!
A4: =封面!D7&封面!F7 -> 被评估方： | L4: 金额单位：人民币元
A5: 序号 | B5: 被投资单位名称 | C5: 投资类别 | D5: 投资日期 | E5: 到期日 | F5: 票面利率（%） | G5: 投资成本 | H5: 帐面价值 | I5: 评估价值 | J5: 增减值 | K5: 增值率% | L5: 备注
J6: =I6-H6 -> 0 | K6: =IF(OR(H6<=0,H6=""),"",(I6-H6)/H6*100)
J7: =I7-H7 -> 0 | K7: =IF(OR(H7<=0,H7=""),"",(I7-H7)/H7*100)
J8: =I8-H8 -> 0 | K8: =IF(OR(H8<=0,H8=""),"",(I8-H8)/H8*100)
J9: =I9-H9 -> 0 | K9: =IF(OR(H9<=0,H9=""),"",(I9-H9)/H9*100)
J10: =I10-H10 -> 0 | K10: =IF(OR(H10<=0,H10=""),"",(I10-H10)/H10*100)
J11: =I11-H11 -> 0 | K11: =IF(OR(H11<=0,H11=""),"",(I11-H11)/H11*100)
J12: =I12-H12 -> 0 | K12: =IF(OR(H12<=0,H12=""),"",(I12-H12)/H12*100)
J13: =I13-H13 -> 0 | K13: =IF(OR(H13<=0,H13=""),"",(I13-H13)/H13*100)
J14: =I14-H14 -> 0 | K14: =IF(OR(H14<=0,H14=""),"",(I14-H14)/H14*100)
J15: =I15-H15 -> 0 | K15: =IF(OR(H15<=0,H15=""),"",(I15-H15)/H15*100)
J16: =I16-H16 -> 0 | K16: =IF(OR(H16<=0,H16=""),"",(I16-H16)/H16*100)
J17: =I17-H17 -> 0 | K17: =IF(OR(H17<=0,H17=""),"",(I17-H17)/H17*100)
... J27: =I27-H27 -> 0 | K27: =IF(OR(H27<=0,H27=""),"",(I27-H27)/H27*100)
A28: 合 计 | H28: =SUM(H6:H27) -> 0 | I28: =SUM(I6:I27) -> 0 | J28: =SUM(J6:J27) -> 0 | K28: =IF(OR(H28<=0,H28=""),"",(I28-H28)/H28*100)
A29: 减：减值准备 | J29: =I29-H29 -> 0 | K29: =IF(OR(H29<=0,H29=""),"",(I29-H29)/H29*100)
A30: 净 额 | H30: =H28-H29 -> 0 | I30: =I28-I29 -> 0 | J30: =SUM(J6:J29) -> 0 | K30: =IF(OR(H30<=0,H30=""),"",(I30-H30)/H30*100)

Sheet 4-3长期应收
A1: 长期应收款清查评估明细表
A2: 返回 | B2: 返回索引页 | I2: 表4-3
A3: =#REF! -> #REF!
A4: =封面!D7&封面!F7 -> 被评估方： | I4: 金额单位：人民币元
A5: 序号 | B5: 欠款单位名称（结算对象) | C5: 业务内容 | D5: 发生日期 | E5: 帐面价值 | F5: 评估价值 | G5: 增减值 | H5: 增值率% | I5: 备注
G6: =F6-E6 -> 0 | H6: =IF(OR(E6<=0,E6=""),"",(F6-E6)/E6*100)
G7: =F7-E7 -> 0 | H7: =IF(OR(E7<=0,E7=""),"",(F7-E7)/E7*100)
G8: =F8-E8 -> 0 | H8: =IF(OR(E8<=0,E8=""),"",(F8-E8)/E8*100)
G9: =F9-E9 -> 0 | H9: =IF(OR(E9<=0,E9=""),"",(F9-E9)/E9*100)
G10: =F10-E10 -> 0 | H10: =IF(OR(E10<=0,E10=""),"",(F10-E10)/E10*100)
G11: =F11-E11 -> 0 | H11: =IF(OR(E11<=0,E11=""),"",(F11-E11)/E11*100)
G12: =F12-E12 -> 0 | H12: =IF(OR(E12<=0,E12=""),"",(F12-E12)/E12*100)
G13: =F13-E13 -> 0 | H13: =IF(OR(E13<=0,E13=""),"",(F13-E13)/E13*100)
G14: =F14-E14 -> 0 | H14: =IF(OR(E14<=0,E14=""),"",(F14-E14)/E14*100)
G15: =F15-E15 -> 0 | H15: =IF(OR(E15<=0,E15=""),"",(F15-E15)/E15*100)
G16: =F16-E16 -> 0 | H16: =IF(OR(E16<=0,E16=""),"",(F16-E16)/E16*100)
G17: =F17-E17 -> 0 | H17: =IF(OR(E17<=0,E17=""),"",(F17-E17)/E17*100)
... G28: =F28-E28 -> 0 | H28: =IF(OR(E28<=0,E28=""),"",(F28-E28)/E28*100)
A29: 合 计 | E29: =SUM(E6:E28) -> 0 | F29: =SUM(F6:F28) -> 0 | G29: =SUM(G6:G28) -> 0 | H29: =IF(OR(E29<=0,E29=""),"",(F29-E29)/E29*100)
A30: 减：坏账准备 | G30: =F30-E30 -> 0 | H30: =IF(OR(E30<=0,E30=""),"",(F30-E30)/E30*100)
A31: 净 额 | E31: =E29-E30 -> 0 | F31: =F29-F30 -> 0 | G31: =SUM(G6:G30) -> 0 | H31: =IF(OR(E31<=0,E31=""),"",(F31-E31)/E31*100)

Sheet 4-4长期投资
A1: 长期股权投资清查评估明细
A2: 返回 | B2: 返回索引页 | K2: 表4-4
A3: =#REF! -> #REF!
A4: =封面!D7&封面!F7 -> 被评估方： | K4: 金额单位：人民币元
A5: 序号 | B5: 被投资单位名称 | C5: 投资日期 | D5: 协议投资期限 | E5: 投资比例 | F5: 投资成本 | G5: 帐面价值 | H5: 评估价值 | I5: 增减值 | J5: 增值率% | K5: 备注
I6: =H6-G6 -> 0 | J6: =IF(OR(G6<=0,G6=""),"",(H6-G6)/G6*100)
I7: =H7-G7 -> 0 | J7: =IF(OR(G7<=0,G7=""),"",(H7-G7)/G7*100)
I8: =H8-G8 -> 0 | J8: =IF(OR(G8<=0,G8=""),"",(H8-G8)/G8*100)
I9: =H9-G9 -> 0 | J9: =IF(OR(G9<=0,G9=""),"",(H9-G9)/G9*100)
I10: =H10-G10 -> 0 | J10: =IF(OR(G10<=0,G10=""),"",(H10-G10)/G10*100)
I11: =H11-G11 -> 0 | J11: =IF(OR(G11<=0,G11=""),"",(H11-G11)/G11*100)
I12: =H12-G12 -> 0 | J12: =IF(OR(G12<=0,G12=""),"",(H12-G12)/G12*100)
I13: =H13-G13 -> 0 | J13: =IF(OR(G13<=0,G13=""),"",(H13-G13)/G13*100)
I14: =H14-G14 -> 0 | J14: =IF(OR(G14<=0,G14=""),"",(H14-G14)/G14*100)
I15: =H15-G15 -> 0 | J15: =IF(OR(G15<=0,G15=""),"",(H15-G15)/G15*100)
I16: =H16-G16 -> 0 | J16: =IF(OR(G16<=0,G16=""),"",(H16-G16)/G16*100)
I17: =H17-G17 -> 0 | J17: =IF(OR(G17<=0,G17=""),"",(H17-G17)/G17*100)
... I28: =H28-G28 -> 0 | J28: =IF(OR(G28<=0,G28=""),"",(H28-G28)/G28*100)
A29: 合 计 | G29: =SUM(G6:G28) -> 0 | H29: =SUM(H6:H28) -> 0 | I29: =SUM(I6:I28) -> 0 | J29: =IF(OR(G29<=0,G29=""),"",(H29-G29)/G29*100)
A30: 减：减值准备 | I30: =H30-G30 -> 0 | J30: =IF(OR(G30<=0,G30=""),"",(H30-G30)/G30*100)
A31: 净 额 | G31: =G29-G30 -> 0 | H31: =H29-H30 -> 0 | I31: =SUM(I6:I30) -> 0 | J31: =IF(OR(G31<=0,G31=""),"",(H31-G31)/G31*100)

Sheet 4-5-1投资性房产
A1: 投资性房地产-房屋评估明细表（采用成本模式计量）
A2: 返回 | B2: 返回索引页 | P2: 表4-5-1
A3: =#REF! -> #REF!
A4: =封面!D7&封面!F7 -> 被评估方： | P4: 金额单位：人民币元
A5: 序号 | B5: 权证编号 | C5: 房屋名称 | D5: 来源 | E5: 结构 | F5: 建成 年月 | G5: 计量单位 | H5: 建筑面积 | I5: 成本单价 | J5: 帐面价值 | L5: 评估价值 | O5: 增值率% | P5: 备注 | Q5: 寿命年限
J6: 原值 | K6: 净值 | L6: 原值 | M6: 成新率% | N6: 净值
M7: =IF(OR(F7="",L7="",L7=0,Q7=""),"",IF((Q7*12-(YEAR(封面!$A$3)-YEAR(F7))*12-(MONTH(封面!$A$3)-MONTH(F7)))/(Q7*12)<=0.15,15,ROUND((Q7*12-(YEAR(封面!$A$3)-YEAR(F7))*12-(MONTH(封面!$A$3)-MONTH(F7)))/(Q7*12)*100,0))) | N7: =IF(L7="","",IF(M7="",L7,L7*M7/100)) | O7: =IF(OR(K7<=0,K7=""),"",(IF(N7="",0,N7)-K7)/K7*100)
M8: =IF(OR(F8="",L8="",L8=0,Q8=""),"",IF((Q8*12-(YEAR(封面!$A$3)-YEAR(F8))*12-(MONTH(封面!$A$3)-MONTH(F8)))/(Q8*12)<=0.15,15,ROUND((Q8*12-(YEAR(封面!$A$3)-YEAR(F8))*12-(MONTH(封面!$A$3)-MONTH(F8)))/(Q8*12)*100,0))) | N8: =IF(L8="","",IF(M8="",L8,L8*M8/100)) | O8: =IF(OR(K8<=0,K8=""),"",(IF(N8="",0,N8)-K8)/K8*100)
M9: =IF(OR(F9="",L9="",L9=0,Q9=""),"",IF((Q9*12-(YEAR(封面!$A$3)-YEAR(F9))*12-(MONTH(封面!$A$3)-MONTH(F9)))/(Q9*12)<=0.15,15,ROUND((Q9*12-(YEAR(封面!$A$3)-YEAR(F9))*12-(MONTH(封面!$A$3)-MONTH(F9)))/(Q9*12)*100,0))) | N9: =IF(L9="","",IF(M9="",L9,L9*M9/100)) | O9: =IF(OR(K9<=0,K9=""),"",(IF(N9="",0,N9)-K9)/K9*100)
M10: =IF(OR(F10="",L10="",L10=0,Q10=""),"",IF((Q10*12-(YEAR(封面!$A$3)-YEAR(F10))*12-(MONTH(封面!$A$3)-MONTH(F10)))/(Q10*12)<=0.15,15,ROUND((Q10*12-(YEAR(封面!$A$3)-YEAR(F10))*12-(MONTH(封面!$A$3)-MONTH(F10)))/(Q10*12)*100,0))) | N10: =IF(L10="","",IF(M10="",L10,L10*M10/100)) | O10: =IF(OR(K10<=0,K10=""),"",(IF(N10="",0,N10)-K10)/K10*100)
M11: =IF(OR(F11="",L11="",L11=0,Q11=""),"",IF((Q11*12-(YEAR(封面!$A$3)-YEAR(F11))*12-(MONTH(封面!$A$3)-MONTH(F11)))/(Q11*12)<=0.15,15,ROUND((Q11*12-(YEAR(封面!$A$3)-YEAR(F11))*12-(MONTH(封面!$A$3)-MONTH(F11)))/(Q11*12)*100,0))) | N11: =IF(L11="","",IF(M11="",L11,L11*M11/100)) | O11: =IF(OR(K11<=0,K11=""),"",(IF(N11="",0,N11)-K11)/K11*100)
M12: =IF(OR(F12="",L12="",L12=0,Q12=""),"",IF((Q12*12-(YEAR(封面!$A$3)-YEAR(F12))*12-(MONTH(封面!$A$3)-MONTH(F12)))/(Q12*12)<=0.15,15,ROUND((Q12*12-(YEAR(封面!$A$3)-YEAR(F12))*12-(MONTH(封面!$A$3)-MONTH(F12)))/(Q12*12)*100,0))) | N12: =IF(L12="","",IF(M12="",L12,L12*M12/100)) | O12: =IF(OR(K12<=0,K12=""),"",(IF(N12="",0,N12)-K12)/K12*100)
M13: =IF(OR(F13="",L13="",L13=0,Q13=""),"",IF((Q13*12-(YEAR(封面!$A$3)-YEAR(F13))*12-(MONTH(封面!$A$3)-MONTH(F13)))/(Q13*12)<=0.15,15,ROUND((Q13*12-(YEAR(封面!$A$3)-YEAR(F13))*12-(MONTH(封面!$A$3)-MONTH(F13)))/(Q13*12)*100,0))) | N13: =IF(L13="","",IF(M13="",L13,L13*M13/100)) | O13: =IF(OR(K13<=0,K13=""),"",(IF(N13="",0,N13)-K13)/K13*100)
M14: =IF(OR(F14="",L14="",L14=0,Q14=""),"",IF((Q14*12-(YEAR(封面!$A$3)-YEAR(F14))*12-(MONTH(封面!$A$3)-MONTH(F14)))/(Q14*12)<=0.15,15,ROUND((Q14*12-(YEAR(封面!$A$3)-YEAR(F14))*12-(MONTH(封面!$A$3)-MONTH(F14)))/(Q14*12)*100,0))) | N14: =IF(L14="","",IF(M14="",L14,L14*M14/100)) | O14: =IF(OR(K14<=0,K14=""),"",(IF(N14="",0,N14)-K14)/K14*100)
M15: =IF(OR(F15="",L15="",L15=0,Q15=""),"",IF((Q15*12-(YEAR(封面!$A$3)-YEAR(F15))*12-(MONTH(封面!$A$3)-MONTH(F15)))/(Q15*12)<=0.15,15,ROUND((Q15*12-(YEAR(封面!$A$3)-YEAR(F15))*12-(MONTH(封面!$A$3)-MONTH(F15)))/(Q15*12)*100,0))) | N15: =IF(L15="","",IF(M15="",L15,L15*M15/100)) | O15: =IF(OR(K15<=0,K15=""),"",(IF(N15="",0,N15)-K15)/K15*100)
M16: =IF(OR(F16="",L16="",L16=0,Q16=""),"",IF((Q16*12-(YEAR(封面!$A$3)-YEAR(F16))*12-(MONTH(封面!$A$3)-MONTH(F16)))/(Q16*12)<=0.15,15,ROUND((Q16*12-(YEAR(封面!$A$3)-YEAR(F16))*12-(MONTH(封面!$A$3)-MONTH(F16)))/(Q16*12)*100,0))) | N16: =IF(L16="","",IF(M16="",L16,L16*M16/100)) | O16: =IF(OR(K16<=0,K16=""),"",(IF(N16="",0,N16)-K16)/K16*100)
M17: =IF(OR(F17="",L17="",L17=0,Q17=""),"",IF((Q17*12-(YEAR(封面!$A$3)-YEAR(F17))*12-(MONTH(封面!$A$3)-MONTH(F17)))/(Q17*12)<=0.15,15,ROUND((Q17*12-(YEAR(封面!$A$3)-YEAR(F17))*12-(MONTH(封面!$A$3)-MONTH(F17)))/(Q17*12)*100,0))) | N17: =IF(L17="","",IF(M17="",L17,L17*M17/100)) | O17: =IF(OR(K17<=0,K17=""),"",(IF(N17="",0,N17)-K17)/K17*100)
M18: =IF(OR(F18="",L18="",L18=0,Q18=""),"",IF((Q18*12-(YEAR(封面!$A$3)-YEAR(F18))*12-(MONTH(封面!$A$3)-MONTH(F18)))/(Q18*12)<=0.15,15,ROUND((Q18*12-(YEAR(封面!$A$3)-YEAR(F18))*12-(MONTH(封面!$A$3)-MONTH(F18)))/(Q18*12)*100,0))) | N18: =IF(L18="","",IF(M18="",L18,L18*M18/100)) | O18: =IF(OR(K18<=0,K18=""),"",(IF(N18="",0,N18)-K18)/K18*100)
... M38: =IF(OR(F38="",L38="",L38=0,Q38=""),"",IF((Q38*12-(YEAR(封面!$A$3)-YEAR(F38))*12-(MONTH(封面!$A$3)-MONTH(F38)))/(Q38*12)<=0.15,15,ROUND((Q38*12-(YEAR(封面!$A$3)-YEAR(F38))*12-(MONTH(封面!$A$3)-MONTH(F38)))/(Q38*12)*100,0))) | N38: =IF(L38="","",IF(M38="",L38,L38*M38/100)) | O38: =IF(OR(K38<=0,K38=""),"",(IF(N38="",0,N38)-K38)/K38*100)
A39: 合 计 | J39: =SUM(J7:J38) -> 0 | K39: =SUM(K7:K38) -> 0 | L39: =SUM(L7:L38) -> 0 | N39: =SUM(N7:N38) -> 0 | O39: =IF(OR(K39<=0,K39=""),"",(IF(N39="",0,N39)-K39)/K39*100)
